BEGIN:VCALENDAR
VERSION:2.0
PRODID:-//Kerr PTO - ECPv6.15.20//NONSGML v1.0//EN
CALSCALE:GREGORIAN
METHOD:PUBLISH
X-WR-CALNAME:Kerr PTO
X-ORIGINAL-URL:https://www.kerrpto.org
X-WR-CALDESC:Events for Kerr PTO
REFRESH-INTERVAL;VALUE=DURATION:PT1H
X-Robots-Tag:noindex
X-PUBLISHED-TTL:PT1H
BEGIN:VTIMEZONE
TZID:UTC
BEGIN:STANDARD
TZOFFSETFROM:+0000
TZOFFSETTO:+0000
TZNAME:UTC
DTSTART:20230101T000000
END:STANDARD
END:VTIMEZONE
BEGIN:VEVENT
DTSTART;VALUE=DATE:20240301
DTEND;VALUE=DATE:20240302
DTSTAMP:20260425T110321
CREATED:20230922T184327Z
LAST-MODIFIED:20230922T184327Z
UID:3565-1709251200-1709337599@www.kerrpto.org
SUMMARY:Read A Thon Begins
DESCRIPTION:
URL:https://www.kerrpto.org/event/read-a-thon-begins/
ATTACH;FMTTYPE=image/jpeg:https://www.kerrpto.org/wp-content/uploads/2018/06/read-a-thon.jpg
END:VEVENT
END:VCALENDAR