BEGIN:VCALENDAR
VERSION:2.0
PRODID:-//Kerr PTO - ECPv6.15.20//NONSGML v1.0//EN
CALSCALE:GREGORIAN
METHOD:PUBLISH
X-ORIGINAL-URL:https://www.kerrpto.org
X-WR-CALDESC:Events for Kerr PTO
REFRESH-INTERVAL;VALUE=DURATION:PT1H
X-Robots-Tag:noindex
X-PUBLISHED-TTL:PT1H
BEGIN:VTIMEZONE
TZID:UTC
BEGIN:STANDARD
TZOFFSETFROM:+0000
TZOFFSETTO:+0000
TZNAME:UTC
DTSTART:20230101T000000
END:STANDARD
END:VTIMEZONE
BEGIN:VEVENT
DTSTART;VALUE=DATE:20240310
DTEND;VALUE=DATE:20240311
DTSTAMP:20260425T110305
CREATED:20230922T184404Z
LAST-MODIFIED:20230922T184404Z
UID:3567-1710028800-1710115199@www.kerrpto.org
SUMMARY:Read A Thon Ends
DESCRIPTION:
URL:https://www.kerrpto.org/event/read-a-thon-ends/
ATTACH;FMTTYPE=image/jpeg:https://www.kerrpto.org/wp-content/uploads/2018/06/read-a-thon.jpg
END:VEVENT
END:VCALENDAR