BEGIN:VCALENDAR
VERSION:2.0
PRODID:-//Kerr PTO - ECPv6.15.20//NONSGML v1.0//EN
CALSCALE:GREGORIAN
METHOD:PUBLISH
X-WR-CALNAME:Kerr PTO
X-ORIGINAL-URL:https://www.kerrpto.org
X-WR-CALDESC:Events for Kerr PTO
REFRESH-INTERVAL;VALUE=DURATION:PT1H
X-Robots-Tag:noindex
X-PUBLISHED-TTL:PT1H
BEGIN:VTIMEZONE
TZID:UTC
BEGIN:STANDARD
TZOFFSETFROM:+0000
TZOFFSETTO:+0000
TZNAME:UTC
DTSTART:20230101T000000
END:STANDARD
END:VTIMEZONE
BEGIN:VEVENT
DTSTART;TZID=UTC:20240917T080000
DTEND;TZID=UTC:20240917T200000
DTSTAMP:20260424T231240
CREATED:20240822T170247Z
LAST-MODIFIED:20240903T164134Z
UID:3843-1726560000-1726603200@www.kerrpto.org
SUMMARY:Panera Bread Dine and Donate
DESCRIPTION:
URL:https://www.kerrpto.org/event/panera-bread-dine-and-donate/
LOCATION:Panera\, 942 Freeport Road\, Pittsburgh\, PA\, 15238\, United States
CATEGORIES:dine & donate,fundraiser
ATTACH;FMTTYPE=image/png:https://www.kerrpto.org/wp-content/uploads/2024/08/Standard-Flyer_BW-1.png
END:VEVENT
END:VCALENDAR