BEGIN:VCALENDAR
VERSION:2.0
PRODID:-//Kerr PTO - ECPv6.15.20//NONSGML v1.0//EN
CALSCALE:GREGORIAN
METHOD:PUBLISH
X-ORIGINAL-URL:https://www.kerrpto.org
X-WR-CALDESC:Events for Kerr PTO
REFRESH-INTERVAL;VALUE=DURATION:PT1H
X-Robots-Tag:noindex
X-PUBLISHED-TTL:PT1H
BEGIN:VTIMEZONE
TZID:UTC
BEGIN:STANDARD
TZOFFSETFROM:+0000
TZOFFSETTO:+0000
TZNAME:UTC
DTSTART:20230101T000000
END:STANDARD
END:VTIMEZONE
BEGIN:VEVENT
DTSTART;TZID=UTC:20240927T080000
DTEND;TZID=UTC:20240927T170000
DTSTAMP:20260425T034506
CREATED:20240826T143915Z
LAST-MODIFIED:20240827T195618Z
UID:3855-1727424000-1727456400@www.kerrpto.org
SUMMARY:Fall Flower Pickup
DESCRIPTION:
URL:https://www.kerrpto.org/event/fall-orders-due/
LOCATION:Pleasant Valley Volunteer Fire Company Station\, 152 Kittanning Pike\, Pittsburgh\, PA\, 15215
CATEGORIES:fundraiser
ATTACH;FMTTYPE=image/jpeg:https://www.kerrpto.org/wp-content/uploads/2021/08/flower.jpg
END:VEVENT
END:VCALENDAR