BEGIN:VCALENDAR
VERSION:2.0
PRODID:-//Kerr PTO - ECPv6.15.20//NONSGML v1.0//EN
CALSCALE:GREGORIAN
METHOD:PUBLISH
X-ORIGINAL-URL:https://www.kerrpto.org
X-WR-CALDESC:Events for Kerr PTO
REFRESH-INTERVAL;VALUE=DURATION:PT1H
X-Robots-Tag:noindex
X-PUBLISHED-TTL:PT1H
BEGIN:VTIMEZONE
TZID:UTC
BEGIN:STANDARD
TZOFFSETFROM:+0000
TZOFFSETTO:+0000
TZNAME:UTC
DTSTART:20230101T000000
END:STANDARD
END:VTIMEZONE
BEGIN:VEVENT
DTSTART;VALUE=DATE:20241211
DTEND;VALUE=DATE:20241212
DTSTAMP:20260424T175105
CREATED:20241125T164524Z
LAST-MODIFIED:20241125T164524Z
UID:3917-1733875200-1733961599@www.kerrpto.org
SUMMARY:5 Guys Dine and Donate
DESCRIPTION:
URL:https://www.kerrpto.org/event/5-guys-dine-and-donate/
LOCATION:Five Guys in Waterworks\, 1029 Freeport Road\, Pittsburgh\, PA\, 15215
CATEGORIES:dine & donate,fundraiser
ATTACH;FMTTYPE=image/png:https://www.kerrpto.org/wp-content/uploads/2024/09/images.png
END:VEVENT
END:VCALENDAR