BEGIN:VCALENDAR
VERSION:2.0
PRODID:-//Kerr PTO - ECPv6.15.20//NONSGML v1.0//EN
CALSCALE:GREGORIAN
METHOD:PUBLISH
X-WR-CALNAME:Kerr PTO
X-ORIGINAL-URL:https://www.kerrpto.org
X-WR-CALDESC:Events for Kerr PTO
REFRESH-INTERVAL;VALUE=DURATION:PT1H
X-Robots-Tag:noindex
X-PUBLISHED-TTL:PT1H
BEGIN:VTIMEZONE
TZID:UTC
BEGIN:STANDARD
TZOFFSETFROM:+0000
TZOFFSETTO:+0000
TZNAME:UTC
DTSTART:20240101T000000
END:STANDARD
END:VTIMEZONE
BEGIN:VEVENT
DTSTART;VALUE=DATE:20250122
DTEND;VALUE=DATE:20250125
DTSTAMP:20260424T163511
CREATED:20240721T010840Z
LAST-MODIFIED:20240721T010840Z
UID:3780-1737504000-1737763199@www.kerrpto.org
SUMMARY:Used Book Sale Collection
DESCRIPTION:
URL:https://www.kerrpto.org/event/used-book-sale-collection-2/
LOCATION:Kerr Elementary
CATEGORIES:fundraiser
ATTACH;FMTTYPE=image/png:https://www.kerrpto.org/wp-content/uploads/2018/04/used-book-sale3.png
END:VEVENT
END:VCALENDAR