BEGIN:VCALENDAR
VERSION:2.0
PRODID:-//Kerr PTO - ECPv6.15.20//NONSGML v1.0//EN
CALSCALE:GREGORIAN
METHOD:PUBLISH
X-ORIGINAL-URL:https://www.kerrpto.org
X-WR-CALDESC:Events for Kerr PTO
REFRESH-INTERVAL;VALUE=DURATION:PT1H
X-Robots-Tag:noindex
X-PUBLISHED-TTL:PT1H
BEGIN:VTIMEZONE
TZID:UTC
BEGIN:STANDARD
TZOFFSETFROM:+0000
TZOFFSETTO:+0000
TZNAME:UTC
DTSTART:20230101T000000
END:STANDARD
END:VTIMEZONE
BEGIN:VEVENT
DTSTART;VALUE=DATE:20241003
DTEND;VALUE=DATE:20241004
DTSTAMP:20260424T213924
CREATED:20240614T113101Z
LAST-MODIFIED:20240614T113101Z
UID:3728-1727913600-1727999999@www.kerrpto.org
SUMMARY:Fall Break - No School
DESCRIPTION:
URL:https://www.kerrpto.org/event/fall-break-no-school-2/
CATEGORIES:district info
ATTACH;FMTTYPE=image/jpeg:https://www.kerrpto.org/wp-content/uploads/2021/07/Fall-Break.jpg
END:VEVENT
BEGIN:VEVENT
DTSTART;VALUE=DATE:20241009
DTEND;VALUE=DATE:20241010
DTSTAMP:20260424T213924
CREATED:20240614T113317Z
LAST-MODIFIED:20240614T113317Z
UID:3732-1728432000-1728518399@www.kerrpto.org
SUMMARY:Early Dismissal
DESCRIPTION:
URL:https://www.kerrpto.org/event/early-dismissal-26/
CATEGORIES:district info
ATTACH;FMTTYPE=image/jpeg:https://www.kerrpto.org/wp-content/uploads/2021/07/early-dismissal.jpg
END:VEVENT
BEGIN:VEVENT
DTSTART;VALUE=DATE:20241025
DTEND;VALUE=DATE:20241026
DTSTAMP:20260424T213924
CREATED:20240614T113408Z
LAST-MODIFIED:20240614T113408Z
UID:3734-1729814400-1729900799@www.kerrpto.org
SUMMARY:Early Dismissal
DESCRIPTION:
URL:https://www.kerrpto.org/event/early-dismissal-27/
CATEGORIES:district info
ATTACH;FMTTYPE=image/jpeg:https://www.kerrpto.org/wp-content/uploads/2021/07/early-dismissal.jpg
END:VEVENT
END:VCALENDAR