BEGIN:VCALENDAR
VERSION:2.0
PRODID:-//Kerr PTO - ECPv6.15.20//NONSGML v1.0//EN
CALSCALE:GREGORIAN
METHOD:PUBLISH
X-WR-CALNAME:Kerr PTO
X-ORIGINAL-URL:https://www.kerrpto.org
X-WR-CALDESC:Events for Kerr PTO
REFRESH-INTERVAL;VALUE=DURATION:PT1H
X-Robots-Tag:noindex
X-PUBLISHED-TTL:PT1H
BEGIN:VTIMEZONE
TZID:UTC
BEGIN:STANDARD
TZOFFSETFROM:+0000
TZOFFSETTO:+0000
TZNAME:UTC
DTSTART:20230101T000000
END:STANDARD
END:VTIMEZONE
BEGIN:VEVENT
DTSTART;TZID=UTC:20250606T080000
DTEND;TZID=UTC:20250606T170000
DTSTAMP:20260423T205955
CREATED:20240614T115305Z
LAST-MODIFIED:20240614T115305Z
UID:3762-1749196800-1749229200@www.kerrpto.org
SUMMARY:Last Day of School - Early Dismissal
DESCRIPTION:
URL:https://www.kerrpto.org/event/last-day-of-school-early-dismissal-2/
CATEGORIES:district info
ATTACH;FMTTYPE=image/jpeg:https://www.kerrpto.org/wp-content/uploads/2021/07/last-day-school.jpg
END:VEVENT
BEGIN:VEVENT
DTSTART;VALUE=DATE:20250528
DTEND;VALUE=DATE:20250529
DTSTAMP:20260423T205955
CREATED:20240614T115205Z
LAST-MODIFIED:20240614T115205Z
UID:3760-1748390400-1748476799@www.kerrpto.org
SUMMARY:Kennywood Picnic - Early Dismissal
DESCRIPTION:
URL:https://www.kerrpto.org/event/kennywood-picnic-early-dismissal-2/
CATEGORIES:district info,family fun
ATTACH;FMTTYPE=image/jpeg:https://www.kerrpto.org/wp-content/uploads/2021/07/Kennywood1.jpg
END:VEVENT
BEGIN:VEVENT
DTSTART;VALUE=DATE:20250526
DTEND;VALUE=DATE:20250527
DTSTAMP:20260423T205955
CREATED:20240614T115125Z
LAST-MODIFIED:20240614T115125Z
UID:3758-1748217600-1748303999@www.kerrpto.org
SUMMARY:Memorial Day - No School
DESCRIPTION:
URL:https://www.kerrpto.org/event/memorial-day-no-school-2/
CATEGORIES:district info
ATTACH;FMTTYPE=image/jpeg:https://www.kerrpto.org/wp-content/uploads/2021/07/memorial-day-scaled-1.jpg
END:VEVENT
BEGIN:VEVENT
DTSTART;TZID=UTC:20250501T090000
DTEND;TZID=UTC:20250501T170000
DTSTAMP:20260423T205955
CREATED:20250225T235536Z
LAST-MODIFIED:20250225T235536Z
UID:3976-1746090000-1746118800@www.kerrpto.org
SUMMARY:Clearance Drive
DESCRIPTION:
URL:https://www.kerrpto.org/event/clearance-drive/
CATEGORIES:district info,Informational Event
END:VEVENT
BEGIN:VEVENT
DTSTART;VALUE=DATE:20250501
DTEND;VALUE=DATE:20250502
DTSTAMP:20260423T205955
CREATED:20250329T220803Z
LAST-MODIFIED:20250329T220803Z
UID:4013-1746057600-1746143999@www.kerrpto.org
SUMMARY:District Wide Clearance Event
DESCRIPTION:
URL:https://www.kerrpto.org/event/district-wide-clearance-event/
CATEGORIES:district info
ATTACH;FMTTYPE=image/png:https://www.kerrpto.org/wp-content/uploads/2025/03/unnamed.png
END:VEVENT
BEGIN:VEVENT
DTSTART;VALUE=DATE:20250418
DTEND;VALUE=DATE:20250419
DTSTAMP:20260423T205955
CREATED:20240614T115035Z
LAST-MODIFIED:20240614T115035Z
UID:3756-1744934400-1745020799@www.kerrpto.org
SUMMARY:Spring Holiday - No School
DESCRIPTION:
URL:https://www.kerrpto.org/event/spring-holiday-no-school/
CATEGORIES:district info
ATTACH;FMTTYPE=image/jpeg:https://www.kerrpto.org/wp-content/uploads/2023/02/springcover.jpg
END:VEVENT
BEGIN:VEVENT
DTSTART;VALUE=DATE:20250331
DTEND;VALUE=DATE:20250405
DTSTAMP:20260423T205955
CREATED:20240614T114933Z
LAST-MODIFIED:20240614T114933Z
UID:3754-1743379200-1743811199@www.kerrpto.org
SUMMARY:Spring Break - No School
DESCRIPTION:
URL:https://www.kerrpto.org/event/spring-break-no-school-3/
CATEGORIES:district info
ATTACH;FMTTYPE=image/jpeg:https://www.kerrpto.org/wp-content/uploads/2021/07/483890066.jpg
END:VEVENT
BEGIN:VEVENT
DTSTART;VALUE=DATE:20250328
DTEND;VALUE=DATE:20250329
DTSTAMP:20260423T205955
CREATED:20240614T114830Z
LAST-MODIFIED:20240614T114830Z
UID:3752-1743120000-1743206399@www.kerrpto.org
SUMMARY:Early Dismissal
DESCRIPTION:early
URL:https://www.kerrpto.org/event/early-dismissal-29/
CATEGORIES:district info
ATTACH;FMTTYPE=image/jpeg:https://www.kerrpto.org/wp-content/uploads/2021/07/early-dismissal.jpg
END:VEVENT
BEGIN:VEVENT
DTSTART;VALUE=DATE:20250217
DTEND;VALUE=DATE:20250218
DTSTAMP:20260423T205955
CREATED:20240614T114725Z
LAST-MODIFIED:20240614T114725Z
UID:3750-1739750400-1739836799@www.kerrpto.org
SUMMARY:Presidents' Day - No School
DESCRIPTION:
URL:https://www.kerrpto.org/event/presidents-day-no-school-2/
CATEGORIES:district info
ATTACH;FMTTYPE=image/jpeg:https://www.kerrpto.org/wp-content/uploads/2021/07/presidents-day.jpg
END:VEVENT
BEGIN:VEVENT
DTSTART;VALUE=DATE:20250120
DTEND;VALUE=DATE:20250121
DTSTAMP:20260423T205955
CREATED:20240614T114629Z
LAST-MODIFIED:20240614T114629Z
UID:3748-1737331200-1737417599@www.kerrpto.org
SUMMARY:Martin Luther King Jr Day - No School
DESCRIPTION:
URL:https://www.kerrpto.org/event/martin-luther-king-jr-day-no-school/
CATEGORIES:district info
ATTACH;FMTTYPE=image/jpeg:https://www.kerrpto.org/wp-content/uploads/2021/07/33870486865_c4be14daa8_o-1600x720_0.jpg
END:VEVENT
BEGIN:VEVENT
DTSTART;VALUE=DATE:20250117
DTEND;VALUE=DATE:20250118
DTSTAMP:20260423T205955
CREATED:20240614T114409Z
LAST-MODIFIED:20240614T114409Z
UID:3746-1737072000-1737158399@www.kerrpto.org
SUMMARY:No School
DESCRIPTION:
URL:https://www.kerrpto.org/event/no-school-21/
CATEGORIES:district info
ATTACH;FMTTYPE=image/jpeg:https://www.kerrpto.org/wp-content/uploads/2021/07/remindernoschoolpic3.jpg
END:VEVENT
BEGIN:VEVENT
DTSTART;VALUE=DATE:20241223
DTEND;VALUE=DATE:20250102
DTSTAMP:20260423T205955
CREATED:20240614T114317Z
LAST-MODIFIED:20240614T114317Z
UID:3744-1734912000-1735775999@www.kerrpto.org
SUMMARY:Winter Break - No School
DESCRIPTION:
URL:https://www.kerrpto.org/event/winter-break-no-school-2/
CATEGORIES:district info
ATTACH;FMTTYPE=image/jpeg:https://www.kerrpto.org/wp-content/uploads/2021/07/winterbreak-900x498-1.jpg
END:VEVENT
BEGIN:VEVENT
DTSTART;VALUE=DATE:20241128
DTEND;VALUE=DATE:20241203
DTSTAMP:20260423T205955
CREATED:20240614T113827Z
LAST-MODIFIED:20240614T113827Z
UID:3742-1732752000-1733183999@www.kerrpto.org
SUMMARY:Thanksgiving Break - No School
DESCRIPTION:
URL:https://www.kerrpto.org/event/thanksgiving-break-no-school/
CATEGORIES:district info
ATTACH;FMTTYPE=image/jpeg:https://www.kerrpto.org/wp-content/uploads/2021/07/thanksgiving-break-story.jpg
END:VEVENT
BEGIN:VEVENT
DTSTART;TZID=UTC:20241127T080000
DTEND;TZID=UTC:20241127T170000
DTSTAMP:20260423T205955
CREATED:20240614T113651Z
LAST-MODIFIED:20240614T113741Z
UID:3740-1732694400-1732726800@www.kerrpto.org
SUMMARY:Early Dismissal
DESCRIPTION:
URL:https://www.kerrpto.org/event/early-dismissal-28/
CATEGORIES:district info
ATTACH;FMTTYPE=image/jpeg:https://www.kerrpto.org/wp-content/uploads/2021/07/early-dismissal.jpg
END:VEVENT
BEGIN:VEVENT
DTSTART;VALUE=DATE:20241105
DTEND;VALUE=DATE:20241106
DTSTAMP:20260423T205955
CREATED:20240614T113550Z
LAST-MODIFIED:20240614T113550Z
UID:3738-1730764800-1730851199@www.kerrpto.org
SUMMARY:Parent Teacher Conferences - No School
DESCRIPTION:
URL:https://www.kerrpto.org/event/parent-teacher-conferences-no-school/
CATEGORIES:district info
ATTACH;FMTTYPE=image/jpeg:https://www.kerrpto.org/wp-content/uploads/2021/07/How-to-prepare-for-Parent-Teacher-Conferences_final.jpg
END:VEVENT
BEGIN:VEVENT
DTSTART;VALUE=DATE:20241104
DTEND;VALUE=DATE:20241105
DTSTAMP:20260423T205955
CREATED:20240614T113507Z
LAST-MODIFIED:20240614T113507Z
UID:3736-1730678400-1730764799@www.kerrpto.org
SUMMARY:Parent Teacher Conferences - Early Dismissal
DESCRIPTION:
URL:https://www.kerrpto.org/event/parent-teacher-conferences-early-dismissal/
CATEGORIES:district info
ATTACH;FMTTYPE=image/jpeg:https://www.kerrpto.org/wp-content/uploads/2021/07/How-to-prepare-for-Parent-Teacher-Conferences_final.jpg
END:VEVENT
BEGIN:VEVENT
DTSTART;VALUE=DATE:20241101
DTEND;VALUE=DATE:20241102
DTSTAMP:20260423T205955
CREATED:20240614T113223Z
LAST-MODIFIED:20240614T113223Z
UID:3730-1730419200-1730505599@www.kerrpto.org
SUMMARY:Fall Break - No School
DESCRIPTION:
URL:https://www.kerrpto.org/event/fall-break-no-school-3/
CATEGORIES:district info
ATTACH;FMTTYPE=image/jpeg:https://www.kerrpto.org/wp-content/uploads/2021/07/Fall-Break.jpg
END:VEVENT
BEGIN:VEVENT
DTSTART;VALUE=DATE:20241025
DTEND;VALUE=DATE:20241026
DTSTAMP:20260423T205955
CREATED:20240614T113408Z
LAST-MODIFIED:20240614T113408Z
UID:3734-1729814400-1729900799@www.kerrpto.org
SUMMARY:Early Dismissal
DESCRIPTION:
URL:https://www.kerrpto.org/event/early-dismissal-27/
CATEGORIES:district info
ATTACH;FMTTYPE=image/jpeg:https://www.kerrpto.org/wp-content/uploads/2021/07/early-dismissal.jpg
END:VEVENT
BEGIN:VEVENT
DTSTART;VALUE=DATE:20241009
DTEND;VALUE=DATE:20241010
DTSTAMP:20260423T205955
CREATED:20240614T113317Z
LAST-MODIFIED:20240614T113317Z
UID:3732-1728432000-1728518399@www.kerrpto.org
SUMMARY:Early Dismissal
DESCRIPTION:
URL:https://www.kerrpto.org/event/early-dismissal-26/
CATEGORIES:district info
ATTACH;FMTTYPE=image/jpeg:https://www.kerrpto.org/wp-content/uploads/2021/07/early-dismissal.jpg
END:VEVENT
BEGIN:VEVENT
DTSTART;VALUE=DATE:20241003
DTEND;VALUE=DATE:20241004
DTSTAMP:20260423T205955
CREATED:20240614T113101Z
LAST-MODIFIED:20240614T113101Z
UID:3728-1727913600-1727999999@www.kerrpto.org
SUMMARY:Fall Break - No School
DESCRIPTION:
URL:https://www.kerrpto.org/event/fall-break-no-school-2/
CATEGORIES:district info
ATTACH;FMTTYPE=image/jpeg:https://www.kerrpto.org/wp-content/uploads/2021/07/Fall-Break.jpg
END:VEVENT
BEGIN:VEVENT
DTSTART;VALUE=DATE:20240902
DTEND;VALUE=DATE:20240903
DTSTAMP:20260423T205955
CREATED:20240614T112955Z
LAST-MODIFIED:20240614T112955Z
UID:3726-1725235200-1725321599@www.kerrpto.org
SUMMARY:Labor Day - No School
DESCRIPTION:
URL:https://www.kerrpto.org/event/labor-day-no-school-2/
CATEGORIES:district info
ATTACH;FMTTYPE=image/jpeg:https://www.kerrpto.org/wp-content/uploads/2021/07/labor_day_flag_US_109882619_ML_123RF.jpg
END:VEVENT
BEGIN:VEVENT
DTSTART;VALUE=DATE:20240822
DTEND;VALUE=DATE:20240823
DTSTAMP:20260423T205955
CREATED:20240614T112737Z
LAST-MODIFIED:20240614T112737Z
UID:3724-1724284800-1724371199@www.kerrpto.org
SUMMARY:First Day of School
DESCRIPTION:
URL:https://www.kerrpto.org/event/first-day-of-school-5/
CATEGORIES:district info
ATTACH;FMTTYPE=image/jpeg:https://www.kerrpto.org/wp-content/uploads/2019/08/First_day_of_School.jpg
END:VEVENT
BEGIN:VEVENT
DTSTART;VALUE=DATE:20240606
DTEND;VALUE=DATE:20240607
DTSTAMP:20260423T205955
CREATED:20230525T171130Z
LAST-MODIFIED:20230525T171130Z
UID:3459-1717632000-1717718399@www.kerrpto.org
SUMMARY:Last Day of School
DESCRIPTION:
URL:https://www.kerrpto.org/event/last-day-of-school-2/
CATEGORIES:district info
ATTACH;FMTTYPE=image/jpeg:https://www.kerrpto.org/wp-content/uploads/2021/07/last-day-school.jpg
END:VEVENT
BEGIN:VEVENT
DTSTART;VALUE=DATE:20240529
DTEND;VALUE=DATE:20240530
DTSTAMP:20260423T205955
CREATED:20230525T171058Z
LAST-MODIFIED:20230525T171058Z
UID:3457-1716940800-1717027199@www.kerrpto.org
SUMMARY:Kennywood Picnic - Early Dismissal
DESCRIPTION:
URL:https://www.kerrpto.org/event/kennywood-picnic-early-dismissal/
CATEGORIES:district info
ATTACH;FMTTYPE=image/jpeg:https://www.kerrpto.org/wp-content/uploads/2021/07/Kennywood1.jpg
END:VEVENT
BEGIN:VEVENT
DTSTART;VALUE=DATE:20240527
DTEND;VALUE=DATE:20240528
DTSTAMP:20260423T205955
CREATED:20230525T171000Z
LAST-MODIFIED:20230525T171000Z
UID:3455-1716768000-1716854399@www.kerrpto.org
SUMMARY:Memorial Day - No School
DESCRIPTION:
URL:https://www.kerrpto.org/event/memorial-day-no-school/
CATEGORIES:district info
ATTACH;FMTTYPE=image/jpeg:https://www.kerrpto.org/wp-content/uploads/2021/07/memorial-day-scaled-1.jpg
END:VEVENT
BEGIN:VEVENT
DTSTART;VALUE=DATE:20240325
DTEND;VALUE=DATE:20240330
DTSTAMP:20260423T205955
CREATED:20230525T170928Z
LAST-MODIFIED:20230525T170928Z
UID:3453-1711324800-1711756799@www.kerrpto.org
SUMMARY:Spring Break - No School
DESCRIPTION:
URL:https://www.kerrpto.org/event/spring-break-no-school-2/
CATEGORIES:district info
ATTACH;FMTTYPE=image/jpeg:https://www.kerrpto.org/wp-content/uploads/2021/07/483890066.jpg
END:VEVENT
BEGIN:VEVENT
DTSTART;VALUE=DATE:20240322
DTEND;VALUE=DATE:20240323
DTSTAMP:20260423T205955
CREATED:20230525T170851Z
LAST-MODIFIED:20230525T170851Z
UID:3451-1711065600-1711151999@www.kerrpto.org
SUMMARY:Early Dismissal
DESCRIPTION:
URL:https://www.kerrpto.org/event/early-dismissal-25/
CATEGORIES:district info
ATTACH;FMTTYPE=image/jpeg:https://www.kerrpto.org/wp-content/uploads/2021/07/early-dismissal.jpg
END:VEVENT
BEGIN:VEVENT
DTSTART;VALUE=DATE:20240219
DTEND;VALUE=DATE:20240220
DTSTAMP:20260423T205955
CREATED:20230525T170819Z
LAST-MODIFIED:20230525T170819Z
UID:3449-1708300800-1708387199@www.kerrpto.org
SUMMARY:Presidents Day - No School
DESCRIPTION:
URL:https://www.kerrpto.org/event/presidents-day-no-school/
CATEGORIES:district info
ATTACH;FMTTYPE=image/jpeg:https://www.kerrpto.org/wp-content/uploads/2021/07/presidents-day.jpg
END:VEVENT
BEGIN:VEVENT
DTSTART;VALUE=DATE:20240119
DTEND;VALUE=DATE:20240120
DTSTAMP:20260423T205955
CREATED:20230525T170744Z
LAST-MODIFIED:20230525T170744Z
UID:3447-1705622400-1705708799@www.kerrpto.org
SUMMARY:No School
DESCRIPTION:
URL:https://www.kerrpto.org/event/no-school-20/
CATEGORIES:district info
ATTACH;FMTTYPE=image/jpeg:https://www.kerrpto.org/wp-content/uploads/2021/07/remindernoschoolpic3.jpg
END:VEVENT
BEGIN:VEVENT
DTSTART;VALUE=DATE:20240115
DTEND;VALUE=DATE:20240116
DTSTAMP:20260423T205955
CREATED:20230525T170714Z
LAST-MODIFIED:20230525T170714Z
UID:3445-1705276800-1705363199@www.kerrpto.org
SUMMARY:MLK Day - No School
DESCRIPTION:
URL:https://www.kerrpto.org/event/mlk-day-no-school/
CATEGORIES:district info
ATTACH;FMTTYPE=image/jpeg:https://www.kerrpto.org/wp-content/uploads/2021/07/33870486865_c4be14daa8_o-1600x720_0.jpg
END:VEVENT
END:VCALENDAR