BEGIN:VCALENDAR
VERSION:2.0
PRODID:-//Kerr PTO - ECPv6.15.20//NONSGML v1.0//EN
CALSCALE:GREGORIAN
METHOD:PUBLISH
X-ORIGINAL-URL:https://www.kerrpto.org
X-WR-CALDESC:Events for Kerr PTO
REFRESH-INTERVAL;VALUE=DURATION:PT1H
X-Robots-Tag:noindex
X-PUBLISHED-TTL:PT1H
BEGIN:VTIMEZONE
TZID:UTC
BEGIN:STANDARD
TZOFFSETFROM:+0000
TZOFFSETTO:+0000
TZNAME:UTC
DTSTART:20190101T000000
END:STANDARD
END:VTIMEZONE
BEGIN:VEVENT
DTSTART;VALUE=DATE:20210824
DTEND;VALUE=DATE:20210825
DTSTAMP:20260424T091731
CREATED:20210618T141533Z
LAST-MODIFIED:20210714T192210Z
UID:2448-1629763200-1629849599@www.kerrpto.org
SUMMARY:First Day of School!
DESCRIPTION:
URL:https://www.kerrpto.org/event/first-day-of-school-2/
LOCATION:Kerr Elementary
CATEGORIES:district info
ATTACH;FMTTYPE=image/jpeg:https://www.kerrpto.org/wp-content/uploads/2019/08/First_day_of_School.jpg
END:VEVENT
BEGIN:VEVENT
DTSTART;TZID=UTC:20210604T120000
DTEND;TZID=UTC:20210604T170000
DTSTAMP:20260424T091731
CREATED:20210322T023636Z
LAST-MODIFIED:20210322T023636Z
UID:2388-1622808000-1622826000@www.kerrpto.org
SUMMARY:Last Day of School and Early Dismissal!
DESCRIPTION:
URL:https://www.kerrpto.org/event/last-day-of-school-and-early-dismissal/
CATEGORIES:district info
END:VEVENT
BEGIN:VEVENT
DTSTART;TZID=UTC:20210602T120000
DTEND;TZID=UTC:20210602T170000
DTSTAMP:20260424T091731
CREATED:20210322T023407Z
LAST-MODIFIED:20210322T023925Z
UID:2385-1622635200-1622653200@www.kerrpto.org
SUMMARY:Early Dismissal & Kennywood Day
DESCRIPTION:
URL:https://www.kerrpto.org/event/early-dismissal-10/
CATEGORIES:district info
END:VEVENT
BEGIN:VEVENT
DTSTART;TZID=UTC:20210531T080000
DTEND;TZID=UTC:20210531T170000
DTSTAMP:20260424T091731
CREATED:20210322T023246Z
LAST-MODIFIED:20210322T023246Z
UID:2383-1622448000-1622480400@www.kerrpto.org
SUMMARY:No School!
DESCRIPTION:
URL:https://www.kerrpto.org/event/no-school-17/
CATEGORIES:district info
END:VEVENT
BEGIN:VEVENT
DTSTART;TZID=UTC:20210329T080000
DTEND;TZID=UTC:20210402T170000
DTSTAMP:20260424T091731
CREATED:20210322T021616Z
LAST-MODIFIED:20210322T021616Z
UID:2376-1617004800-1617382800@www.kerrpto.org
SUMMARY:Spring Break!
DESCRIPTION:Enjoy the week off!  See you back at school on Monday\, April 5th.
URL:https://www.kerrpto.org/event/spring-break-2/
CATEGORIES:district info
END:VEVENT
BEGIN:VEVENT
DTSTART;TZID=UTC:20210326T120000
DTEND;TZID=UTC:20210326T170000
DTSTAMP:20260424T091731
CREATED:20210322T021411Z
LAST-MODIFIED:20210322T021411Z
UID:2374-1616760000-1616778000@www.kerrpto.org
SUMMARY:Early Dismissal
DESCRIPTION:Noon Dismissal!
URL:https://www.kerrpto.org/event/early-dismissal-9/
CATEGORIES:district info
END:VEVENT
BEGIN:VEVENT
DTSTART;TZID=UTC:20210215T080000
DTEND;TZID=UTC:20210215T170000
DTSTAMP:20260424T091731
CREATED:20210125T034153Z
LAST-MODIFIED:20210125T034241Z
UID:2267-1613376000-1613408400@www.kerrpto.org
SUMMARY:No School
DESCRIPTION:
URL:https://www.kerrpto.org/event/no-school-16/
CATEGORIES:district info
END:VEVENT
BEGIN:VEVENT
DTSTART;TZID=UTC:20210212T080000
DTEND;TZID=UTC:20210212T170000
DTSTAMP:20260424T091731
CREATED:20210125T034108Z
LAST-MODIFIED:20210125T034108Z
UID:2265-1613116800-1613149200@www.kerrpto.org
SUMMARY:No School
DESCRIPTION:
URL:https://www.kerrpto.org/event/no-school-15/
CATEGORIES:district info
END:VEVENT
BEGIN:VEVENT
DTSTART;TZID=UTC:20210119T080000
DTEND;TZID=UTC:20210119T170000
DTSTAMP:20260424T091731
CREATED:20210108T035315Z
LAST-MODIFIED:20210108T035315Z
UID:2256-1611043200-1611075600@www.kerrpto.org
SUMMARY:Martin Luther King Day - No School
DESCRIPTION:
URL:https://www.kerrpto.org/event/martin-luther-king-day-no-school/
CATEGORIES:district info
END:VEVENT
BEGIN:VEVENT
DTSTART;TZID=UTC:20210115T080000
DTEND;TZID=UTC:20210115T170000
DTSTAMP:20260424T091731
CREATED:20210108T035232Z
LAST-MODIFIED:20210108T035232Z
UID:2254-1610697600-1610730000@www.kerrpto.org
SUMMARY:No School
DESCRIPTION:
URL:https://www.kerrpto.org/event/no-school-14/
CATEGORIES:district info
END:VEVENT
BEGIN:VEVENT
DTSTART;TZID=UTC:20201126T080000
DTEND;TZID=UTC:20201130T170000
DTSTAMP:20260424T091731
CREATED:20201024T163213Z
LAST-MODIFIED:20201024T163213Z
UID:2164-1606377600-1606755600@www.kerrpto.org
SUMMARY:Thanksgiving Break!
DESCRIPTION:See you Tuesday\, December 1!  Have a great break!
URL:https://www.kerrpto.org/event/thanksgiving-break-3/
CATEGORIES:district info
ATTACH;FMTTYPE=image/png:https://www.kerrpto.org/wp-content/uploads/2018/08/IMG_3197.png
END:VEVENT
BEGIN:VEVENT
DTSTART;TZID=UTC:20201125T120000
DTEND;TZID=UTC:20201125T170000
DTSTAMP:20260424T091731
CREATED:20201024T163050Z
LAST-MODIFIED:20201024T163050Z
UID:2162-1606305600-1606323600@www.kerrpto.org
SUMMARY:Early Dismissal
DESCRIPTION:Start of Thanksgiving Break!  Noon Dismissal.
URL:https://www.kerrpto.org/event/early-dismissal-8/
CATEGORIES:district info
ATTACH;FMTTYPE=image/png:https://www.kerrpto.org/wp-content/uploads/2018/08/IMG_3196.png
END:VEVENT
BEGIN:VEVENT
DTSTART;TZID=UTC:20201110T080000
DTEND;TZID=UTC:20201110T170000
DTSTAMP:20260424T091731
CREATED:20201024T154431Z
LAST-MODIFIED:20201024T160747Z
UID:2148-1604995200-1605027600@www.kerrpto.org
SUMMARY:Picture Day!
DESCRIPTION:Monday\, November 9th \n\nAll students beginning in Pre-K (Cohort 1) – Grade 5\n\nTuesday\, November 10th \n\nStudents in our Pre-K (Cohort 2) and Virtual Students\n\nVirtual Students are to arrive at the Kerr Elementary School Main Office between 9:00 – 11:00 AM for pictures.
URL:https://www.kerrpto.org/event/picture-day-3/
CATEGORIES:district info
ATTACH;FMTTYPE=image/png:https://www.kerrpto.org/wp-content/uploads/2019/08/Smiley_head_happy.png
END:VEVENT
BEGIN:VEVENT
DTSTART;TZID=UTC:20201109T080000
DTEND;TZID=UTC:20201109T170000
DTSTAMP:20260424T091731
CREATED:20201024T154341Z
LAST-MODIFIED:20201024T154341Z
UID:2146-1604908800-1604941200@www.kerrpto.org
SUMMARY:Picture Day!
DESCRIPTION:Monday\, November 9th \n\nAll students beginning in Pre-K (Cohort 1) – Grade 5\n\nTuesday\, November 10th \n\nStudents in our Pre-K (Cohort 2) and Virtual Students\n\nVirtual Students are to arrive at the Kerr Elementary School Main Office between 9:00 – 11:00 AM for pictures.
URL:https://www.kerrpto.org/event/picture-day-2/
LOCATION:Kerr Elementary
CATEGORIES:district info
ATTACH;FMTTYPE=image/png:https://www.kerrpto.org/wp-content/uploads/2019/08/Smiley_head_happy.png
END:VEVENT
BEGIN:VEVENT
DTSTART;TZID=UTC:20201103T080000
DTEND;TZID=UTC:20201103T170000
DTSTAMP:20260424T091731
CREATED:20201024T162455Z
LAST-MODIFIED:20201024T162455Z
UID:2160-1604390400-1604422800@www.kerrpto.org
SUMMARY:No School!
DESCRIPTION:
URL:https://www.kerrpto.org/event/no-school-13/
CATEGORIES:district info
ATTACH;FMTTYPE=image/png:https://www.kerrpto.org/wp-content/uploads/2018/08/IMG_3197.png
END:VEVENT
BEGIN:VEVENT
DTSTART;TZID=UTC:20201102T120000
DTEND;TZID=UTC:20201102T170000
DTSTAMP:20260424T091731
CREATED:20201024T162326Z
LAST-MODIFIED:20201024T162326Z
UID:2158-1604318400-1604336400@www.kerrpto.org
SUMMARY:Early Dismissal!
DESCRIPTION:Noon dismissal for Parent-Teacher conferences.
URL:https://www.kerrpto.org/event/early-dismissal-7/
CATEGORIES:district info
ATTACH;FMTTYPE=image/png:https://www.kerrpto.org/wp-content/uploads/2018/08/IMG_3196.png
END:VEVENT
BEGIN:VEVENT
DTSTART;TZID=UTC:20201023T120000
DTEND;TZID=UTC:20201023T120000
DTSTAMP:20260424T091731
CREATED:20200926T144026Z
LAST-MODIFIED:20200926T144026Z
UID:2132-1603454400-1603454400@www.kerrpto.org
SUMMARY:Early Dismissal!   Noon Dismissal
DESCRIPTION:
URL:https://www.kerrpto.org/event/early-dismissal-noon-dismissal-2/
CATEGORIES:district info
ATTACH;FMTTYPE=image/png:https://www.kerrpto.org/wp-content/uploads/2018/08/IMG_3196.png
END:VEVENT
BEGIN:VEVENT
DTSTART;TZID=UTC:20201014T120000
DTEND;TZID=UTC:20201014T120000
DTSTAMP:20260424T091731
CREATED:20200926T143852Z
LAST-MODIFIED:20200926T143852Z
UID:2130-1602676800-1602676800@www.kerrpto.org
SUMMARY:Early Dismissal! Noon Dismissal
DESCRIPTION:
URL:https://www.kerrpto.org/event/early-dismissal-noon-dismissal/
CATEGORIES:district info
ATTACH;FMTTYPE=image/png:https://www.kerrpto.org/wp-content/uploads/2018/08/IMG_3196.png
END:VEVENT
BEGIN:VEVENT
DTSTART;VALUE=DATE:20200928
DTEND;VALUE=DATE:20200929
DTSTAMP:20260424T091731
CREATED:20200903T020049Z
LAST-MODIFIED:20200903T020447Z
UID:2101-1601251200-1601337599@www.kerrpto.org
SUMMARY:Fall Break!
DESCRIPTION:
URL:https://www.kerrpto.org/event/fall-break-3/
CATEGORIES:district info
END:VEVENT
BEGIN:VEVENT
DTSTART;VALUE=DATE:20200605
DTEND;VALUE=DATE:20200606
DTSTAMP:20260424T091731
CREATED:20190812T230758Z
LAST-MODIFIED:20190812T230758Z
UID:1678-1591315200-1591401599@www.kerrpto.org
SUMMARY:Last Day of School!  Early Dismissal
DESCRIPTION:Last Day of School.  Kerr dismisses at 12 noon.  Have a great summer!
URL:https://www.kerrpto.org/event/last-day-of-school-early-dismissal/
CATEGORIES:district info
ATTACH;FMTTYPE=image/jpeg:https://www.kerrpto.org/wp-content/uploads/2019/05/suncartoon.jpg
END:VEVENT
BEGIN:VEVENT
DTSTART;VALUE=DATE:20200527
DTEND;VALUE=DATE:20200528
DTSTAMP:20260424T091731
CREATED:20190812T230038Z
LAST-MODIFIED:20190812T230038Z
UID:1671-1590537600-1590623999@www.kerrpto.org
SUMMARY:Kennywood Day and Early Dismissal!
DESCRIPTION:Kerr dismissal at 12:00 noon followed by Fox Chapel Area School District KENNYWOOD DAY!
URL:https://www.kerrpto.org/event/kennywood-day-and-early-dismissal/
CATEGORIES:district info,family fun
ATTACH;FMTTYPE=image/png:https://www.kerrpto.org/wp-content/uploads/2017/08/Kennywood.png
END:VEVENT
BEGIN:VEVENT
DTSTART;VALUE=DATE:20200525
DTEND;VALUE=DATE:20200526
DTSTAMP:20260424T091731
CREATED:20190812T230218Z
LAST-MODIFIED:20190812T230247Z
UID:1673-1590364800-1590451199@www.kerrpto.org
SUMMARY:Happy Memorial Day!
DESCRIPTION:No School!
URL:https://www.kerrpto.org/event/happy-memorial-day/
CATEGORIES:district info
ATTACH;FMTTYPE=image/png:https://www.kerrpto.org/wp-content/uploads/2018/08/IMG_3197.png
END:VEVENT
BEGIN:VEVENT
DTSTART;TZID=UTC:20200514T170000
DTEND;TZID=UTC:20200514T190000
DTSTAMP:20260424T091731
CREATED:20190812T225809Z
LAST-MODIFIED:20190812T225809Z
UID:1669-1589475600-1589482800@www.kerrpto.org
SUMMARY:Art Show & 5th Grade Music Program
DESCRIPTION:The Art Show is from 5:00 pm – 7:00 pm immediately followed by the 5th Grade Music Program at 7:00 pm.
URL:https://www.kerrpto.org/event/art-show-5th-grade-music-program/
LOCATION:Kerr Elementary
CATEGORIES:district info
ATTACH;FMTTYPE=image/jpeg:https://www.kerrpto.org/wp-content/uploads/2017/06/hands2.jpg
END:VEVENT
BEGIN:VEVENT
DTSTART;TZID=UTC:20200414T173000
DTEND;TZID=UTC:20200414T190000
DTSTAMP:20260424T091731
CREATED:20190812T225316Z
LAST-MODIFIED:20190812T225316Z
UID:1667-1586885400-1586890800@www.kerrpto.org
SUMMARY:2020-2021 Kindergarten Family Fun Night
DESCRIPTION:
URL:https://www.kerrpto.org/event/2020-2021-kindergarten-family-fun-night/
LOCATION:Kerr Elementary
CATEGORIES:district info,family fun
END:VEVENT
BEGIN:VEVENT
DTSTART;TZID=UTC:20200404T080000
DTEND;TZID=UTC:20200412T170000
DTSTAMP:20260424T091731
CREATED:20190812T224843Z
LAST-MODIFIED:20190812T224843Z
UID:1663-1585987200-1586710800@www.kerrpto.org
SUMMARY:Spring Break!
DESCRIPTION:Spring Break is April 6 through April 12.  School starts again on Monday\, April 13
URL:https://www.kerrpto.org/event/spring-break/
CATEGORIES:district info
ATTACH;FMTTYPE=image/png:https://www.kerrpto.org/wp-content/uploads/2017/08/flowers.png
END:VEVENT
BEGIN:VEVENT
DTSTART;VALUE=DATE:20200403
DTEND;VALUE=DATE:20200404
DTSTAMP:20260424T091731
CREATED:20190812T225056Z
LAST-MODIFIED:20190812T225056Z
UID:1665-1585872000-1585958399@www.kerrpto.org
SUMMARY:Early Dismissal
DESCRIPTION:Kerr dismisses at 12 noon.
URL:https://www.kerrpto.org/event/early-dismissal-6/
LOCATION:Kerr Elementary
CATEGORIES:district info
ATTACH;FMTTYPE=image/png:https://www.kerrpto.org/wp-content/uploads/2018/08/IMG_3196.png
END:VEVENT
BEGIN:VEVENT
DTSTART;VALUE=DATE:20200320
DTEND;VALUE=DATE:20200321
DTSTAMP:20260424T091731
CREATED:20190812T223507Z
LAST-MODIFIED:20190812T223527Z
UID:1661-1584662400-1584748799@www.kerrpto.org
SUMMARY:Early Dismissal!
DESCRIPTION:Kerr dismisses at 12 noon.
URL:https://www.kerrpto.org/event/early-dismissal-5/
LOCATION:Kerr Elementary
CATEGORIES:district info
ATTACH;FMTTYPE=image/png:https://www.kerrpto.org/wp-content/uploads/2018/08/IMG_3196.png
END:VEVENT
BEGIN:VEVENT
DTSTART;TZID=UTC:20200319T170000
DTEND;TZID=UTC:20200319T180000
DTSTAMP:20260424T091731
CREATED:20190812T223153Z
LAST-MODIFIED:20190812T223153Z
UID:1657-1584637200-1584640800@www.kerrpto.org
SUMMARY:Pre-Kindergarten Parent Night
DESCRIPTION:
URL:https://www.kerrpto.org/event/pre-kindergarten-parent-night/
CATEGORIES:district info
END:VEVENT
BEGIN:VEVENT
DTSTART;TZID=UTC:20200319T140000
DTEND;TZID=UTC:20200319T150000
DTSTAMP:20260424T091731
CREATED:20190812T223310Z
LAST-MODIFIED:20190812T223310Z
UID:1659-1584626400-1584630000@www.kerrpto.org
SUMMARY:2020-2021 Kerr Kindergarten Story Time
DESCRIPTION:
URL:https://www.kerrpto.org/event/2020-2021-kerr-kindergarten-story-time/
LOCATION:Kerr Elementary
CATEGORIES:district info
END:VEVENT
BEGIN:VEVENT
DTSTART;TZID=UTC:20200225T090000
DTEND;TZID=UTC:20200225T160000
DTSTAMP:20260424T091731
CREATED:20190812T222750Z
LAST-MODIFIED:20190812T222750Z
UID:1655-1582621200-1582646400@www.kerrpto.org
SUMMARY:2020-2021 Kindergarten Registration
DESCRIPTION:
URL:https://www.kerrpto.org/event/2020-2021-kindergarten-registration-2/
CATEGORIES:district info
END:VEVENT
END:VCALENDAR