BEGIN:VCALENDAR
VERSION:2.0
PRODID:-//Kerr PTO - ECPv6.15.20//NONSGML v1.0//EN
CALSCALE:GREGORIAN
METHOD:PUBLISH
X-WR-CALNAME:Kerr PTO
X-ORIGINAL-URL:https://www.kerrpto.org
X-WR-CALDESC:Events for Kerr PTO
REFRESH-INTERVAL;VALUE=DURATION:PT1H
X-Robots-Tag:noindex
X-PUBLISHED-TTL:PT1H
BEGIN:VTIMEZONE
TZID:UTC
BEGIN:STANDARD
TZOFFSETFROM:+0000
TZOFFSETTO:+0000
TZNAME:UTC
DTSTART:20160101T000000
END:STANDARD
END:VTIMEZONE
BEGIN:VEVENT
DTSTART;VALUE=DATE:20180119
DTEND;VALUE=DATE:20180120
DTSTAMP:20260424T022831
CREATED:20170827T034707Z
LAST-MODIFIED:20170827T034707Z
UID:446-1516320000-1516406399@www.kerrpto.org
SUMMARY:No School
DESCRIPTION:
URL:https://www.kerrpto.org/event/no-school-4/
CATEGORIES:district info
END:VEVENT
BEGIN:VEVENT
DTSTART;VALUE=DATE:20180115
DTEND;VALUE=DATE:20180116
DTSTAMP:20260424T022831
CREATED:20170827T034611Z
LAST-MODIFIED:20170827T034611Z
UID:444-1515974400-1516060799@www.kerrpto.org
SUMMARY:No School
DESCRIPTION:
URL:https://www.kerrpto.org/event/no-school-3/
CATEGORIES:district info
END:VEVENT
BEGIN:VEVENT
DTSTART;VALUE=DATE:20171225
DTEND;VALUE=DATE:20180102
DTSTAMP:20260424T022831
CREATED:20170820T032738Z
LAST-MODIFIED:20170820T032738Z
UID:311-1514160000-1514851199@www.kerrpto.org
SUMMARY:Winter Break
DESCRIPTION:Have a great break!
URL:https://www.kerrpto.org/event/winter-break/
CATEGORIES:district info
ATTACH;FMTTYPE=image/jpeg:https://www.kerrpto.org/wp-content/uploads/2017/08/Snowflake.jpg
END:VEVENT
BEGIN:VEVENT
DTSTART;VALUE=DATE:20171123
DTEND;VALUE=DATE:20171128
DTSTAMP:20260424T022831
CREATED:20170820T032022Z
LAST-MODIFIED:20170820T032022Z
UID:308-1511395200-1511827199@www.kerrpto.org
SUMMARY:Thanksgiving Break
DESCRIPTION:Happy Thanksgiving!
URL:https://www.kerrpto.org/event/thanksgiving-break/
CATEGORIES:district info
ATTACH;FMTTYPE=image/png:https://www.kerrpto.org/wp-content/uploads/2017/08/Turkey-With-Brown-Hat-17674-large.png
END:VEVENT
BEGIN:VEVENT
DTSTART;TZID=UTC:20171122T120000
DTEND;TZID=UTC:20171122T120000
DTSTAMP:20260424T022831
CREATED:20170820T031045Z
LAST-MODIFIED:20170820T031605Z
UID:306-1511352000-1511352000@www.kerrpto.org
SUMMARY:Early Dismissal at 12pm
DESCRIPTION:
URL:https://www.kerrpto.org/event/early-dismissal-at-12pm/
CATEGORIES:district info
END:VEVENT
BEGIN:VEVENT
DTSTART;VALUE=DATE:20171107
DTEND;VALUE=DATE:20171108
DTSTAMP:20260424T022831
CREATED:20171027T042029Z
LAST-MODIFIED:20171027T042029Z
UID:642-1510012800-1510099199@www.kerrpto.org
SUMMARY:No School
DESCRIPTION:
URL:https://www.kerrpto.org/event/no-school-8/
CATEGORIES:district info
END:VEVENT
BEGIN:VEVENT
DTSTART;TZID=UTC:20171106T120000
DTEND;TZID=UTC:20171106T120000
DTSTAMP:20260424T022831
CREATED:20171027T041837Z
LAST-MODIFIED:20171027T041837Z
UID:640-1509969600-1509969600@www.kerrpto.org
SUMMARY:Early Dismissal at 12pm
DESCRIPTION:
URL:https://www.kerrpto.org/event/early-dismissal-at-12pm-3/
CATEGORIES:district info
END:VEVENT
BEGIN:VEVENT
DTSTART;TZID=UTC:20171103T120000
DTEND;TZID=UTC:20171103T120000
DTSTAMP:20260424T022831
CREATED:20171027T041651Z
LAST-MODIFIED:20171027T041651Z
UID:638-1509710400-1509710400@www.kerrpto.org
SUMMARY:Early Dismissal at 12pm
DESCRIPTION:
URL:https://www.kerrpto.org/event/early-dismissal-at-12pm-2/
CATEGORIES:district info
END:VEVENT
BEGIN:VEVENT
DTSTART;TZID=UTC:20171027T133000
DTEND;TZID=UTC:20171027T133000
DTSTAMP:20260424T022831
CREATED:20170820T030740Z
LAST-MODIFIED:20170820T030740Z
UID:304-1509111000-1509111000@www.kerrpto.org
SUMMARY:Early Dismissal at 1:30pm
DESCRIPTION:
URL:https://www.kerrpto.org/event/early-dismissal-at-130pm/
CATEGORIES:district info
END:VEVENT
BEGIN:VEVENT
DTSTART;VALUE=DATE:20171023
DTEND;VALUE=DATE:20171028
DTSTAMP:20260424T022831
CREATED:20171009T181613Z
LAST-MODIFIED:20171009T181613Z
UID:615-1508716800-1509148799@www.kerrpto.org
SUMMARY:Kerr Theme Week
DESCRIPTION:October – 23 Crazy Socks Day\nOctober – 24 Mix it Up Day\nOctober – 25 Fox Chapel Spirit Day\nOctober – 26 Character Day – Dress up as your favorite book character!\nOctober – 27 PJ Day – 1:30 Dismissal Day\n\n 
URL:https://www.kerrpto.org/event/kerr-theme-week/
LOCATION:Kerr Elementary
CATEGORIES:district info
END:VEVENT
BEGIN:VEVENT
DTSTART;TZID=UTC:20171020T163000
DTEND;TZID=UTC:20171020T183000
DTSTAMP:20260424T022831
CREATED:20170820T003800Z
LAST-MODIFIED:20170820T020426Z
UID:262-1508517000-1508524200@www.kerrpto.org
SUMMARY:Kerrtober Fest
DESCRIPTION:
URL:https://www.kerrpto.org/event/kerrtober-fest/
LOCATION:Kennedy Park in Sharpsburg\, N Canal St
CATEGORIES:district info
ATTACH;FMTTYPE=image/jpeg:https://www.kerrpto.org/wp-content/uploads/2017/08/pumpkin-simple-image.jpg
END:VEVENT
BEGIN:VEVENT
DTSTART;TZID=UTC:20171011T120000
DTEND;TZID=UTC:20171011T120000
DTSTAMP:20260424T022831
CREATED:20171003T022243Z
LAST-MODIFIED:20171003T024015Z
UID:593-1507723200-1507723200@www.kerrpto.org
SUMMARY:Early Dismissal
DESCRIPTION:12pm dismissal \nNo Lunch
URL:https://www.kerrpto.org/event/early-dismissal/
CATEGORIES:district info
END:VEVENT
BEGIN:VEVENT
DTSTART;TZID=UTC:20171006T160000
DTEND;TZID=UTC:20171006T190000
DTSTAMP:20260424T022831
CREATED:20170820T001238Z
LAST-MODIFIED:20170919T180044Z
UID:257-1507305600-1507316400@www.kerrpto.org
SUMMARY:Homecoming
DESCRIPTION:  \nHigh School Homecoming Carnival \n 
URL:https://www.kerrpto.org/event/homecoming/
LOCATION:Fox Chapel High School\, 611 Field Club Road\, Pittsburgh\, PA\, 15238\, United States
CATEGORIES:district info
ATTACH;FMTTYPE=image/jpeg:https://www.kerrpto.org/wp-content/uploads/2017/08/fox-chapel-high-school-blackfox.jpg
END:VEVENT
BEGIN:VEVENT
DTSTART;VALUE=DATE:20170925
DTEND;VALUE=DATE:20170926
DTSTAMP:20260424T022831
CREATED:20170820T000011Z
LAST-MODIFIED:20170820T000307Z
UID:251-1506297600-1506383999@www.kerrpto.org
SUMMARY:Fall Picture Day
DESCRIPTION:
URL:https://www.kerrpto.org/event/no-school-fall-break/
CATEGORIES:district info
END:VEVENT
BEGIN:VEVENT
DTSTART;VALUE=DATE:20170921
DTEND;VALUE=DATE:20170922
DTSTAMP:20260424T022831
CREATED:20170820T000340Z
LAST-MODIFIED:20170820T000340Z
UID:255-1505952000-1506038399@www.kerrpto.org
SUMMARY:No School
DESCRIPTION:Happy Fall Break
URL:https://www.kerrpto.org/event/no-school-2/
CATEGORIES:district info
END:VEVENT
BEGIN:VEVENT
DTSTART;TZID=UTC:20170905T163000
DTEND;TZID=UTC:20170905T173000
DTSTAMP:20260424T022831
CREATED:20170824T031722Z
LAST-MODIFIED:20170824T031722Z
UID:384-1504629000-1504632600@www.kerrpto.org
SUMMARY:Grade 4 Parent/Teacher Meet & Greet
DESCRIPTION:takes place in assigned classroom
URL:https://www.kerrpto.org/event/grade-4-parentteacher-meet-greet/
LOCATION:Kerr Elementary
CATEGORIES:district info
END:VEVENT
BEGIN:VEVENT
DTSTART;VALUE=DATE:20170904
DTEND;VALUE=DATE:20170905
DTSTAMP:20260424T022831
CREATED:20170819T235410Z
LAST-MODIFIED:20170819T235410Z
UID:247-1504483200-1504569599@www.kerrpto.org
SUMMARY:No School
DESCRIPTION:Enjoy your Labor Day weekend!
URL:https://www.kerrpto.org/event/no-school/
CATEGORIES:district info
END:VEVENT
BEGIN:VEVENT
DTSTART;TZID=UTC:20170831T160000
DTEND;TZID=UTC:20170831T174500
DTSTAMP:20260424T022831
CREATED:20170824T031933Z
LAST-MODIFIED:20170824T031933Z
UID:386-1504195200-1504201500@www.kerrpto.org
SUMMARY:Grade 5 Parent/Teacher Meet & Greet/Camp Allegheny Meeting
DESCRIPTION:begin Meet & greet in assigned classroom and move to the Kerr Multipurpose Room for the Camp Allegheny Meeting
URL:https://www.kerrpto.org/event/grade-5-parentteacher-meet-greetcamp-allegheny-meeting/
LOCATION:Kerr Elementary
CATEGORIES:district info
END:VEVENT
BEGIN:VEVENT
DTSTART;TZID=UTC:20170830T173000
DTEND;TZID=UTC:20170830T183000
DTSTAMP:20260424T022831
CREATED:20170824T031433Z
LAST-MODIFIED:20170824T031433Z
UID:380-1504114200-1504117800@www.kerrpto.org
SUMMARY:Grade 2 Parent/Teacher Meet & Greet
DESCRIPTION:takes place in assigned classroom
URL:https://www.kerrpto.org/event/grade-2-parentteacher-meet-greet/
LOCATION:Kerr Elementary
CATEGORIES:district info
END:VEVENT
BEGIN:VEVENT
DTSTART;TZID=UTC:20170830T163000
DTEND;TZID=UTC:20170830T173000
DTSTAMP:20260424T022831
CREATED:20170824T031210Z
LAST-MODIFIED:20170824T031301Z
UID:376-1504110600-1504114200@www.kerrpto.org
SUMMARY:Grade 1 Parent/Teacher Meet & Greet
DESCRIPTION:Takes place in assigned classroom
URL:https://www.kerrpto.org/event/grace-1-parentteacher-meet-greet/
LOCATION:Kerr Elementary
CATEGORIES:district info
END:VEVENT
BEGIN:VEVENT
DTSTART;TZID=UTC:20170829T163000
DTEND;TZID=UTC:20170829T173000
DTSTAMP:20260424T022831
CREATED:20170824T031607Z
LAST-MODIFIED:20170824T031607Z
UID:382-1504024200-1504027800@www.kerrpto.org
SUMMARY:Grade 3 Parent/Teacher Meet & Greet
DESCRIPTION:takes place in assigned classroom
URL:https://www.kerrpto.org/event/grade-3-parentteacher-meet-greet/
LOCATION:Kerr Elementary
CATEGORIES:district info
END:VEVENT
BEGIN:VEVENT
DTSTART;TZID=UTC:20170828T130000
DTEND;TZID=UTC:20170828T140000
DTSTAMP:20260424T022831
CREATED:20170824T031026Z
LAST-MODIFIED:20170824T031026Z
UID:374-1503925200-1503928800@www.kerrpto.org
SUMMARY:Kindergarten Parent & Student Meet & Greet
DESCRIPTION:Meet & Greets take place inside your assigned classroom
URL:https://www.kerrpto.org/event/kindergarten-parent-student-meet-greet/
LOCATION:Kerr Elementary
CATEGORIES:district info
END:VEVENT
BEGIN:VEVENT
DTSTART;TZID=UTC:20170824T190000
DTEND;TZID=UTC:20170824T200000
DTSTAMP:20260424T022831
CREATED:20170824T173830Z
LAST-MODIFIED:20170824T173830Z
UID:388-1503601200-1503604800@www.kerrpto.org
SUMMARY:Kerr Elementary Construction Meeting #3
DESCRIPTION:
URL:https://www.kerrpto.org/event/kerr-elementary-construction-meeting-3/
LOCATION:Kerr–MultiPurpose Room (MPR)
CATEGORIES:district info
END:VEVENT
END:VCALENDAR