BEGIN:VCALENDAR
VERSION:2.0
PRODID:-//Kerr PTO - ECPv6.15.20//NONSGML v1.0//EN
CALSCALE:GREGORIAN
METHOD:PUBLISH
X-ORIGINAL-URL:https://www.kerrpto.org
X-WR-CALDESC:Events for Kerr PTO
REFRESH-INTERVAL;VALUE=DURATION:PT1H
X-Robots-Tag:noindex
X-PUBLISHED-TTL:PT1H
BEGIN:VTIMEZONE
TZID:UTC
BEGIN:STANDARD
TZOFFSETFROM:+0000
TZOFFSETTO:+0000
TZNAME:UTC
DTSTART:20180101T000000
END:STANDARD
END:VTIMEZONE
BEGIN:VEVENT
DTSTART;TZID=UTC:20250228T160000
DTEND;TZID=UTC:20250307T210000
DTSTAMP:20260423T233319
CREATED:20250225T115641Z
LAST-MODIFIED:20250225T115641Z
UID:3973-1740758400-1741381200@www.kerrpto.org
SUMMARY:Read-A-Thon
DESCRIPTION:
URL:https://www.kerrpto.org/event/read-a-thon/
CATEGORIES:enrichment
ATTACH;FMTTYPE=image/jpeg:https://www.kerrpto.org/wp-content/uploads/2025/02/READ-A-THON-flyer.jpg
END:VEVENT
BEGIN:VEVENT
DTSTART;VALUE=DATE:20250214
DTEND;VALUE=DATE:20250215
DTSTAMP:20260423T233319
CREATED:20240721T011237Z
LAST-MODIFIED:20240721T011237Z
UID:3788-1739491200-1739577599@www.kerrpto.org
SUMMARY:Valentine's Day Class Parties
DESCRIPTION:
URL:https://www.kerrpto.org/event/valentines-day-class-parties-2/
LOCATION:Kerr Elementary
CATEGORIES:class party
ATTACH;FMTTYPE=image/png:https://www.kerrpto.org/wp-content/uploads/2017/08/valentines-class-party.png
END:VEVENT
BEGIN:VEVENT
DTSTART;VALUE=DATE:20241220
DTEND;VALUE=DATE:20241221
DTSTAMP:20260423T233319
CREATED:20240721T010633Z
LAST-MODIFIED:20240721T010633Z
UID:3776-1734652800-1734739199@www.kerrpto.org
SUMMARY:Winter Class Parties
DESCRIPTION:
URL:https://www.kerrpto.org/event/winter-class-parties-2/
LOCATION:Kerr Elementary
CATEGORIES:class party
ATTACH;FMTTYPE=image/jpeg:https://www.kerrpto.org/wp-content/uploads/2017/08/winter-class-party.jpg
END:VEVENT
BEGIN:VEVENT
DTSTART;VALUE=DATE:20241025
DTEND;VALUE=DATE:20241026
DTSTAMP:20260423T233319
CREATED:20240721T010549Z
LAST-MODIFIED:20240804T130219Z
UID:3774-1729814400-1729900799@www.kerrpto.org
SUMMARY:Fall Class Parties
DESCRIPTION:
URL:https://www.kerrpto.org/event/fall-class-parties-4/
LOCATION:Kerr Elementary
CATEGORIES:class party
ATTACH;FMTTYPE=image/jpeg:https://www.kerrpto.org/wp-content/uploads/2017/08/fall-class-party.jpg
END:VEVENT
BEGIN:VEVENT
DTSTART;TZID=UTC:20240214T141500
DTEND;TZID=UTC:20240214T151500
DTSTAMP:20260423T233319
CREATED:20240117T152114Z
LAST-MODIFIED:20240117T152114Z
UID:3671-1707920100-1707923700@www.kerrpto.org
SUMMARY:Valentine's Day Class Parties
DESCRIPTION:
URL:https://www.kerrpto.org/event/valentines-day-class-parties/
LOCATION:Kerr Elementary
CATEGORIES:class party
ATTACH;FMTTYPE=image/png:https://www.kerrpto.org/wp-content/uploads/2017/08/valentines-class-party.png
END:VEVENT
BEGIN:VEVENT
DTSTART;VALUE=DATE:20230918
DTEND;VALUE=DATE:20230919
DTSTAMP:20260423T233319
CREATED:20230918T170431Z
LAST-MODIFIED:20230918T170431Z
UID:3563-1694995200-1695081599@www.kerrpto.org
SUMMARY:Halloween Class Parties
DESCRIPTION:
URL:https://www.kerrpto.org/event/halloween-class-parties/
CATEGORIES:class party
ATTACH;FMTTYPE=image/jpeg:https://www.kerrpto.org/wp-content/uploads/2021/10/halloween.jpg
END:VEVENT
BEGIN:VEVENT
DTSTART;VALUE=DATE:20230310
DTEND;VALUE=DATE:20230311
DTSTAMP:20260423T233319
CREATED:20230221T203917Z
LAST-MODIFIED:20230221T203917Z
UID:3335-1678406400-1678492799@www.kerrpto.org
SUMMARY:Read A Thon Trackers/Sponsor Forms Due
DESCRIPTION:
URL:https://www.kerrpto.org/event/read-a-thon-trackers-sponsor-forms-due/
CATEGORIES:enrichment
ATTACH;FMTTYPE=image/jpeg:https://www.kerrpto.org/wp-content/uploads/2018/06/read-a-thon.jpg
END:VEVENT
BEGIN:VEVENT
DTSTART;VALUE=DATE:20230303
DTEND;VALUE=DATE:20230304
DTSTAMP:20260423T233319
CREATED:20230221T203458Z
LAST-MODIFIED:20230221T203458Z
UID:3324-1677801600-1677887999@www.kerrpto.org
SUMMARY:ASK Classes End
DESCRIPTION:
URL:https://www.kerrpto.org/event/ask-classes-end/
CATEGORIES:enrichment
ATTACH;FMTTYPE=image/png:https://www.kerrpto.org/wp-content/uploads/2018/01/ASK.png
END:VEVENT
BEGIN:VEVENT
DTSTART;VALUE=DATE:20230302
DTEND;VALUE=DATE:20230303
DTSTAMP:20260423T233319
CREATED:20230221T203536Z
LAST-MODIFIED:20230221T203536Z
UID:3326-1677715200-1677801599@www.kerrpto.org
SUMMARY:Math Pentathlon Ends
DESCRIPTION:
URL:https://www.kerrpto.org/event/math-pentathlon-ends/
CATEGORIES:enrichment
ATTACH;FMTTYPE=image/jpeg:https://www.kerrpto.org/wp-content/uploads/2017/08/math.jpg
END:VEVENT
BEGIN:VEVENT
DTSTART;VALUE=DATE:20230221
DTEND;VALUE=DATE:20230222
DTSTAMP:20260423T233319
CREATED:20230221T203709Z
LAST-MODIFIED:20230221T203709Z
UID:3328-1676937600-1677023999@www.kerrpto.org
SUMMARY:Math Pentathlon Game Day
DESCRIPTION:
URL:https://www.kerrpto.org/event/math-pentathlon-game-day/
LOCATION:Dorseyville Middle School\, 3732 Saxonburg Blvd\, Pittsburgh\, PA\, 15238\, United States
CATEGORIES:enrichment
ATTACH;FMTTYPE=image/jpeg:https://www.kerrpto.org/wp-content/uploads/2017/08/math.jpg
END:VEVENT
BEGIN:VEVENT
DTSTART;VALUE=DATE:20230214
DTEND;VALUE=DATE:20230215
DTSTAMP:20260423T233319
CREATED:20220823T011347Z
LAST-MODIFIED:20220823T011358Z
UID:3078-1676332800-1676419199@www.kerrpto.org
SUMMARY:Valentine Class Parties
DESCRIPTION:
URL:https://www.kerrpto.org/event/valentine-class-parties/
CATEGORIES:class party
ATTACH;FMTTYPE=image/png:https://www.kerrpto.org/wp-content/uploads/2017/08/valentines-class-party.png
END:VEVENT
BEGIN:VEVENT
DTSTART;TZID=UTC:20221223T080000
DTEND;TZID=UTC:20221223T170000
DTSTAMP:20260423T233319
CREATED:20220823T010908Z
LAST-MODIFIED:20220823T010908Z
UID:3064-1671782400-1671814800@www.kerrpto.org
SUMMARY:Winter Class Parties
DESCRIPTION:
URL:https://www.kerrpto.org/event/winter-class-parties/
CATEGORIES:class party
ATTACH;FMTTYPE=image/jpeg:https://www.kerrpto.org/wp-content/uploads/2017/08/winter-class-party.jpg
END:VEVENT
BEGIN:VEVENT
DTSTART;TZID=UTC:20221031T080000
DTEND;TZID=UTC:20221031T170000
DTSTAMP:20260423T233319
CREATED:20220823T010754Z
LAST-MODIFIED:20220823T010754Z
UID:3060-1667203200-1667235600@www.kerrpto.org
SUMMARY:Fall Classroom Parties
DESCRIPTION:
URL:https://www.kerrpto.org/event/fall-classroom-parties/
CATEGORIES:class party
ATTACH;FMTTYPE=image/jpeg:https://www.kerrpto.org/wp-content/uploads/2021/10/party.jpg
END:VEVENT
BEGIN:VEVENT
DTSTART;VALUE=DATE:20220214
DTEND;VALUE=DATE:20220215
DTSTAMP:20260423T233319
CREATED:20210714T211817Z
LAST-MODIFIED:20210715T175014Z
UID:2501-1644796800-1644883199@www.kerrpto.org
SUMMARY:Valentine's Day Parties
DESCRIPTION:
URL:https://www.kerrpto.org/event/valentine-parties/
LOCATION:Kerr Elementary
CATEGORIES:class party
ATTACH;FMTTYPE=image/png:https://www.kerrpto.org/wp-content/uploads/2017/08/valentines-class-party.png
END:VEVENT
BEGIN:VEVENT
DTSTART;VALUE=DATE:20211029
DTEND;VALUE=DATE:20211030
DTSTAMP:20260423T233319
CREATED:20211014T154523Z
LAST-MODIFIED:20211014T154523Z
UID:2774-1635465600-1635551999@www.kerrpto.org
SUMMARY:Fall Class Parties
DESCRIPTION:
URL:https://www.kerrpto.org/event/fall-class-parties-3/
CATEGORIES:class party
ATTACH;FMTTYPE=image/jpeg:https://www.kerrpto.org/wp-content/uploads/2021/10/party.jpg
END:VEVENT
BEGIN:VEVENT
DTSTART;TZID=UTC:20210603T080000
DTEND;TZID=UTC:20210603T170000
DTSTAMP:20260423T233319
CREATED:20210322T023746Z
LAST-MODIFIED:20210322T023746Z
UID:2390-1622707200-1622739600@www.kerrpto.org
SUMMARY:Summer Send Off!
DESCRIPTION:
URL:https://www.kerrpto.org/event/summer-send-off-3/
CATEGORIES:class party,enrichment
END:VEVENT
BEGIN:VEVENT
DTSTART;TZID=UTC:20210416T183000
DTEND;TZID=UTC:20210416T200000
DTSTAMP:20260423T233319
CREATED:20210322T022557Z
LAST-MODIFIED:20210322T022557Z
UID:2381-1618597800-1618603200@www.kerrpto.org
SUMMARY:Pittsburgh Night Sky
DESCRIPTION:A night with the Allegheny Observatory learning about the Pittsburgh night sky
URL:https://www.kerrpto.org/event/pittsburgh-night-sky/
CATEGORIES:enrichment,family fun
END:VEVENT
BEGIN:VEVENT
DTSTART;TZID=UTC:20210413T183000
DTEND;TZID=UTC:20210413T200000
DTSTAMP:20260423T233319
CREATED:20210322T022135Z
LAST-MODIFIED:20210322T022135Z
UID:2378-1618338600-1618344000@www.kerrpto.org
SUMMARY:Build a Fox!
DESCRIPTION:Build a Fox event!  If you signed up to participate\, an email with the link to the meet will be sent to you.
URL:https://www.kerrpto.org/event/build-a-fox/
CATEGORIES:enrichment,family fun
END:VEVENT
BEGIN:VEVENT
DTSTART;TZID=UTC:20201030T190000
DTEND;TZID=UTC:20201030T200000
DTSTAMP:20260423T233319
CREATED:20201024T162040Z
LAST-MODIFIED:20201024T162611Z
UID:2155-1604084400-1604088000@www.kerrpto.org
SUMMARY:Virtual Fall Party!
DESCRIPTION:Get ready to dance!  Join us for a virtual party!
URL:https://www.kerrpto.org/event/virtual-fall-party/
CATEGORIES:class party,enrichment
ATTACH;FMTTYPE=image/png:https://www.kerrpto.org/wp-content/uploads/2020/10/Screen-Shot-2020-10-24-at-12.15.31-PM.png
END:VEVENT
BEGIN:VEVENT
DTSTART;TZID=UTC:20201014T000000
DTEND;TZID=UTC:20201014T000000
DTSTAMP:20260423T233319
CREATED:20200926T143238Z
LAST-MODIFIED:20200926T143238Z
UID:2127-1602633600-1602633600@www.kerrpto.org
SUMMARY:Facebook Live with Sara's Pets and Plants
DESCRIPTION:Join us for a Facebook Live event with Sara from Sara’s Pets and Plants to learn about adorable critters!
URL:https://www.kerrpto.org/event/facebook-live-with-saras-pets-and-plants/
CATEGORIES:enrichment
ATTACH;FMTTYPE=image/png:https://www.kerrpto.org/wp-content/uploads/2020/09/Screen-Shot-2020-09-26-at-10.29.44-AM.png
END:VEVENT
BEGIN:VEVENT
DTSTART;VALUE=DATE:20200604
DTEND;VALUE=DATE:20200605
DTSTAMP:20260423T233319
CREATED:20190811T185500Z
LAST-MODIFIED:20190812T230617Z
UID:1606-1591228800-1591315199@www.kerrpto.org
SUMMARY:Summer Send Off!
DESCRIPTION:
URL:https://www.kerrpto.org/event/summer-send-off-2/
LOCATION:Kerr Elementary
CATEGORIES:class party
ATTACH;FMTTYPE=image/jpeg:https://www.kerrpto.org/wp-content/uploads/2017/08/summer-send-off1.jpg
END:VEVENT
BEGIN:VEVENT
DTSTART;TZID=UTC:20200504T080000
DTEND;TZID=UTC:20200508T170000
DTSTAMP:20260423T233319
CREATED:20190811T185114Z
LAST-MODIFIED:20190812T230355Z
UID:1602-1588579200-1588957200@www.kerrpto.org
SUMMARY:TAG Week
DESCRIPTION:
URL:https://www.kerrpto.org/event/tag-week-4/
LOCATION:Kerr Elementary
CATEGORIES:enrichment
ATTACH;FMTTYPE=image/jpeg:https://www.kerrpto.org/wp-content/uploads/2017/08/Mona_Lisa.jpg
END:VEVENT
BEGIN:VEVENT
DTSTART;TZID=UTC:20200309T080000
DTEND;TZID=UTC:20200313T170000
DTSTAMP:20260423T233319
CREATED:20190811T184533Z
LAST-MODIFIED:20190811T184533Z
UID:1598-1583740800-1584118800@www.kerrpto.org
SUMMARY:TAG Week
DESCRIPTION:
URL:https://www.kerrpto.org/event/tag-week-3/
LOCATION:Kerr Elementary
CATEGORIES:enrichment
END:VEVENT
BEGIN:VEVENT
DTSTART;TZID=UTC:20200213T141500
DTEND;TZID=UTC:20200213T151500
DTSTAMP:20260423T233319
CREATED:20190811T184310Z
LAST-MODIFIED:20190812T222121Z
UID:1596-1581603300-1581606900@www.kerrpto.org
SUMMARY:Valentine Party
DESCRIPTION:Valentine Classroom Parties!
URL:https://www.kerrpto.org/event/valentine-party/
LOCATION:Kerr Elementary
CATEGORIES:class party
ATTACH;FMTTYPE=image/png:https://www.kerrpto.org/wp-content/uploads/2017/08/valentines-class-party.png
END:VEVENT
BEGIN:VEVENT
DTSTART;TZID=UTC:20200203T080000
DTEND;TZID=UTC:20200207T170000
DTSTAMP:20260423T233319
CREATED:20190811T184056Z
LAST-MODIFIED:20190812T221718Z
UID:1594-1580716800-1581094800@www.kerrpto.org
SUMMARY:TAG Week
DESCRIPTION:
URL:https://www.kerrpto.org/event/tag-week-2/
LOCATION:Kerr Elementary
CATEGORIES:enrichment
ATTACH;FMTTYPE=image/jpeg:https://www.kerrpto.org/wp-content/uploads/2017/08/TAG.jpg
END:VEVENT
BEGIN:VEVENT
DTSTART;VALUE=DATE:20200130
DTEND;VALUE=DATE:20200131
DTSTAMP:20260423T233319
CREATED:20190811T183854Z
LAST-MODIFIED:20190812T214829Z
UID:1592-1580342400-1580428799@www.kerrpto.org
SUMMARY:Start of Math Pentathlon!
DESCRIPTION:Math Pentathalon starts on Thursday\, January 30th and runs for six consecutive Thursdays.  Last day will be March 5 and Game Day will be Saturday\, March 7th.
URL:https://www.kerrpto.org/event/start-of-math-pentathlon/
LOCATION:Kerr Elementary
CATEGORIES:enrichment
ATTACH;FMTTYPE=image/jpeg:https://www.kerrpto.org/wp-content/uploads/2017/08/math.jpg
END:VEVENT
BEGIN:VEVENT
DTSTART;TZID=UTC:20191220T141500
DTEND;TZID=UTC:20191220T151500
DTSTAMP:20260423T233319
CREATED:20190811T182758Z
LAST-MODIFIED:20190812T231527Z
UID:1584-1576851300-1576854900@www.kerrpto.org
SUMMARY:Holiday Class Parties!
DESCRIPTION:
URL:https://www.kerrpto.org/event/holiday-class-parties-3/
LOCATION:Kerr Elementary
CATEGORIES:class party
ATTACH;FMTTYPE=image/jpeg:https://www.kerrpto.org/wp-content/uploads/2017/08/winter-class-party.jpg
END:VEVENT
BEGIN:VEVENT
DTSTART;TZID=UTC:20191111T080000
DTEND;TZID=UTC:20191115T170000
DTSTAMP:20260423T233319
CREATED:20190811T181240Z
LAST-MODIFIED:20190812T212648Z
UID:1580-1573459200-1573837200@www.kerrpto.org
SUMMARY:TAG Week!
DESCRIPTION:  \n/ \n 
URL:https://www.kerrpto.org/event/tag-week/
LOCATION:Kerr Elementary
CATEGORIES:enrichment
ATTACH;FMTTYPE=image/jpeg:https://www.kerrpto.org/wp-content/uploads/2017/08/TAG.jpg
END:VEVENT
BEGIN:VEVENT
DTSTART;TZID=UTC:20191031T141500
DTEND;TZID=UTC:20191031T151500
DTSTAMP:20260423T233319
CREATED:20190811T181530Z
LAST-MODIFIED:20190812T205136Z
UID:1582-1572531300-1572534900@www.kerrpto.org
SUMMARY:Fall Class Parties
DESCRIPTION: 
URL:https://www.kerrpto.org/event/fall-class-parties-2/
LOCATION:Kerr Elementary
CATEGORIES:class party
ATTACH;FMTTYPE=image/jpeg:https://www.kerrpto.org/wp-content/uploads/2017/08/fall-class-party.jpg
END:VEVENT
BEGIN:VEVENT
DTSTART;TZID=UTC:20191014T083000
DTEND;TZID=UTC:20191018T153000
DTSTAMP:20260423T233319
CREATED:20190813T014840Z
LAST-MODIFIED:20190930T005516Z
UID:1680-1571041800-1571412600@www.kerrpto.org
SUMMARY:Book Sale!
DESCRIPTION:Book Sale will be October 11 and October 14 –  18 from 8:30 am – 3:30 pm.
URL:https://www.kerrpto.org/event/book-sale-2/
CATEGORIES:enrichment
ATTACH;FMTTYPE=image/jpeg:https://www.kerrpto.org/wp-content/uploads/2018/08/book-fair.jpg
END:VEVENT
END:VCALENDAR