BEGIN:VCALENDAR
VERSION:2.0
PRODID:-//Kerr PTO - ECPv6.15.20//NONSGML v1.0//EN
CALSCALE:GREGORIAN
METHOD:PUBLISH
X-WR-CALNAME:Kerr PTO
X-ORIGINAL-URL:https://www.kerrpto.org
X-WR-CALDESC:Events for Kerr PTO
REFRESH-INTERVAL;VALUE=DURATION:PT1H
X-Robots-Tag:noindex
X-PUBLISHED-TTL:PT1H
BEGIN:VTIMEZONE
TZID:UTC
BEGIN:STANDARD
TZOFFSETFROM:+0000
TZOFFSETTO:+0000
TZNAME:UTC
DTSTART:20230101T000000
END:STANDARD
END:VTIMEZONE
BEGIN:VEVENT
DTSTART;TZID=UTC:20241113T160000
DTEND;TZID=UTC:20241113T200000
DTSTAMP:20260425T003817
CREATED:20240903T164508Z
LAST-MODIFIED:20240903T164859Z
UID:3866-1731513600-1731528000@www.kerrpto.org
SUMMARY:Chipotle Dine and Donate
DESCRIPTION:
URL:https://www.kerrpto.org/event/chipotle-dine-and-donate-5/
LOCATION:Chipotle at the Waterworks
CATEGORIES:dine & donate,fundraiser
ATTACH;FMTTYPE=image/jpeg:https://www.kerrpto.org/wp-content/uploads/2024/09/Chipotle-1.jpg
END:VEVENT
BEGIN:VEVENT
DTSTART;VALUE=DATE:20241121
DTEND;VALUE=DATE:20241122
DTSTAMP:20260425T003817
CREATED:20241121T185908Z
LAST-MODIFIED:20241121T185908Z
UID:3914-1732147200-1732233599@www.kerrpto.org
SUMMARY:Five Guys Dine and Donate
DESCRIPTION:
URL:https://www.kerrpto.org/event/five-guys-dine-and-donate/
LOCATION:Five Guys in Waterworks\, 1029 Freeport Road\, Pittsburgh\, PA\, 15215
CATEGORIES:dine & donate,fundraiser
END:VEVENT
END:VCALENDAR