BEGIN:VCALENDAR
VERSION:2.0
PRODID:-//Kerr PTO - ECPv6.15.20//NONSGML v1.0//EN
CALSCALE:GREGORIAN
METHOD:PUBLISH
X-ORIGINAL-URL:https://www.kerrpto.org
X-WR-CALDESC:Events for Kerr PTO
REFRESH-INTERVAL;VALUE=DURATION:PT1H
X-Robots-Tag:noindex
X-PUBLISHED-TTL:PT1H
BEGIN:VTIMEZONE
TZID:UTC
BEGIN:STANDARD
TZOFFSETFROM:+0000
TZOFFSETTO:+0000
TZNAME:UTC
DTSTART:20220101T000000
END:STANDARD
END:VTIMEZONE
BEGIN:VEVENT
DTSTART;TZID=UTC:20231115T110000
DTEND;TZID=UTC:20231115T230000
DTSTAMP:20260426T014529
CREATED:20231027T193641Z
LAST-MODIFIED:20231027T193641Z
UID:3609-1700046000-1700089200@www.kerrpto.org
SUMMARY:Primanti's Dine and Donate
DESCRIPTION:
URL:https://www.kerrpto.org/event/primantis-dine-and-donate-2/
CATEGORIES:dine & donate,fundraiser
ATTACH;FMTTYPE=image/png:https://www.kerrpto.org/wp-content/uploads/2023/10/PrimantiBros-2023-08-Fundraising-Flyer-8_5x11-r01-BLANK.png
END:VEVENT
END:VCALENDAR