BEGIN:VCALENDAR
VERSION:2.0
PRODID:-//Kerr PTO - ECPv6.15.20//NONSGML v1.0//EN
CALSCALE:GREGORIAN
METHOD:PUBLISH
X-ORIGINAL-URL:https://www.kerrpto.org
X-WR-CALDESC:Events for Kerr PTO
REFRESH-INTERVAL;VALUE=DURATION:PT1H
X-Robots-Tag:noindex
X-PUBLISHED-TTL:PT1H
BEGIN:VTIMEZONE
TZID:UTC
BEGIN:STANDARD
TZOFFSETFROM:+0000
TZOFFSETTO:+0000
TZNAME:UTC
DTSTART:20160101T000000
END:STANDARD
END:VTIMEZONE
BEGIN:VEVENT
DTSTART;VALUE=DATE:20171101
DTEND;VALUE=DATE:20171117
DTSTAMP:20260424T111927
CREATED:20170819T231845Z
LAST-MODIFIED:20171105T060018Z
UID:239-1509494400-1510876799@www.kerrpto.org
SUMMARY:Poinsettia Fundraiser
DESCRIPTION:The order form will be sent home with your student. \nOrders are due by Thursday\, Nov. 16 Pick up is Friday\, Dec 1st in the MPR 8:30-10:30am or 3:30-6:00pm\nFor questions\, contact Kelly Cannon 412.334.2932 or kellycannon1@gmail.com \n2017 Greenery Sale –if you lost your form or want to send it out to others.
URL:https://www.kerrpto.org/event/poinsettia-fundraiser/
CATEGORIES:fundraiser
ATTACH;FMTTYPE=image/jpeg:https://www.kerrpto.org/wp-content/uploads/2017/08/poinsettia.jpg
END:VEVENT
BEGIN:VEVENT
DTSTART;TZID=UTC:20171026T180000
DTEND;TZID=UTC:20171026T200000
DTSTAMP:20260424T111927
CREATED:20170819T211445Z
LAST-MODIFIED:20170927T044519Z
UID:229-1509040800-1509048000@www.kerrpto.org
SUMMARY:PTO Bake Sale during Open House
DESCRIPTION:Stop by our bake sale table while you are the Open House! \nDonations will be accepted for sale items–not a baker\, not a problem! Store bought\, packaged sweet or salty snacks\, drinks–all gladly accepted and appreciated! \nCheck out our link to sign up to donate items and we also need some table help–broken up into 30 minute increments so everyone can enjoy the Open House as well. \nMembership applications and donations will also be available during Open House!
URL:https://www.kerrpto.org/event/pto-bake-sale-during-open-house/
LOCATION:Kerr Elementary
CATEGORIES:fundraiser
ATTACH;FMTTYPE=image/jpeg:https://www.kerrpto.org/wp-content/uploads/2017/08/bake-sale.jpg
END:VEVENT
BEGIN:VEVENT
DTSTART;TZID=UTC:20171025T080000
DTEND;TZID=UTC:20171025T170000
DTSTAMP:20260424T111927
CREATED:20171025T175310Z
LAST-MODIFIED:20171025T175310Z
UID:630-1508918400-1508950800@www.kerrpto.org
SUMMARY:Poinsettia & Greenery Sale Pick Up
DESCRIPTION:PICK UP TIMES:  Friday\, Dec 1st in the MPR 8:30-10:30am or 3:30-6:00pm \n  \nFor questions\, contact Kelly Cannon 412.334.2932 or kellycannon1@gmail.com
URL:https://www.kerrpto.org/event/poinsettia-greenery-sale-pick-up/
LOCATION:Kerr–MultiPurpose Room (MPR)
CATEGORIES:fundraiser
ATTACH;FMTTYPE=image/jpeg:https://www.kerrpto.org/wp-content/uploads/2017/08/poinsettia.jpg
END:VEVENT
BEGIN:VEVENT
DTSTART;TZID=UTC:20171002T160000
DTEND;TZID=UTC:20171002T210000
DTSTAMP:20260424T111927
CREATED:20170819T203219Z
LAST-MODIFIED:20170926T044301Z
UID:220-1506960000-1506978000@www.kerrpto.org
SUMMARY:Dine & Donate: Chipotle Night
DESCRIPTION:  \nLet Chipotle do your cooking for dinner and 50% of the proceeds go to the Kerr PTO! \nEat in or take out!  If you order online\, you must chose the PAY IN STORE option for the KPTO to benefit.  Just tell the cashier you are supporting the Kerr PTO–you can show them the flyer sent home (Oct_Chipotle_Flyer 2017)\, an image of the flyer on your phone\, or just use your words–it all counts the same!
URL:https://www.kerrpto.org/event/chipotle-night/
LOCATION:Chipotle at the Waterworks
CATEGORIES:dine & donate,fundraiser
ATTACH;FMTTYPE=image/jpeg:https://www.kerrpto.org/wp-content/uploads/2017/08/dine-and-donate.jpg
END:VEVENT
BEGIN:VEVENT
DTSTART;VALUE=DATE:20170911
DTEND;VALUE=DATE:20170926
DTSTAMP:20260424T111927
CREATED:20170819T235754Z
LAST-MODIFIED:20170819T235754Z
UID:249-1505088000-1506383999@www.kerrpto.org
SUMMARY:Kid Stuff Books Fundraiser
DESCRIPTION:More info to come \nUnsold books need to be returned by 9/25
URL:https://www.kerrpto.org/event/kid-stuff-books-fundraiser/
CATEGORIES:fundraiser
END:VEVENT
BEGIN:VEVENT
DTSTART;VALUE=DATE:20170906
DTEND;VALUE=DATE:20170914
DTSTAMP:20260424T111927
CREATED:20170820T003116Z
LAST-MODIFIED:20181019T012503Z
UID:260-1504656000-1505347199@www.kerrpto.org
SUMMARY:Spirit Wear Sale--Orders Due
DESCRIPTION:Show your Fox Chapel pride while supporting your PTO! \nOrder forms were sent home or you can order online here.  Orders are due by 9/13. \n100% cotton\n$13 short sleeve\n$15 long sleeve\nSizes:\nyouth XS-XL\nladies (semi-fitted contoured) S-2XL\nadult S-5XL\n(add $2 for 2XL and up)\n\nPerformance 100% polyester: moisture-wicking & anti-microbial\n$15 short sleeve\n$17 long sleeve\n\nSizes:\nyouth XS-XL\nladies (semi-fitted contoured) S-2XL\nadult S-3XL\n(add $2 for 2XL and up)\n\n*online prices are $0.75 more to offset processing fees
URL:https://www.kerrpto.org/event/2017sale/
CATEGORIES:fundraiser
ATTACH;FMTTYPE=image/png:https://www.kerrpto.org/wp-content/uploads/2017/06/fox-chapel-logo_orig.png
END:VEVENT
END:VCALENDAR