BEGIN:VCALENDAR
VERSION:2.0
PRODID:-//Kerr PTO - ECPv6.15.20//NONSGML v1.0//EN
CALSCALE:GREGORIAN
METHOD:PUBLISH
X-ORIGINAL-URL:https://www.kerrpto.org
X-WR-CALDESC:Events for Kerr PTO
REFRESH-INTERVAL;VALUE=DURATION:PT1H
X-Robots-Tag:noindex
X-PUBLISHED-TTL:PT1H
BEGIN:VTIMEZONE
TZID:UTC
BEGIN:STANDARD
TZOFFSETFROM:+0000
TZOFFSETTO:+0000
TZNAME:UTC
DTSTART:20240101T000000
END:STANDARD
END:VTIMEZONE
BEGIN:VEVENT
DTSTART;VALUE=DATE:20250425
DTEND;VALUE=DATE:20250426
DTSTAMP:20260425T124011
CREATED:20250319T191358Z
LAST-MODIFIED:20250319T191411Z
UID:4002-1745539200-1745625599@www.kerrpto.org
SUMMARY:Pepperoni Roll Pickup
DESCRIPTION:Pepperoni Roll Sale
URL:https://www.kerrpto.org/event/pepperoni-roll-pickup-3/
CATEGORIES:fundraiser
END:VEVENT
BEGIN:VEVENT
DTSTART;VALUE=DATE:20250506
DTEND;VALUE=DATE:20250507
DTSTAMP:20260425T124011
CREATED:20250422T010912Z
LAST-MODIFIED:20250422T010932Z
UID:4030-1746489600-1746575999@www.kerrpto.org
SUMMARY:Spring Flower Orders Due
DESCRIPTION:kerrpto.org/springflower \n 
URL:https://www.kerrpto.org/event/spring-flower-orders-due/
CATEGORIES:fundraiser
ATTACH;FMTTYPE=image/jpeg:https://www.kerrpto.org/wp-content/uploads/2022/04/early-spring-flowers-3572236-hero-18de44e120644c5a8535a0c6ba14cf63-1-scaled.jpg
END:VEVENT
BEGIN:VEVENT
DTSTART;VALUE=DATE:20250514
DTEND;VALUE=DATE:20250515
DTSTAMP:20260425T124011
CREATED:20250329T221013Z
LAST-MODIFIED:20250506T153343Z
UID:4016-1747180800-1747267199@www.kerrpto.org
SUMMARY:Spring Raffle Tickets Due
DESCRIPTION:
URL:https://www.kerrpto.org/event/spring-raffle-tickets-due/
CATEGORIES:fundraiser
ATTACH;FMTTYPE=image/jpeg:https://www.kerrpto.org/wp-content/uploads/2025/03/Hershey-Raffle-3.jpg
END:VEVENT
BEGIN:VEVENT
DTSTART;TZID=UTC:20250514T170000
DTEND;TZID=UTC:20250514T200000
DTSTAMP:20260425T124011
CREATED:20250226T190408Z
LAST-MODIFIED:20250226T190408Z
UID:3978-1747242000-1747252800@www.kerrpto.org
SUMMARY:Chipotle Dine and Donate
DESCRIPTION:
URL:https://www.kerrpto.org/event/chipotle-dine-and-donate-7/
CATEGORIES:dine & donate,fundraiser
ATTACH;FMTTYPE=image/jpeg:https://www.kerrpto.org/wp-content/uploads/2024/09/Chipotle-1.jpg
END:VEVENT
BEGIN:VEVENT
DTSTART;VALUE=DATE:20250516
DTEND;VALUE=DATE:20250517
DTSTAMP:20260425T124011
CREATED:20250329T221103Z
LAST-MODIFIED:20250506T153433Z
UID:4019-1747353600-1747439999@www.kerrpto.org
SUMMARY:Spring Raffle Drawing on Facebook Live
DESCRIPTION:
URL:https://www.kerrpto.org/event/spring-raffle-drawing-on-facebook-live/
CATEGORIES:fundraiser
END:VEVENT
BEGIN:VEVENT
DTSTART;TZID=UTC:20250516T150000
DTEND;TZID=UTC:20250516T180000
DTSTAMP:20260425T124011
CREATED:20250422T011030Z
LAST-MODIFIED:20250422T011030Z
UID:4033-1747407600-1747418400@www.kerrpto.org
SUMMARY:Spring Flower Sale Pickup
DESCRIPTION:
URL:https://www.kerrpto.org/event/spring-flower-sale-pickup/
LOCATION:Pleasant Valley VFW
CATEGORIES:fundraiser
ATTACH;FMTTYPE=image/jpeg:https://www.kerrpto.org/wp-content/uploads/2022/04/early-spring-flowers-3572236-hero-18de44e120644c5a8535a0c6ba14cf63-scaled.jpg
END:VEVENT
END:VCALENDAR