BEGIN:VCALENDAR
VERSION:2.0
PRODID:-//Kerr PTO - ECPv6.15.20//NONSGML v1.0//EN
CALSCALE:GREGORIAN
METHOD:PUBLISH
X-ORIGINAL-URL:https://www.kerrpto.org
X-WR-CALDESC:Events for Kerr PTO
REFRESH-INTERVAL;VALUE=DURATION:PT1H
X-Robots-Tag:noindex
X-PUBLISHED-TTL:PT1H
BEGIN:VTIMEZONE
TZID:UTC
BEGIN:STANDARD
TZOFFSETFROM:+0000
TZOFFSETTO:+0000
TZNAME:UTC
DTSTART:20240101T000000
END:STANDARD
END:VTIMEZONE
BEGIN:VEVENT
DTSTART;TZID=UTC:20250516T150000
DTEND;TZID=UTC:20250516T180000
DTSTAMP:20260425T153355
CREATED:20250422T011030Z
LAST-MODIFIED:20250422T011030Z
UID:4033-1747407600-1747418400@www.kerrpto.org
SUMMARY:Spring Flower Sale Pickup
DESCRIPTION:
URL:https://www.kerrpto.org/event/spring-flower-sale-pickup/
LOCATION:Pleasant Valley VFW
CATEGORIES:fundraiser
ATTACH;FMTTYPE=image/jpeg:https://www.kerrpto.org/wp-content/uploads/2022/04/early-spring-flowers-3572236-hero-18de44e120644c5a8535a0c6ba14cf63-scaled.jpg
END:VEVENT
END:VCALENDAR