BEGIN:VCALENDAR
VERSION:2.0
PRODID:-//Kerr PTO - ECPv6.15.20//NONSGML v1.0//EN
CALSCALE:GREGORIAN
METHOD:PUBLISH
X-ORIGINAL-URL:https://www.kerrpto.org
X-WR-CALDESC:Events for Kerr PTO
REFRESH-INTERVAL;VALUE=DURATION:PT1H
X-Robots-Tag:noindex
X-PUBLISHED-TTL:PT1H
BEGIN:VTIMEZONE
TZID:UTC
BEGIN:STANDARD
TZOFFSETFROM:+0000
TZOFFSETTO:+0000
TZNAME:UTC
DTSTART:20160101T000000
END:STANDARD
END:VTIMEZONE
BEGIN:VEVENT
DTSTART;TZID=UTC:20181107T181500
DTEND;TZID=UTC:20181107T194500
DTSTAMP:20260424T021900
CREATED:20180420T150230Z
LAST-MODIFIED:20180420T150230Z
UID:887-1541614500-1541619900@www.kerrpto.org
SUMMARY:PTO Meeting @Sharpsburg Library
DESCRIPTION:Join us at the Sharpsburg Library for our PTO meeting! It’s our first ever meeting at this location.  The library has limited parking along the side of the building and there is also a metered lot at the corner of 13th and Main (enter from Main St) that the borough has given us permission to park in during the meeting (without feeding the meter).
URL:https://www.kerrpto.org/event/pto-meeting-sharpsburg-library/
LOCATION:Sharpsburg Library\, 1212 Main St\, Sharpsburg\, PA\, 15215
CATEGORIES:General Meeting
ATTACH;FMTTYPE=image/jpeg:https://www.kerrpto.org/wp-content/uploads/2017/08/PTO-Meeting-Reminder-Image.jpg
END:VEVENT
BEGIN:VEVENT
DTSTART;TZID=UTC:20181003T181500
DTEND;TZID=UTC:20181003T193000
DTSTAMP:20260424T021900
CREATED:20180420T134248Z
LAST-MODIFIED:20180420T135436Z
UID:877-1538590500-1538595000@www.kerrpto.org
SUMMARY:PTO Meeting
DESCRIPTION:
URL:https://www.kerrpto.org/event/pto-meeting-9/
LOCATION:Kerr–Upstairs Conference Room
CATEGORIES:General Meeting
ATTACH;FMTTYPE=image/jpeg:https://www.kerrpto.org/wp-content/uploads/2017/08/PTO-Meeting-Reminder-Image.jpg
END:VEVENT
BEGIN:VEVENT
DTSTART;TZID=UTC:20180829T180000
DTEND;TZID=UTC:20180829T200000
DTSTAMP:20260424T021900
CREATED:20180420T133453Z
LAST-MODIFIED:20180605T193444Z
UID:869-1535565600-1535572800@www.kerrpto.org
SUMMARY:Involvement Fair & 1st Meeting
DESCRIPTION:A great time to come and check out all the ways you can get involved with your Parent Teacher Organization. \nThe fair will be followed by our first PTO meeting of the year. \nSpecial Meeting Presenter\, Ashley Nestor: As the Fox Chapel Area executive director of elementary education and instruction\, Dr. Nestor oversees the curriculum\, instruction\, and assessment programs for students across the four elementary schools \n  \n  \n  \n  \n  \n 
URL:https://www.kerrpto.org/event/involvement-fair-1st-meeting/
LOCATION:Kerr–MultiPurpose Room (MPR)
CATEGORIES:General Meeting,Informational Event
ATTACH;FMTTYPE=image/jpeg:https://www.kerrpto.org/wp-content/uploads/2017/08/Kerr-PTO-Involvement-Fair.jpg
END:VEVENT
BEGIN:VEVENT
DTSTART;TZID=UTC:20180523T183000
DTEND;TZID=UTC:20180523T193000
DTSTAMP:20260424T021900
CREATED:20180226T032957Z
LAST-MODIFIED:20180226T032957Z
UID:742-1527100200-1527103800@www.kerrpto.org
SUMMARY:PTO Meeting
DESCRIPTION:Open to all Kerr Families and staff! Held in the 2nd floor conference room at the top of the stairs.
URL:https://www.kerrpto.org/event/pto-meeting-8/
LOCATION:Kerr–Upstairs Conference Room
CATEGORIES:General Meeting
ATTACH;FMTTYPE=image/jpeg:https://www.kerrpto.org/wp-content/uploads/2017/08/PTO-Meeting-Reminder-Image.jpg
END:VEVENT
BEGIN:VEVENT
DTSTART;TZID=UTC:20180404T091500
DTEND;TZID=UTC:20180404T103000
DTSTAMP:20260424T021900
CREATED:20170826T041622Z
LAST-MODIFIED:20170826T041622Z
UID:417-1522833300-1522837800@www.kerrpto.org
SUMMARY:PTO Meeting
DESCRIPTION:Open to all Kerr Families and staff! Held in the 2nd floor conference room at the top of the stairs.
URL:https://www.kerrpto.org/event/pto-meeting-7/
LOCATION:PA
CATEGORIES:General Meeting
ATTACH;FMTTYPE=image/jpeg:https://www.kerrpto.org/wp-content/uploads/2017/08/PTO-Meeting-Reminder-Image.jpg
END:VEVENT
BEGIN:VEVENT
DTSTART;TZID=UTC:20180307T183000
DTEND;TZID=UTC:20180307T193000
DTSTAMP:20260424T021900
CREATED:20170826T041451Z
LAST-MODIFIED:20170826T041451Z
UID:415-1520447400-1520451000@www.kerrpto.org
SUMMARY:PTO Meeting
DESCRIPTION:Open to all Kerr Families and staff! Held in the 2nd floor conference room at the top of the stairs.
URL:https://www.kerrpto.org/event/pto-meeting-6/
LOCATION:Kerr–Upstairs Conference Room
CATEGORIES:General Meeting
ATTACH;FMTTYPE=image/jpeg:https://www.kerrpto.org/wp-content/uploads/2017/08/PTO-Meeting-Reminder-Image.jpg
END:VEVENT
BEGIN:VEVENT
DTSTART;TZID=UTC:20180207T091500
DTEND;TZID=UTC:20180207T103000
DTSTAMP:20260424T021900
CREATED:20170826T021956Z
LAST-MODIFIED:20170826T021956Z
UID:402-1517994900-1517999400@www.kerrpto.org
SUMMARY:PTO Meeting
DESCRIPTION:Open to all Kerr Families and staff! Held in the 2nd floor conference room at the top of the stairs.
URL:https://www.kerrpto.org/event/pto-meeting-5/
LOCATION:Kerr–Upstairs Conference Room
CATEGORIES:General Meeting
ATTACH;FMTTYPE=image/jpeg:https://www.kerrpto.org/wp-content/uploads/2017/08/PTO-Meeting-Reminder-Image.jpg
END:VEVENT
BEGIN:VEVENT
DTSTART;TZID=UTC:20180103T183000
DTEND;TZID=UTC:20180103T193000
DTSTAMP:20260424T021900
CREATED:20170826T011504Z
LAST-MODIFIED:20170826T011713Z
UID:391-1515004200-1515007800@www.kerrpto.org
SUMMARY:PTO Meeting
DESCRIPTION:Open to all Kerr Families and staff! Held in the 2nd floor conference room at the top of the stairs.
URL:https://www.kerrpto.org/event/pto-meeting-4/
LOCATION:Kerr–Upstairs Conference Room
CATEGORIES:General Meeting
ATTACH;FMTTYPE=image/jpeg:https://www.kerrpto.org/wp-content/uploads/2017/08/PTO-Meeting-Reminder-Image.jpg
END:VEVENT
BEGIN:VEVENT
DTSTART;TZID=UTC:20171206T183000
DTEND;TZID=UTC:20171206T193000
DTSTAMP:20260424T021900
CREATED:20170820T014345Z
LAST-MODIFIED:20170820T020014Z
UID:271-1512585000-1512588600@www.kerrpto.org
SUMMARY:PTO Meeting
DESCRIPTION:Open to all Kerr Families and staff! Held in the 2nd floor conference room at the top of the stairs.
URL:https://www.kerrpto.org/event/pto-meeting-3/
LOCATION:Kerr–Upstairs Conference Room
CATEGORIES:General Meeting
ATTACH;FMTTYPE=image/jpeg:https://www.kerrpto.org/wp-content/uploads/2017/08/PTO-Meeting-Reminder-Image.jpg
END:VEVENT
BEGIN:VEVENT
DTSTART;TZID=UTC:20171101T091500
DTEND;TZID=UTC:20171101T101500
DTSTAMP:20260424T021900
CREATED:20170819T230913Z
LAST-MODIFIED:20170820T020240Z
UID:236-1509527700-1509531300@www.kerrpto.org
SUMMARY:Morning PTO Meeting
DESCRIPTION:Open to all Kerr Families and staff! Held in the 2nd floor conference room at the top of the stairs
URL:https://www.kerrpto.org/event/morning-pto-meeting/
LOCATION:PA
CATEGORIES:General Meeting
ATTACH;FMTTYPE=image/jpeg:https://www.kerrpto.org/wp-content/uploads/2017/08/PTO-Meeting-Reminder-Image.jpg
END:VEVENT
BEGIN:VEVENT
DTSTART;TZID=UTC:20171004T183000
DTEND;TZID=UTC:20171004T193000
DTSTAMP:20260424T021900
CREATED:20170819T203753Z
LAST-MODIFIED:20170819T203753Z
UID:224-1507141800-1507145400@www.kerrpto.org
SUMMARY:PTO Meeting
DESCRIPTION:Open to all Kerr Families and staff! Held in the 2nd floor conference room at the top of the stairs.
URL:https://www.kerrpto.org/event/pto-meeting-2/
LOCATION:Kerr–Upstairs Conference Room
CATEGORIES:General Meeting
ATTACH;FMTTYPE=image/jpeg:https://www.kerrpto.org/wp-content/uploads/2017/08/PTO-Meeting-Reminder-Image.jpg
END:VEVENT
BEGIN:VEVENT
DTSTART;TZID=UTC:20170906T183000
DTEND;TZID=UTC:20170906T190000
DTSTAMP:20260424T021900
CREATED:20170819T201445Z
LAST-MODIFIED:20170820T020819Z
UID:213-1504722600-1504724400@www.kerrpto.org
SUMMARY:PTO Meeting
DESCRIPTION:First meeting of the school year!  Will be held in the Multi-Purpose room–come early for the PTO Involvement Fair.
URL:https://www.kerrpto.org/event/pto-meeting/
LOCATION:Kerr–MultiPurpose Room (MPR)
CATEGORIES:General Meeting
ATTACH;FMTTYPE=image/jpeg:https://www.kerrpto.org/wp-content/uploads/2017/08/PTO-Meeting-Reminder-Image.jpg
END:VEVENT
END:VCALENDAR