BEGIN:VCALENDAR
VERSION:2.0
PRODID:-//Kerr PTO - ECPv6.15.20//NONSGML v1.0//EN
CALSCALE:GREGORIAN
METHOD:PUBLISH
X-ORIGINAL-URL:https://www.kerrpto.org
X-WR-CALDESC:Events for Kerr PTO
REFRESH-INTERVAL;VALUE=DURATION:PT1H
X-Robots-Tag:noindex
X-PUBLISHED-TTL:PT1H
BEGIN:VTIMEZONE
TZID:UTC
BEGIN:STANDARD
TZOFFSETFROM:+0000
TZOFFSETTO:+0000
TZNAME:UTC
DTSTART:20160101T000000
END:STANDARD
END:VTIMEZONE
BEGIN:VEVENT
DTSTART;TZID=UTC:20210824T160000
DTEND;TZID=UTC:20210824T170000
DTSTAMP:20260424T142934
CREATED:20210715T164214Z
LAST-MODIFIED:20210715T164214Z
UID:2588-1629820800-1629824400@www.kerrpto.org
SUMMARY:1st Grade Meet and Greet
DESCRIPTION:
URL:https://www.kerrpto.org/event/1st-grade-meet-and-greet/
CATEGORIES:Informational Event
ATTACH;FMTTYPE=image/jpeg:https://www.kerrpto.org/wp-content/uploads/2021/07/first-grade-clipart_773806.jpg
END:VEVENT
BEGIN:VEVENT
DTSTART;TZID=UTC:20210823T163000
DTEND;TZID=UTC:20210823T173000
DTSTAMP:20260424T142934
CREATED:20210715T164559Z
LAST-MODIFIED:20210715T164632Z
UID:2594-1629736200-1629739800@www.kerrpto.org
SUMMARY:3rd Grade Meet and Greet
DESCRIPTION:
URL:https://www.kerrpto.org/event/3rd-grade-meet-and-greet/
CATEGORIES:Informational Event
ATTACH;FMTTYPE=image/jpeg:https://www.kerrpto.org/wp-content/uploads/2021/07/3rd-grade.jpg
END:VEVENT
BEGIN:VEVENT
DTSTART;TZID=UTC:20210823T140000
DTEND;TZID=UTC:20210823T150000
DTSTAMP:20260424T142934
CREATED:20210715T163800Z
LAST-MODIFIED:20210715T163800Z
UID:2580-1629727200-1629730800@www.kerrpto.org
SUMMARY:PreK Meet and Greet
DESCRIPTION:
URL:https://www.kerrpto.org/event/prek-meet-and-greet/
CATEGORIES:Informational Event
ATTACH;FMTTYPE=image/jpeg:https://www.kerrpto.org/wp-content/uploads/2021/07/large_91bc8377-20b0-4433-bfca-26bde44e6752.jpg
END:VEVENT
BEGIN:VEVENT
DTSTART;TZID=UTC:20210823T130000
DTEND;TZID=UTC:20210823T140000
DTSTAMP:20260424T142934
CREATED:20210715T164036Z
LAST-MODIFIED:20210715T164036Z
UID:2585-1629723600-1629727200@www.kerrpto.org
SUMMARY:Kindergarten Meet and Greet
DESCRIPTION:
URL:https://www.kerrpto.org/event/kindergarten-meet-and-greet/
CATEGORIES:Informational Event
ATTACH;FMTTYPE=image/jpeg:https://www.kerrpto.org/wp-content/uploads/2021/07/Kindergarten-Heading.jpg
END:VEVENT
BEGIN:VEVENT
DTSTART;TZID=UTC:20190828T180000
DTEND;TZID=UTC:20190828T200000
DTSTAMP:20260424T142934
CREATED:20190811T180105Z
LAST-MODIFIED:20190812T194241Z
UID:1574-1567015200-1567022400@www.kerrpto.org
SUMMARY:Involvement Fair and First PTO meeting
DESCRIPTION:Come see what the PTO is all about and different opportunities to get involved!  The first PTO meeting of the year is immediately following the involvement fair.
URL:https://www.kerrpto.org/event/involvement-fair-and-first-pto-meeting/
LOCATION:Kerr Elementary
CATEGORIES:General Meeting,Informational Event
ATTACH;FMTTYPE=image/jpeg:https://www.kerrpto.org/wp-content/uploads/2017/08/Kerr-PTO-Involvement-Fair.jpg
END:VEVENT
BEGIN:VEVENT
DTSTART;TZID=UTC:20181115T170000
DTEND;TZID=UTC:20181115T170000
DTSTAMP:20260424T142934
CREATED:20180828T044546Z
LAST-MODIFIED:20180926T022603Z
UID:1247-1542301200-1542301200@www.kerrpto.org
SUMMARY:Title 1 Parent Meeting
DESCRIPTION:
URL:https://www.kerrpto.org/event/title-1-parent-meeting-2/
LOCATION:Kerr Elementary
CATEGORIES:district info,Informational Event
END:VEVENT
BEGIN:VEVENT
DTSTART;TZID=UTC:20181115T093000
DTEND;TZID=UTC:20181115T093000
DTSTAMP:20260424T142934
CREATED:20180828T044437Z
LAST-MODIFIED:20180926T022658Z
UID:1245-1542274200-1542274200@www.kerrpto.org
SUMMARY:Title 1 Parent Meeting
DESCRIPTION:
URL:https://www.kerrpto.org/event/title-1-parent-meeting/
LOCATION:Kerr Elementary
CATEGORIES:district info,Informational Event
END:VEVENT
BEGIN:VEVENT
DTSTART;TZID=UTC:20180829T180000
DTEND;TZID=UTC:20180829T200000
DTSTAMP:20260424T142934
CREATED:20180420T133453Z
LAST-MODIFIED:20180605T193444Z
UID:869-1535565600-1535572800@www.kerrpto.org
SUMMARY:Involvement Fair & 1st Meeting
DESCRIPTION:A great time to come and check out all the ways you can get involved with your Parent Teacher Organization. \nThe fair will be followed by our first PTO meeting of the year. \nSpecial Meeting Presenter\, Ashley Nestor: As the Fox Chapel Area executive director of elementary education and instruction\, Dr. Nestor oversees the curriculum\, instruction\, and assessment programs for students across the four elementary schools \n  \n  \n  \n  \n  \n 
URL:https://www.kerrpto.org/event/involvement-fair-1st-meeting/
LOCATION:Kerr–MultiPurpose Room (MPR)
CATEGORIES:General Meeting,Informational Event
ATTACH;FMTTYPE=image/jpeg:https://www.kerrpto.org/wp-content/uploads/2017/08/Kerr-PTO-Involvement-Fair.jpg
END:VEVENT
BEGIN:VEVENT
DTSTART;TZID=UTC:20180320T183000
DTEND;TZID=UTC:20180320T183000
DTSTAMP:20260424T142934
CREATED:20180303T033821Z
LAST-MODIFIED:20180303T033930Z
UID:781-1521570600-1521570600@www.kerrpto.org
SUMMARY:Public Meeting on the New Kerr Building
DESCRIPTION:The Fox Chapel Area School District administration is hosting a community meeting to discuss the upcoming construction of a new Kerr Elementary School. The meeting will be held Tuesday\, March 20\, 2018\, at 6:30 p.m. in the Kerr Elementary School multipurpose room. The meeting will include information from the district administration\, as well as presentations by the project architect\, Canzian/Johnston & Associates LLC\, and by a representative from Thomas & Williamson Project Management\, the construction managers. \nA new Kerr Elementary School is planned to be built on the current Kerr School property. Construction is slated to begin this spring\, with the project scheduled to be substantially completed in the fall of 2019. The district has held four community meetings on the project since April of 2017\, as well as an Act 34 Hearing. It is anticipated that this will be the final public information meeting prior to the beginning of construction. \nKerr Elementary School is located at 341 Kittanning Pike in O’Hara Township.
URL:https://www.kerrpto.org/event/public-meeting-on-the-new-kerr-building/
LOCATION:Kerr–MultiPurpose Room (MPR)
CATEGORIES:district info,Informational Event
ATTACH;FMTTYPE=image/jpeg:https://www.kerrpto.org/wp-content/uploads/2018/03/new-kerr.jpg
END:VEVENT
BEGIN:VEVENT
DTSTART;TZID=UTC:20170906T180000
DTEND;TZID=UTC:20170906T183000
DTSTAMP:20260424T142934
CREATED:20170819T201111Z
LAST-MODIFIED:20170819T201737Z
UID:209-1504720800-1504722600@www.kerrpto.org
SUMMARY:PTO Involvement Fair
DESCRIPTION:Whether you are new to Kerr\, new to getting involved\, or just want to come and check out the opportunities available—come out to our Involvement Fair. This will be an informal time to meet and chat with other Kerr parents while also having an opportunity to gather information and learn more about some specific ways to get involved. \nFollowed by the 1st PTO Meeting at 6:30pm.
URL:https://www.kerrpto.org/event/pto-involvement-fair/
LOCATION:Kerr–MultiPurpose Room (MPR)
CATEGORIES:Informational Event
ATTACH;FMTTYPE=image/jpeg:https://www.kerrpto.org/wp-content/uploads/2017/08/Kerr-PTO-Involvement-Fair.jpg
END:VEVENT
END:VCALENDAR