BEGIN:VCALENDAR
VERSION:2.0
PRODID:-//Kerr PTO - ECPv6.15.20//NONSGML v1.0//EN
CALSCALE:GREGORIAN
METHOD:PUBLISH
X-ORIGINAL-URL:https://www.kerrpto.org
X-WR-CALDESC:Events for Kerr PTO
REFRESH-INTERVAL;VALUE=DURATION:PT1H
X-Robots-Tag:noindex
X-PUBLISHED-TTL:PT1H
BEGIN:VTIMEZONE
TZID:UTC
BEGIN:STANDARD
TZOFFSETFROM:+0000
TZOFFSETTO:+0000
TZNAME:UTC
DTSTART:20250101T000000
END:STANDARD
END:VTIMEZONE
BEGIN:VEVENT
DTSTART;TZID=UTC:20260416T183000
DTEND;TZID=UTC:20260416T193000
DTSTAMP:20260423T190939
CREATED:20260221T175912Z
LAST-MODIFIED:20260221T175912Z
UID:4315-1776364200-1776367800@www.kerrpto.org
SUMMARY:PTO Meeting
DESCRIPTION:
URL:https://www.kerrpto.org/event/pto-meeting-42/
END:VEVENT
BEGIN:VEVENT
DTSTART;TZID=UTC:20260504T080000
DTEND;TZID=UTC:20260509T170000
DTSTAMP:20260423T190939
CREATED:20260221T180006Z
LAST-MODIFIED:20260221T180006Z
UID:4317-1777881600-1778346000@www.kerrpto.org
SUMMARY:Teacher Appreciation Week
DESCRIPTION:
URL:https://www.kerrpto.org/event/teacher-appreciation-week-3/
END:VEVENT
BEGIN:VEVENT
DTSTART;TZID=UTC:20260604T080000
DTEND;TZID=UTC:20260604T170000
DTSTAMP:20260423T190939
CREATED:20260221T180042Z
LAST-MODIFIED:20260221T180042Z
UID:4319-1780560000-1780592400@www.kerrpto.org
SUMMARY:Summer Send Off
DESCRIPTION:
URL:https://www.kerrpto.org/event/summer-send-off-7/
END:VEVENT
END:VCALENDAR