BEGIN:VCALENDAR
VERSION:2.0
PRODID:-//Kerr PTO - ECPv6.15.20//NONSGML v1.0//EN
CALSCALE:GREGORIAN
METHOD:PUBLISH
X-WR-CALNAME:Kerr PTO
X-ORIGINAL-URL:https://www.kerrpto.org
X-WR-CALDESC:Events for Kerr PTO
REFRESH-INTERVAL;VALUE=DURATION:PT1H
X-Robots-Tag:noindex
X-PUBLISHED-TTL:PT1H
BEGIN:VTIMEZONE
TZID:UTC
BEGIN:STANDARD
TZOFFSETFROM:+0000
TZOFFSETTO:+0000
TZNAME:UTC
DTSTART:20220101T000000
END:STANDARD
END:VTIMEZONE
BEGIN:VEVENT
DTSTART;TZID=UTC:20230908T180000
DTEND;TZID=UTC:20230908T193000
DTSTAMP:20260425T140758
CREATED:20230817T131319Z
LAST-MODIFIED:20230817T131319Z
UID:3496-1694196000-1694201400@www.kerrpto.org
SUMMARY:Ice Cream Social and Opportunity Fair
DESCRIPTION:Sign up to volunteer here
URL:https://www.kerrpto.org/event/ice-cream-social-and-opportunity-fair/
LOCATION:Kerr Elementary
CATEGORIES:family fun,Informational Event
ATTACH;FMTTYPE=image/jpeg:https://www.kerrpto.org/wp-content/uploads/2021/07/icecream.jpg
END:VEVENT
BEGIN:VEVENT
DTSTART;VALUE=DATE:20230904
DTEND;VALUE=DATE:20230905
DTSTAMP:20260425T140758
CREATED:20230525T165809Z
LAST-MODIFIED:20230525T170127Z
UID:3425-1693785600-1693871999@www.kerrpto.org
SUMMARY:Labor Day - No School
DESCRIPTION:
URL:https://www.kerrpto.org/event/labor-day-no-school/
CATEGORIES:district info
ATTACH;FMTTYPE=image/jpeg:https://www.kerrpto.org/wp-content/uploads/2021/07/labor_day_flag_US_109882619_ML_123RF.jpg
END:VEVENT
BEGIN:VEVENT
DTSTART;VALUE=DATE:20230829
DTEND;VALUE=DATE:20230830
DTSTAMP:20260425T140758
CREATED:20230525T165727Z
LAST-MODIFIED:20230525T165735Z
UID:3423-1693267200-1693353599@www.kerrpto.org
SUMMARY:First Day of School!
DESCRIPTION:
URL:https://www.kerrpto.org/event/first-day-of-school-4/
CATEGORIES:district info
ATTACH;FMTTYPE=image/jpeg:https://www.kerrpto.org/wp-content/uploads/2022/08/71PsU0sRhOL._AC_SL1300_.jpg
END:VEVENT
BEGIN:VEVENT
DTSTART;VALUE=DATE:20230602
DTEND;VALUE=DATE:20230603
DTSTAMP:20260425T140758
CREATED:20220823T025035Z
LAST-MODIFIED:20220823T025035Z
UID:3129-1685664000-1685750399@www.kerrpto.org
SUMMARY:Early Dismissal - Last Day of School
DESCRIPTION:
URL:https://www.kerrpto.org/event/early-dismissal-last-day-of-school-2/
CATEGORIES:district info
ATTACH;FMTTYPE=image/jpeg:https://www.kerrpto.org/wp-content/uploads/2022/06/summer.jpg
END:VEVENT
BEGIN:VEVENT
DTSTART;VALUE=DATE:20230601
DTEND;VALUE=DATE:20230602
DTSTAMP:20260425T140758
CREATED:20220823T011647Z
LAST-MODIFIED:20220823T011647Z
UID:3088-1685577600-1685663999@www.kerrpto.org
SUMMARY:Summer Send Off
DESCRIPTION:
URL:https://www.kerrpto.org/event/summer-send-off-5/
ATTACH;FMTTYPE=image/jpeg:https://www.kerrpto.org/wp-content/uploads/2022/05/BEL_Summer_Send-off.jpg
END:VEVENT
BEGIN:VEVENT
DTSTART;VALUE=DATE:20230531
DTEND;VALUE=DATE:20230601
DTSTAMP:20260425T140758
CREATED:20220823T024924Z
LAST-MODIFIED:20220823T024924Z
UID:3127-1685491200-1685577599@www.kerrpto.org
SUMMARY:Early Dismissal - Kennywood Picnic
DESCRIPTION:
URL:https://www.kerrpto.org/event/early-dismissal-kennywood-picnic-2/
CATEGORIES:district info
ATTACH;FMTTYPE=image/jpeg:https://www.kerrpto.org/wp-content/uploads/2021/07/Kennywood1.jpg
END:VEVENT
BEGIN:VEVENT
DTSTART;VALUE=DATE:20230529
DTEND;VALUE=DATE:20230530
DTSTAMP:20260425T140758
CREATED:20220823T024851Z
LAST-MODIFIED:20220823T024851Z
UID:3125-1685318400-1685404799@www.kerrpto.org
SUMMARY:No School - Memorial Day
DESCRIPTION:
URL:https://www.kerrpto.org/event/no-school-memorial-day-2/
CATEGORIES:district info
ATTACH;FMTTYPE=image/jpeg:https://www.kerrpto.org/wp-content/uploads/2021/07/memorial-day-scaled-1.jpg
END:VEVENT
BEGIN:VEVENT
DTSTART;VALUE=DATE:20230525
DTEND;VALUE=DATE:20230526
DTSTAMP:20260425T140758
CREATED:20230525T170504Z
LAST-MODIFIED:20230525T170504Z
UID:3439-1684972800-1685059199@www.kerrpto.org
SUMMARY:Early Dismissal
DESCRIPTION:
URL:https://www.kerrpto.org/event/early-dismissal-24/
CATEGORIES:district info
ATTACH;FMTTYPE=image/jpeg:https://www.kerrpto.org/wp-content/uploads/2021/07/early-dismissal.jpg
END:VEVENT
BEGIN:VEVENT
DTSTART;VALUE=DATE:20230525
DTEND;VALUE=DATE:20230526
DTSTAMP:20260425T140758
CREATED:20230525T170438Z
LAST-MODIFIED:20230525T170438Z
UID:3437-1684972800-1685059199@www.kerrpto.org
SUMMARY:No School - Parent Teacher Conferences
DESCRIPTION:
URL:https://www.kerrpto.org/event/no-school-parent-teacher-conferences-2/
CATEGORIES:district info
ATTACH;FMTTYPE=image/jpeg:https://www.kerrpto.org/wp-content/uploads/2021/07/How-to-prepare-for-Parent-Teacher-Conferences_final.jpg
END:VEVENT
BEGIN:VEVENT
DTSTART;VALUE=DATE:20230525
DTEND;VALUE=DATE:20230526
DTSTAMP:20260425T140758
CREATED:20230525T170338Z
LAST-MODIFIED:20230525T170338Z
UID:3435-1684972800-1685059199@www.kerrpto.org
SUMMARY:Early Dismissal - Parent/Teachers Conferences
DESCRIPTION:
URL:https://www.kerrpto.org/event/early-dismissal-parent-teachers-conferences/
CATEGORIES:district info
ATTACH;FMTTYPE=image/jpeg:https://www.kerrpto.org/wp-content/uploads/2021/07/How-to-prepare-for-Parent-Teacher-Conferences_final.jpg
END:VEVENT
BEGIN:VEVENT
DTSTART;VALUE=DATE:20230525
DTEND;VALUE=DATE:20230526
DTSTAMP:20260425T140758
CREATED:20230525T170204Z
LAST-MODIFIED:20230525T170204Z
UID:3433-1684972800-1685059199@www.kerrpto.org
SUMMARY:Early Dismissal
DESCRIPTION:
URL:https://www.kerrpto.org/event/early-dismissal-23/
CATEGORIES:district info
ATTACH;FMTTYPE=image/jpeg:https://www.kerrpto.org/wp-content/uploads/2021/07/early-dismissal.jpg
END:VEVENT
BEGIN:VEVENT
DTSTART;VALUE=DATE:20230522
DTEND;VALUE=DATE:20230523
DTSTAMP:20260425T140758
CREATED:20230508T152652Z
LAST-MODIFIED:20230508T152652Z
UID:3407-1684713600-1684799999@www.kerrpto.org
SUMMARY:Moe's Taco Kit Fundraiser
DESCRIPTION:
URL:https://www.kerrpto.org/event/moes-taco-kit-fundraiser/
CATEGORIES:fundraiser
ATTACH;FMTTYPE=application/pdf:https://www.kerrpto.org/wp-content/uploads/2023/05/Moes-Flyer-2.pdf
END:VEVENT
BEGIN:VEVENT
DTSTART;TZID=UTC:20230518T183000
DTEND;TZID=UTC:20230518T183000
DTSTAMP:20260425T140758
CREATED:20220823T011618Z
LAST-MODIFIED:20220823T011618Z
UID:3086-1684434600-1684434600@www.kerrpto.org
SUMMARY:PTO Meeting
DESCRIPTION:
URL:https://www.kerrpto.org/event/pto-meeting-30/
CATEGORIES:General Meeting
ATTACH;FMTTYPE=image/jpeg:https://www.kerrpto.org/wp-content/uploads/2017/08/PTO-Meeting-Reminder-Image.jpg
END:VEVENT
BEGIN:VEVENT
DTSTART;TZID=UTC:20230511T150000
DTEND;TZID=UTC:20230511T180000
DTSTAMP:20260425T140758
CREATED:20230503T171934Z
LAST-MODIFIED:20230503T171934Z
UID:3398-1683817200-1683828000@www.kerrpto.org
SUMMARY:Spring Flower Pickup
DESCRIPTION:
URL:https://www.kerrpto.org/event/spring-flower-pickup/
LOCATION:Pleasant Valley VFW
CATEGORIES:fundraiser
ATTACH;FMTTYPE=image/jpeg:https://www.kerrpto.org/wp-content/uploads/2022/04/early-spring-flowers-3572236-hero-18de44e120644c5a8535a0c6ba14cf63-1-scaled.jpg
END:VEVENT
BEGIN:VEVENT
DTSTART;VALUE=DATE:20230508
DTEND;VALUE=DATE:20230513
DTSTAMP:20260425T140758
CREATED:20230410T172601Z
LAST-MODIFIED:20230410T172609Z
UID:3380-1683504000-1683935999@www.kerrpto.org
SUMMARY:Teacher Appreciation Week
DESCRIPTION:Sign Up
URL:https://www.kerrpto.org/event/teacher-appreciation-week-2/
ATTACH;FMTTYPE=image/jpeg:https://www.kerrpto.org/wp-content/uploads/2023/04/TA-Student-Flyer-23.jpg
END:VEVENT
BEGIN:VEVENT
DTSTART;TZID=UTC:20230413T183000
DTEND;TZID=UTC:20230413T183000
DTSTAMP:20260425T140758
CREATED:20220823T011504Z
LAST-MODIFIED:20220823T011504Z
UID:3082-1681410600-1681410600@www.kerrpto.org
SUMMARY:PTO Meeting
DESCRIPTION:
URL:https://www.kerrpto.org/event/pto-meeting-29/
CATEGORIES:General Meeting
ATTACH;FMTTYPE=image/jpeg:https://www.kerrpto.org/wp-content/uploads/2017/08/PTO-Meeting-Reminder-Image.jpg
END:VEVENT
BEGIN:VEVENT
DTSTART;TZID=UTC:20230411T160000
DTEND;TZID=UTC:20230411T200000
DTSTAMP:20260425T140758
CREATED:20230118T201955Z
LAST-MODIFIED:20230118T202005Z
UID:3288-1681228800-1681243200@www.kerrpto.org
SUMMARY:Chipotle Dine and Donate
DESCRIPTION:
URL:https://www.kerrpto.org/event/chipotle-dine-and-donate-4/
LOCATION:Chipotle at the Waterworks
CATEGORIES:dine & donate,fundraiser
ATTACH;FMTTYPE=image/png:https://www.kerrpto.org/wp-content/uploads/2023/01/png_20230114_151555_0000.png
END:VEVENT
BEGIN:VEVENT
DTSTART;VALUE=DATE:20230403
DTEND;VALUE=DATE:20230408
DTSTAMP:20260425T140758
CREATED:20220823T024820Z
LAST-MODIFIED:20220823T024820Z
UID:3123-1680480000-1680911999@www.kerrpto.org
SUMMARY:No School - Spring Break
DESCRIPTION:
URL:https://www.kerrpto.org/event/no-school-spring-break-2/
CATEGORIES:district info
ATTACH;FMTTYPE=image/jpeg:https://www.kerrpto.org/wp-content/uploads/2021/07/483890066.jpg
END:VEVENT
BEGIN:VEVENT
DTSTART;VALUE=DATE:20230402
DTEND;VALUE=DATE:20230403
DTSTAMP:20260425T140758
CREATED:20230224T231337Z
LAST-MODIFIED:20230224T231337Z
UID:3344-1680393600-1680479999@www.kerrpto.org
SUMMARY:Easter Sarris Sale Ends
DESCRIPTION:
URL:https://www.kerrpto.org/event/easter-sarris-sale-ends/
CATEGORIES:fundraiser
ATTACH;FMTTYPE=image/jpeg:https://www.kerrpto.org/wp-content/uploads/2021/03/Sarris-Logo-Red-Capitol-Letters-scott.jpg
END:VEVENT
BEGIN:VEVENT
DTSTART;VALUE=DATE:20230331
DTEND;VALUE=DATE:20230401
DTSTAMP:20260425T140758
CREATED:20220823T024739Z
LAST-MODIFIED:20220823T024739Z
UID:3121-1680220800-1680307199@www.kerrpto.org
SUMMARY:Early Dismissal
DESCRIPTION:
URL:https://www.kerrpto.org/event/early-dismissal-21/
CATEGORIES:district info
ATTACH;FMTTYPE=image/jpeg:https://www.kerrpto.org/wp-content/uploads/2021/07/early-dismissal.jpg
END:VEVENT
BEGIN:VEVENT
DTSTART;VALUE=DATE:20230330
DTEND;VALUE=DATE:20230331
DTSTAMP:20260425T140758
CREATED:20230221T204036Z
LAST-MODIFIED:20230221T204036Z
UID:3337-1680134400-1680220799@www.kerrpto.org
SUMMARY:Spring Showcase
DESCRIPTION:
URL:https://www.kerrpto.org/event/spring-showcase/
CATEGORIES:Informational Event
ATTACH;FMTTYPE=image/jpeg:https://www.kerrpto.org/wp-content/uploads/2017/07/handprints-e1500502762681.jpg
END:VEVENT
BEGIN:VEVENT
DTSTART;VALUE=DATE:20230324
DTEND;VALUE=DATE:20230325
DTSTAMP:20260425T140758
CREATED:20220823T013503Z
LAST-MODIFIED:20220823T013503Z
UID:3119-1679616000-1679702399@www.kerrpto.org
SUMMARY:Early Dismissal
DESCRIPTION:
URL:https://www.kerrpto.org/event/early-dismissal-20/
CATEGORIES:district info
ATTACH;FMTTYPE=image/jpeg:https://www.kerrpto.org/wp-content/uploads/2021/07/early-dismissal.jpg
END:VEVENT
BEGIN:VEVENT
DTSTART;TZID=UTC:20230315T160000
DTEND;TZID=UTC:20230315T190000
DTSTAMP:20260425T140758
CREATED:20230220T183451Z
LAST-MODIFIED:20230307T220140Z
UID:3317-1678896000-1678906800@www.kerrpto.org
SUMMARY:Zoup! Dine and Donate
DESCRIPTION:
URL:https://www.kerrpto.org/event/zoup-dine-and-donate-2/
LOCATION:Zoup!\, 1137 Freeport Road\, Pittsburgh\, PA\, 15238
CATEGORIES:dine & donate,fundraiser
ATTACH;FMTTYPE=application/pdf:https://www.kerrpto.org/wp-content/uploads/2023/02/LadlingLove_Flyer_Editable_OLO2-2.pdf
END:VEVENT
BEGIN:VEVENT
DTSTART;VALUE=DATE:20230310
DTEND;VALUE=DATE:20230311
DTSTAMP:20260425T140758
CREATED:20230221T203917Z
LAST-MODIFIED:20230221T203917Z
UID:3335-1678406400-1678492799@www.kerrpto.org
SUMMARY:Read A Thon Trackers/Sponsor Forms Due
DESCRIPTION:
URL:https://www.kerrpto.org/event/read-a-thon-trackers-sponsor-forms-due/
CATEGORIES:enrichment
ATTACH;FMTTYPE=image/jpeg:https://www.kerrpto.org/wp-content/uploads/2018/06/read-a-thon.jpg
END:VEVENT
BEGIN:VEVENT
DTSTART;VALUE=DATE:20230309
DTEND;VALUE=DATE:20230310
DTSTAMP:20260425T140758
CREATED:20230221T203843Z
LAST-MODIFIED:20230221T203843Z
UID:3333-1678320000-1678406399@www.kerrpto.org
SUMMARY:Pepperoni Roll Pickup
DESCRIPTION:pepp
URL:https://www.kerrpto.org/event/pepperoni-roll-pickup-2/
LOCATION:Pleasant Valley VFW
CATEGORIES:fundraiser
ATTACH;FMTTYPE=image/png:https://www.kerrpto.org/wp-content/uploads/2022/04/pepperonirollfundraiser.png
END:VEVENT
BEGIN:VEVENT
DTSTART;VALUE=DATE:20230303
DTEND;VALUE=DATE:20230304
DTSTAMP:20260425T140758
CREATED:20230221T203458Z
LAST-MODIFIED:20230221T203458Z
UID:3324-1677801600-1677887999@www.kerrpto.org
SUMMARY:ASK Classes End
DESCRIPTION:
URL:https://www.kerrpto.org/event/ask-classes-end/
CATEGORIES:enrichment
ATTACH;FMTTYPE=image/png:https://www.kerrpto.org/wp-content/uploads/2018/01/ASK.png
END:VEVENT
BEGIN:VEVENT
DTSTART;VALUE=DATE:20230302
DTEND;VALUE=DATE:20230303
DTSTAMP:20260425T140758
CREATED:20230221T203536Z
LAST-MODIFIED:20230221T203536Z
UID:3326-1677715200-1677801599@www.kerrpto.org
SUMMARY:Math Pentathlon Ends
DESCRIPTION:
URL:https://www.kerrpto.org/event/math-pentathlon-ends/
CATEGORIES:enrichment
ATTACH;FMTTYPE=image/jpeg:https://www.kerrpto.org/wp-content/uploads/2017/08/math.jpg
END:VEVENT
BEGIN:VEVENT
DTSTART;VALUE=DATE:20230227
DTEND;VALUE=DATE:20230228
DTSTAMP:20260425T140758
CREATED:20230221T203758Z
LAST-MODIFIED:20230221T203758Z
UID:3331-1677456000-1677542399@www.kerrpto.org
SUMMARY:Pepperoni Roll Sale Ends
DESCRIPTION:
URL:https://www.kerrpto.org/event/pepperoni-roll-sale-ends/
CATEGORIES:fundraiser
ATTACH;FMTTYPE=image/png:https://www.kerrpto.org/wp-content/uploads/2022/04/pepperonirollfundraiser.png
END:VEVENT
BEGIN:VEVENT
DTSTART;VALUE=DATE:20230221
DTEND;VALUE=DATE:20230222
DTSTAMP:20260425T140758
CREATED:20230221T203709Z
LAST-MODIFIED:20230221T203709Z
UID:3328-1676937600-1677023999@www.kerrpto.org
SUMMARY:Math Pentathlon Game Day
DESCRIPTION:
URL:https://www.kerrpto.org/event/math-pentathlon-game-day/
LOCATION:Dorseyville Middle School\, 3732 Saxonburg Blvd\, Pittsburgh\, PA\, 15238\, United States
CATEGORIES:enrichment
ATTACH;FMTTYPE=image/jpeg:https://www.kerrpto.org/wp-content/uploads/2017/08/math.jpg
END:VEVENT
BEGIN:VEVENT
DTSTART;VALUE=DATE:20230220
DTEND;VALUE=DATE:20230221
DTSTAMP:20260425T140758
CREATED:20220823T013431Z
LAST-MODIFIED:20220823T013431Z
UID:3117-1676851200-1676937599@www.kerrpto.org
SUMMARY:No School - Presidents Day
DESCRIPTION:
URL:https://www.kerrpto.org/event/no-school-presidents-day-2/
CATEGORIES:district info
ATTACH;FMTTYPE=image/jpeg:https://www.kerrpto.org/wp-content/uploads/2021/07/presidents-day.jpg
END:VEVENT
END:VCALENDAR