BEGIN:VCALENDAR
VERSION:2.0
PRODID:-//Kerr PTO - ECPv6.15.20//NONSGML v1.0//EN
CALSCALE:GREGORIAN
METHOD:PUBLISH
X-WR-CALNAME:Kerr PTO
X-ORIGINAL-URL:https://www.kerrpto.org
X-WR-CALDESC:Events for Kerr PTO
REFRESH-INTERVAL;VALUE=DURATION:PT1H
X-Robots-Tag:noindex
X-PUBLISHED-TTL:PT1H
BEGIN:VTIMEZONE
TZID:UTC
BEGIN:STANDARD
TZOFFSETFROM:+0000
TZOFFSETTO:+0000
TZNAME:UTC
DTSTART:20210101T000000
END:STANDARD
END:VTIMEZONE
BEGIN:VEVENT
DTSTART;VALUE=DATE:20230120
DTEND;VALUE=DATE:20230121
DTSTAMP:20260424T144030
CREATED:20220823T013359Z
LAST-MODIFIED:20220823T013359Z
UID:3115-1674172800-1674259199@www.kerrpto.org
SUMMARY:No School
DESCRIPTION:
URL:https://www.kerrpto.org/event/no-school-19/
CATEGORIES:district info
ATTACH;FMTTYPE=image/jpeg:https://www.kerrpto.org/wp-content/uploads/2021/07/remindernoschoolpic3.jpg
END:VEVENT
BEGIN:VEVENT
DTSTART;VALUE=DATE:20230117
DTEND;VALUE=DATE:20230124
DTSTAMP:20260424T144030
CREATED:20220823T011005Z
LAST-MODIFIED:20221219T235549Z
UID:3066-1673913600-1674518399@www.kerrpto.org
SUMMARY:Used Book Sale Collection
DESCRIPTION:
URL:https://www.kerrpto.org/event/used-book-sale-collection/
ATTACH;FMTTYPE=image/jpeg:https://www.kerrpto.org/wp-content/uploads/2021/07/book.jpg
END:VEVENT
BEGIN:VEVENT
DTSTART;VALUE=DATE:20230116
DTEND;VALUE=DATE:20230117
DTSTAMP:20260424T144030
CREATED:20220823T013325Z
LAST-MODIFIED:20220823T013325Z
UID:3113-1673827200-1673913599@www.kerrpto.org
SUMMARY:No School - Martin Luther King\, Jr Day
DESCRIPTION:
URL:https://www.kerrpto.org/event/no-school-martin-luther-king-jr-day-2/
CATEGORIES:district info
ATTACH;FMTTYPE=image/jpeg:https://www.kerrpto.org/wp-content/uploads/2021/07/33870486865_c4be14daa8_o-1600x720_0.jpg
END:VEVENT
BEGIN:VEVENT
DTSTART;TZID=UTC:20230112T091500
DTEND;TZID=UTC:20230112T110000
DTSTAMP:20260424T144030
CREATED:20220823T011135Z
LAST-MODIFIED:20220823T011135Z
UID:3070-1673514900-1673521200@www.kerrpto.org
SUMMARY:PTO Meeting
DESCRIPTION:
URL:https://www.kerrpto.org/event/pto-meeting-28/
CATEGORIES:General Meeting
ATTACH;FMTTYPE=image/jpeg:https://www.kerrpto.org/wp-content/uploads/2017/08/PTO-Meeting-Reminder-Image.jpg
END:VEVENT
BEGIN:VEVENT
DTSTART;VALUE=DATE:20221226
DTEND;VALUE=DATE:20230103
DTSTAMP:20260424T144030
CREATED:20220823T013120Z
LAST-MODIFIED:20220823T013120Z
UID:3109-1672012800-1672703999@www.kerrpto.org
SUMMARY:No School - Winter Break
DESCRIPTION:
URL:https://www.kerrpto.org/event/no-school-winter-break-3/
CATEGORIES:district info
ATTACH;FMTTYPE=image/jpeg:https://www.kerrpto.org/wp-content/uploads/2021/07/winterbreak-900x498-1.jpg
END:VEVENT
BEGIN:VEVENT
DTSTART;TZID=UTC:20221223T080000
DTEND;TZID=UTC:20221223T170000
DTSTAMP:20260424T144030
CREATED:20220823T010908Z
LAST-MODIFIED:20220823T010908Z
UID:3064-1671782400-1671814800@www.kerrpto.org
SUMMARY:Winter Class Parties
DESCRIPTION:
URL:https://www.kerrpto.org/event/winter-class-parties/
CATEGORIES:class party
ATTACH;FMTTYPE=image/jpeg:https://www.kerrpto.org/wp-content/uploads/2017/08/winter-class-party.jpg
END:VEVENT
BEGIN:VEVENT
DTSTART;TZID=UTC:20221208T110000
DTEND;TZID=UTC:20221208T230000
DTSTAMP:20260424T144030
CREATED:20221121T173929Z
LAST-MODIFIED:20221121T174122Z
UID:3234-1670497200-1670540400@www.kerrpto.org
SUMMARY:Primantis Dine and Donate
DESCRIPTION:
URL:https://www.kerrpto.org/event/primantis-dine-and-donate/
LOCATION:Primanti’s\, 6 Anchor Dr.\, Pittsburgh\, PA\, 15238\, United States
CATEGORIES:dine & donate,fundraiser
ATTACH;FMTTYPE=image/png:https://www.kerrpto.org/wp-content/uploads/2022/11/kerrprimantis.png
END:VEVENT
BEGIN:VEVENT
DTSTART;VALUE=DATE:20221124
DTEND;VALUE=DATE:20221129
DTSTAMP:20260424T144030
CREATED:20220823T013049Z
LAST-MODIFIED:20220823T013049Z
UID:3107-1669248000-1669679999@www.kerrpto.org
SUMMARY:No School - Thanksgiving Break
DESCRIPTION:
URL:https://www.kerrpto.org/event/no-school-thanksgiving-break-3/
CATEGORIES:district info
ATTACH;FMTTYPE=image/jpeg:https://www.kerrpto.org/wp-content/uploads/2021/07/thanksgiving-break-story.jpg
END:VEVENT
BEGIN:VEVENT
DTSTART;VALUE=DATE:20221114
DTEND;VALUE=DATE:20221115
DTSTAMP:20260424T144030
CREATED:20220823T010830Z
LAST-MODIFIED:20220823T010830Z
UID:3062-1668384000-1668470399@www.kerrpto.org
SUMMARY:TAG
DESCRIPTION:
URL:https://www.kerrpto.org/event/tag/
ATTACH;FMTTYPE=image/jpeg:https://www.kerrpto.org/wp-content/uploads/2017/08/TAG.jpg
END:VEVENT
BEGIN:VEVENT
DTSTART;VALUE=DATE:20221109
DTEND;VALUE=DATE:20221110
DTSTAMP:20260424T144030
CREATED:20220920T135349Z
LAST-MODIFIED:20221103T161620Z
UID:3161-1667952000-1668038399@www.kerrpto.org
SUMMARY:Panera Dine and Donate
DESCRIPTION:
URL:https://www.kerrpto.org/event/panera-dine-and-donate-2/
LOCATION:Panera\, 942 Freeport Road\, Pittsburgh\, PA\, 15238\, United States
CATEGORIES:dine & donate,fundraiser
ATTACH;FMTTYPE=application/pdf:https://www.kerrpto.org/wp-content/uploads/2022/09/panera2022.pdf
END:VEVENT
BEGIN:VEVENT
DTSTART;VALUE=DATE:20221108
DTEND;VALUE=DATE:20221109
DTSTAMP:20260424T144030
CREATED:20220823T013221Z
LAST-MODIFIED:20220823T013221Z
UID:3111-1667865600-1667951999@www.kerrpto.org
SUMMARY:No School - Conferences
DESCRIPTION:confere
URL:https://www.kerrpto.org/event/no-school-conferences/
ATTACH;FMTTYPE=image/jpeg:https://www.kerrpto.org/wp-content/uploads/2021/07/How-to-prepare-for-Parent-Teacher-Conferences_final.jpg
END:VEVENT
BEGIN:VEVENT
DTSTART;VALUE=DATE:20221107
DTEND;VALUE=DATE:20221108
DTSTAMP:20260424T144030
CREATED:20220823T013002Z
LAST-MODIFIED:20220823T013002Z
UID:3105-1667779200-1667865599@www.kerrpto.org
SUMMARY:Early Dismissal
DESCRIPTION:
URL:https://www.kerrpto.org/event/early-dismissal-19/
CATEGORIES:district info
ATTACH;FMTTYPE=image/jpeg:https://www.kerrpto.org/wp-content/uploads/2021/07/early-dismissal.jpg
END:VEVENT
BEGIN:VEVENT
DTSTART;TZID=UTC:20221104T183000
DTEND;TZID=UTC:20221104T200000
DTSTAMP:20260424T144030
CREATED:20220921T162924Z
LAST-MODIFIED:20220921T162924Z
UID:3171-1667586600-1667592000@www.kerrpto.org
SUMMARY:Family Bingo Night
DESCRIPTION:
URL:https://www.kerrpto.org/event/family-bingo-night/
CATEGORIES:family fun
ATTACH;FMTTYPE=application/pdf:https://www.kerrpto.org/wp-content/uploads/2022/09/BINGO-flyer-2.pdf
END:VEVENT
BEGIN:VEVENT
DTSTART;TZID=UTC:20221031T080000
DTEND;TZID=UTC:20221031T170000
DTSTAMP:20260424T144030
CREATED:20220823T010754Z
LAST-MODIFIED:20220823T010754Z
UID:3060-1667203200-1667235600@www.kerrpto.org
SUMMARY:Fall Classroom Parties
DESCRIPTION:
URL:https://www.kerrpto.org/event/fall-classroom-parties/
CATEGORIES:class party
ATTACH;FMTTYPE=image/jpeg:https://www.kerrpto.org/wp-content/uploads/2021/10/party.jpg
END:VEVENT
BEGIN:VEVENT
DTSTART;VALUE=DATE:20221028
DTEND;VALUE=DATE:20221029
DTSTAMP:20260424T144030
CREATED:20220823T012828Z
LAST-MODIFIED:20220823T012828Z
UID:3103-1666915200-1667001599@www.kerrpto.org
SUMMARY:Early Dismissal
DESCRIPTION:
URL:https://www.kerrpto.org/event/early-dismissal-18/
CATEGORIES:district info
ATTACH;FMTTYPE=image/jpeg:https://www.kerrpto.org/wp-content/uploads/2021/07/early-dismissal.jpg
END:VEVENT
BEGIN:VEVENT
DTSTART;TZID=UTC:20221013T183000
DTEND;TZID=UTC:20221013T183000
DTSTAMP:20260424T144030
CREATED:20220823T010659Z
LAST-MODIFIED:20220823T010659Z
UID:3058-1665685800-1665685800@www.kerrpto.org
SUMMARY:PTO Meeting
DESCRIPTION:
URL:https://www.kerrpto.org/event/pto-meeting-27/
CATEGORIES:General Meeting
ATTACH;FMTTYPE=image/jpeg:https://www.kerrpto.org/wp-content/uploads/2017/08/PTO-Meeting-Reminder-Image.jpg
END:VEVENT
BEGIN:VEVENT
DTSTART;VALUE=DATE:20221012
DTEND;VALUE=DATE:20221013
DTSTAMP:20260424T144030
CREATED:20220823T012759Z
LAST-MODIFIED:20220823T012759Z
UID:3101-1665532800-1665619199@www.kerrpto.org
SUMMARY:Early Dismissal
DESCRIPTION:
URL:https://www.kerrpto.org/event/early-dismissal-17/
CATEGORIES:district info
ATTACH;FMTTYPE=image/jpeg:https://www.kerrpto.org/wp-content/uploads/2021/07/early-dismissal.jpg
END:VEVENT
BEGIN:VEVENT
DTSTART;VALUE=DATE:20221007
DTEND;VALUE=DATE:20221008
DTSTAMP:20260424T144030
CREATED:20220915T175343Z
LAST-MODIFIED:20220915T175402Z
UID:3157-1665100800-1665187199@www.kerrpto.org
SUMMARY:Kerrtoberfest
DESCRIPTION:
URL:https://www.kerrpto.org/event/kerrtoberfest-2/
ATTACH;FMTTYPE=image/jpeg:https://www.kerrpto.org/wp-content/uploads/2017/08/pumpkin-simple-image.jpg
END:VEVENT
BEGIN:VEVENT
DTSTART;VALUE=DATE:20221005
DTEND;VALUE=DATE:20221006
DTSTAMP:20260424T144030
CREATED:20220823T012710Z
LAST-MODIFIED:20220823T012710Z
UID:3099-1664928000-1665014399@www.kerrpto.org
SUMMARY:No School - Fall Break
DESCRIPTION:
URL:https://www.kerrpto.org/event/no-school-fall-break-7/
CATEGORIES:district info
ATTACH;FMTTYPE=image/jpeg:https://www.kerrpto.org/wp-content/uploads/2021/07/Fall-Break.jpg
END:VEVENT
BEGIN:VEVENT
DTSTART;TZID=UTC:20221004T160000
DTEND;TZID=UTC:20221004T200000
DTSTAMP:20260424T144030
CREATED:20220830T220055Z
LAST-MODIFIED:20220830T220055Z
UID:3138-1664899200-1664913600@www.kerrpto.org
SUMMARY:Chipotle Dine and Donate
DESCRIPTION:
URL:https://www.kerrpto.org/event/chipotle-dine-and-donate-3/
LOCATION:Chipotle at the Waterworks
CATEGORIES:dine & donate,fundraiser
ATTACH;FMTTYPE=image/jpeg:https://www.kerrpto.org/wp-content/uploads/2022/08/406489-flyer.jpg
END:VEVENT
BEGIN:VEVENT
DTSTART;TZID=UTC:20220929T150000
DTEND;TZID=UTC:20220929T180000
DTSTAMP:20260424T144030
CREATED:20220823T010342Z
LAST-MODIFIED:20220823T010342Z
UID:3052-1664463600-1664474400@www.kerrpto.org
SUMMARY:Fall Flower Pickup
DESCRIPTION:
URL:https://www.kerrpto.org/event/fall-flower-pickup/
LOCATION:Pleasant Valley VFW
CATEGORIES:fundraiser
ATTACH;FMTTYPE=image/jpeg:https://www.kerrpto.org/wp-content/uploads/2021/08/flower.jpg
END:VEVENT
BEGIN:VEVENT
DTSTART;VALUE=DATE:20220926
DTEND;VALUE=DATE:20220927
DTSTAMP:20260424T144030
CREATED:20220823T012643Z
LAST-MODIFIED:20220823T012643Z
UID:3097-1664150400-1664236799@www.kerrpto.org
SUMMARY:No School - Fall Break
DESCRIPTION:
URL:https://www.kerrpto.org/event/no-school-fall-break-6/
CATEGORIES:district info
ATTACH;FMTTYPE=image/jpeg:https://www.kerrpto.org/wp-content/uploads/2021/07/Fall-Break.jpg
END:VEVENT
BEGIN:VEVENT
DTSTART;VALUE=DATE:20220919
DTEND;VALUE=DATE:20220920
DTSTAMP:20260424T144030
CREATED:20220829T001659Z
LAST-MODIFIED:20220829T001659Z
UID:3135-1663545600-1663631999@www.kerrpto.org
SUMMARY:Picture Day!
DESCRIPTION:
URL:https://www.kerrpto.org/event/picture-day-5/
CATEGORIES:district info
ATTACH;FMTTYPE=image/jpeg:https://www.kerrpto.org/wp-content/uploads/2021/08/Picture-Day-Logo.jpg
END:VEVENT
BEGIN:VEVENT
DTSTART;VALUE=DATE:20220915
DTEND;VALUE=DATE:20220916
DTSTAMP:20260424T144030
CREATED:20220823T010255Z
LAST-MODIFIED:20220823T215525Z
UID:3050-1663200000-1663286399@www.kerrpto.org
SUMMARY:Fall Flower Orders Due
DESCRIPTION:
URL:https://www.kerrpto.org/event/fall-flower-orders-due/
CATEGORIES:fundraiser
ATTACH;FMTTYPE=image/jpeg:https://www.kerrpto.org/wp-content/uploads/2021/08/flower.jpg
END:VEVENT
BEGIN:VEVENT
DTSTART;VALUE=DATE:20220909
DTEND;VALUE=DATE:20220910
DTSTAMP:20260424T144030
CREATED:20220823T010458Z
LAST-MODIFIED:20220823T010458Z
UID:3054-1662681600-1662767999@www.kerrpto.org
SUMMARY:Spiritwear Orders Due
DESCRIPTION:
URL:https://www.kerrpto.org/event/spiritwear-orders-due/
CATEGORIES:fundraiser
ATTACH;FMTTYPE=image/png:https://www.kerrpto.org/wp-content/uploads/2017/06/fox-chapel-logo_orig.png
END:VEVENT
BEGIN:VEVENT
DTSTART;TZID=UTC:20220908T183000
DTEND;TZID=UTC:20220908T183000
DTSTAMP:20260424T144030
CREATED:20220831T150617Z
LAST-MODIFIED:20220831T150617Z
UID:3145-1662661800-1662661800@www.kerrpto.org
SUMMARY:PTO Meeting
DESCRIPTION:
URL:https://www.kerrpto.org/event/pto-meeting-31/
CATEGORIES:General Meeting
ATTACH;FMTTYPE=image/jpeg:https://www.kerrpto.org/wp-content/uploads/2017/08/PTO-Meeting-Reminder-Image.jpg
END:VEVENT
BEGIN:VEVENT
DTSTART;TZID=UTC:20220908T180000
DTEND;TZID=UTC:20220908T180000
DTSTAMP:20260424T144030
CREATED:20220823T010608Z
LAST-MODIFIED:20220823T010608Z
UID:3056-1662660000-1662660000@www.kerrpto.org
SUMMARY:Opportunity Fair
DESCRIPTION:
URL:https://www.kerrpto.org/event/opportunity-fair/
LOCATION:Kerr Elementary
CATEGORIES:Informational Event
ATTACH;FMTTYPE=image/jpeg:https://www.kerrpto.org/wp-content/uploads/2017/08/PTO-Logo.jpg
END:VEVENT
BEGIN:VEVENT
DTSTART;VALUE=DATE:20220905
DTEND;VALUE=DATE:20220906
DTSTAMP:20260424T144030
CREATED:20220823T012602Z
LAST-MODIFIED:20220823T012602Z
UID:3095-1662336000-1662422399@www.kerrpto.org
SUMMARY:No School - Labor Day
DESCRIPTION:
URL:https://www.kerrpto.org/event/no-school-labor-day-3/
CATEGORIES:district info
ATTACH;FMTTYPE=image/jpeg:https://www.kerrpto.org/wp-content/uploads/2021/07/labor_day_flag_US_109882619_ML_123RF.jpg
END:VEVENT
BEGIN:VEVENT
DTSTART;VALUE=DATE:20220823
DTEND;VALUE=DATE:20220824
DTSTAMP:20260424T144030
CREATED:20220823T011743Z
LAST-MODIFIED:20220823T011743Z
UID:3090-1661212800-1661299199@www.kerrpto.org
SUMMARY:First Day Of School!
DESCRIPTION:
URL:https://www.kerrpto.org/event/first-day-of-school-3/
CATEGORIES:district info
ATTACH;FMTTYPE=image/jpeg:https://www.kerrpto.org/wp-content/uploads/2022/08/71PsU0sRhOL._AC_SL1300_.jpg
END:VEVENT
BEGIN:VEVENT
DTSTART;VALUE=DATE:20220603
DTEND;VALUE=DATE:20220604
DTSTAMP:20260424T144030
CREATED:20220504T212937Z
LAST-MODIFIED:20220504T212937Z
UID:2976-1654214400-1654300799@www.kerrpto.org
SUMMARY:5th Grade Graduation
DESCRIPTION:
URL:https://www.kerrpto.org/event/5th-grade-graduation/
CATEGORIES:district info
ATTACH;FMTTYPE=image/jpeg:https://www.kerrpto.org/wp-content/uploads/2022/05/graduation-caps-1618321806.jpg
END:VEVENT
END:VCALENDAR