BEGIN:VCALENDAR
VERSION:2.0
PRODID:-//Kerr PTO - ECPv6.15.20//NONSGML v1.0//EN
CALSCALE:GREGORIAN
METHOD:PUBLISH
X-WR-CALNAME:Kerr PTO
X-ORIGINAL-URL:https://www.kerrpto.org
X-WR-CALDESC:Events for Kerr PTO
REFRESH-INTERVAL;VALUE=DURATION:PT1H
X-Robots-Tag:noindex
X-PUBLISHED-TTL:PT1H
BEGIN:VTIMEZONE
TZID:UTC
BEGIN:STANDARD
TZOFFSETFROM:+0000
TZOFFSETTO:+0000
TZNAME:UTC
DTSTART:20200101T000000
END:STANDARD
END:VTIMEZONE
BEGIN:VEVENT
DTSTART;VALUE=DATE:20220318
DTEND;VALUE=DATE:20220319
DTSTAMP:20260425T133247
CREATED:20210714T215608Z
LAST-MODIFIED:20210714T215608Z
UID:2562-1647561600-1647647999@www.kerrpto.org
SUMMARY:Early Dismissal
DESCRIPTION:
URL:https://www.kerrpto.org/event/early-dismissal-15/
CATEGORIES:district info
ATTACH;FMTTYPE=image/jpeg:https://www.kerrpto.org/wp-content/uploads/2021/07/early-dismissal.jpg
END:VEVENT
BEGIN:VEVENT
DTSTART;TZID=UTC:20220308T110000
DTEND;TZID=UTC:20220308T210000
DTSTAMP:20260425T133247
CREATED:20220215T144157Z
LAST-MODIFIED:20220215T144332Z
UID:2897-1646737200-1646773200@www.kerrpto.org
SUMMARY:Dragon Palace Dine and Donate
DESCRIPTION:
URL:https://www.kerrpto.org/event/dragon-palace-dine-and-donate-2/
LOCATION:Dragon Palace\, 1714 Main St.\, Pittsburgh\, PA\, 15215\, United States
CATEGORIES:dine & donate,fundraiser
ATTACH;FMTTYPE=image/png:https://www.kerrpto.org/wp-content/uploads/2022/02/png_20220213_121038_0000.png
END:VEVENT
BEGIN:VEVENT
DTSTART;VALUE=DATE:20220307
DTEND;VALUE=DATE:20220411
DTSTAMP:20260425T133247
CREATED:20220117T112153Z
LAST-MODIFIED:20220117T112153Z
UID:2841-1646611200-1649635199@www.kerrpto.org
SUMMARY:Sarris Candy Sale
DESCRIPTION:
URL:https://www.kerrpto.org/event/sarris-candy-sale-2/
CATEGORIES:fundraiser
ATTACH;FMTTYPE=image/jpeg:https://www.kerrpto.org/wp-content/uploads/2021/03/Sarris-Logo-Red-Capitol-Letters-scott.jpg
END:VEVENT
BEGIN:VEVENT
DTSTART;VALUE=DATE:20220228
DTEND;VALUE=DATE:20220305
DTSTAMP:20260425T133247
CREATED:20210714T211908Z
LAST-MODIFIED:20210714T211908Z
UID:2503-1646006400-1646438399@www.kerrpto.org
SUMMARY:TAG
DESCRIPTION:
URL:https://www.kerrpto.org/event/tag-3/
LOCATION:Kerr Elementary
ATTACH;FMTTYPE=image/jpeg:https://www.kerrpto.org/wp-content/uploads/2017/08/TAG.jpg
END:VEVENT
BEGIN:VEVENT
DTSTART;VALUE=DATE:20220221
DTEND;VALUE=DATE:20220222
DTSTAMP:20260425T133247
CREATED:20210714T215533Z
LAST-MODIFIED:20210714T215533Z
UID:2559-1645401600-1645487999@www.kerrpto.org
SUMMARY:No School - Presidents' Day
DESCRIPTION:
URL:https://www.kerrpto.org/event/no-school-presidents-day/
CATEGORIES:district info
ATTACH;FMTTYPE=image/jpeg:https://www.kerrpto.org/wp-content/uploads/2021/07/presidents-day.jpg
END:VEVENT
BEGIN:VEVENT
DTSTART;VALUE=DATE:20220214
DTEND;VALUE=DATE:20220215
DTSTAMP:20260425T133247
CREATED:20210714T211817Z
LAST-MODIFIED:20210715T175014Z
UID:2501-1644796800-1644883199@www.kerrpto.org
SUMMARY:Valentine's Day Parties
DESCRIPTION:
URL:https://www.kerrpto.org/event/valentine-parties/
LOCATION:Kerr Elementary
CATEGORIES:class party
ATTACH;FMTTYPE=image/png:https://www.kerrpto.org/wp-content/uploads/2017/08/valentines-class-party.png
END:VEVENT
BEGIN:VEVENT
DTSTART;VALUE=DATE:20220124
DTEND;VALUE=DATE:20220205
DTSTAMP:20260425T133247
CREATED:20220117T112054Z
LAST-MODIFIED:20220117T112054Z
UID:2839-1642982400-1644019199@www.kerrpto.org
SUMMARY:Sarris Candy Sale
DESCRIPTION:
URL:https://www.kerrpto.org/event/sarris-candy-sale/
CATEGORIES:fundraiser
ATTACH;FMTTYPE=image/jpeg:https://www.kerrpto.org/wp-content/uploads/2021/10/sarris.jpg
END:VEVENT
BEGIN:VEVENT
DTSTART;VALUE=DATE:20220124
DTEND;VALUE=DATE:20220129
DTSTAMP:20260425T133247
CREATED:20210714T211642Z
LAST-MODIFIED:20210714T211642Z
UID:2499-1642982400-1643414399@www.kerrpto.org
SUMMARY:TAG
DESCRIPTION:
URL:https://www.kerrpto.org/event/tag-2/
LOCATION:Kerr Elementary
ATTACH;FMTTYPE=image/jpeg:https://www.kerrpto.org/wp-content/uploads/2017/08/TAG.jpg
END:VEVENT
BEGIN:VEVENT
DTSTART;VALUE=DATE:20220118
DTEND;VALUE=DATE:20220122
DTSTAMP:20260425T133247
CREATED:20210714T211536Z
LAST-MODIFIED:20210714T211536Z
UID:2496-1642464000-1642809599@www.kerrpto.org
SUMMARY:Used Book Sale
DESCRIPTION:
URL:https://www.kerrpto.org/event/used-book-sale-4/
LOCATION:Kerr Elementary
CATEGORIES:fundraiser
ATTACH;FMTTYPE=image/jpeg:https://www.kerrpto.org/wp-content/uploads/2021/07/image.jpg
END:VEVENT
BEGIN:VEVENT
DTSTART;VALUE=DATE:20220117
DTEND;VALUE=DATE:20220118
DTSTAMP:20260425T133247
CREATED:20210714T215426Z
LAST-MODIFIED:20210714T215426Z
UID:2556-1642377600-1642463999@www.kerrpto.org
SUMMARY:No School - Martin Luther King\, Jr. Day
DESCRIPTION:
URL:https://www.kerrpto.org/event/no-school-martin-luther-king-jr-day/
CATEGORIES:district info
ATTACH;FMTTYPE=image/jpeg:https://www.kerrpto.org/wp-content/uploads/2021/07/33870486865_c4be14daa8_o-1600x720_0.jpg
END:VEVENT
BEGIN:VEVENT
DTSTART;VALUE=DATE:20220114
DTEND;VALUE=DATE:20220115
DTSTAMP:20260425T133247
CREATED:20210714T215246Z
LAST-MODIFIED:20210714T215246Z
UID:2553-1642118400-1642204799@www.kerrpto.org
SUMMARY:No School
DESCRIPTION:
URL:https://www.kerrpto.org/event/no-school-18/
CATEGORIES:district info
ATTACH;FMTTYPE=image/jpeg:https://www.kerrpto.org/wp-content/uploads/2021/07/remindernoschoolpic3.jpg
END:VEVENT
BEGIN:VEVENT
DTSTART;TZID=UTC:20220113T091500
DTEND;TZID=UTC:20220113T091500
DTSTAMP:20260425T133247
CREATED:20210714T210714Z
LAST-MODIFIED:20210714T210714Z
UID:2494-1642065300-1642065300@www.kerrpto.org
SUMMARY:PTO Meeting
DESCRIPTION:
URL:https://www.kerrpto.org/event/pto-meeting-24/
CATEGORIES:General Meeting
ATTACH;FMTTYPE=image/jpeg:https://www.kerrpto.org/wp-content/uploads/2017/08/PTO-Meeting-Reminder-Image.jpg
END:VEVENT
BEGIN:VEVENT
DTSTART;VALUE=DATE:20220107
DTEND;VALUE=DATE:20220114
DTSTAMP:20260425T133247
CREATED:20210714T210551Z
LAST-MODIFIED:20210714T211324Z
UID:2491-1641513600-1642118399@www.kerrpto.org
SUMMARY:Used Book Collection
DESCRIPTION:
URL:https://www.kerrpto.org/event/used-book-collection-3/
LOCATION:Kerr Elementary
CATEGORIES:fundraiser
ATTACH;FMTTYPE=image/jpeg:https://www.kerrpto.org/wp-content/uploads/2021/07/book.jpg
END:VEVENT
BEGIN:VEVENT
DTSTART;VALUE=DATE:20211224
DTEND;VALUE=DATE:20220101
DTSTAMP:20260425T133247
CREATED:20210714T215009Z
LAST-MODIFIED:20210714T215009Z
UID:2550-1640304000-1640995199@www.kerrpto.org
SUMMARY:No School - Winter Break
DESCRIPTION:
URL:https://www.kerrpto.org/event/no-school-winter-break-2/
CATEGORIES:district info
ATTACH;FMTTYPE=image/jpeg:https://www.kerrpto.org/wp-content/uploads/2021/07/winterbreak-900x498-1.jpg
END:VEVENT
BEGIN:VEVENT
DTSTART;VALUE=DATE:20211209
DTEND;VALUE=DATE:20211210
DTSTAMP:20260425T133247
CREATED:20211026T130331Z
LAST-MODIFIED:20211026T130331Z
UID:2786-1639008000-1639094399@www.kerrpto.org
SUMMARY:Panera Dine and Donate
DESCRIPTION:
URL:https://www.kerrpto.org/event/panera-dine-and-donate/
LOCATION:Panera\, 942 Freeport Road\, Pittsburgh\, PA\, 15238\, United States
CATEGORIES:dine & donate,fundraiser
ATTACH;FMTTYPE=application/pdf:https://www.kerrpto.org/wp-content/uploads/2021/10/Kerr-Elementary-PTO-1.pdf
END:VEVENT
BEGIN:VEVENT
DTSTART;VALUE=DATE:20211125
DTEND;VALUE=DATE:20211130
DTSTAMP:20260425T133247
CREATED:20210714T214840Z
LAST-MODIFIED:20210714T214840Z
UID:2547-1637798400-1638230399@www.kerrpto.org
SUMMARY:No School - Thanksgiving Break
DESCRIPTION:
URL:https://www.kerrpto.org/event/no-school-thanksgiving-break-2/
CATEGORIES:district info
ATTACH;FMTTYPE=image/jpeg:https://www.kerrpto.org/wp-content/uploads/2021/07/thanksgiving-break-story.jpg
END:VEVENT
BEGIN:VEVENT
DTSTART;VALUE=DATE:20211124
DTEND;VALUE=DATE:20211125
DTSTAMP:20260425T133248
CREATED:20210714T214701Z
LAST-MODIFIED:20210714T214701Z
UID:2545-1637712000-1637798399@www.kerrpto.org
SUMMARY:Early Dismissal
DESCRIPTION:
URL:https://www.kerrpto.org/event/early-dismissal-14/
CATEGORIES:district info
ATTACH;FMTTYPE=image/jpeg:https://www.kerrpto.org/wp-content/uploads/2021/07/early-dismissal.jpg
END:VEVENT
BEGIN:VEVENT
DTSTART;TZID=UTC:20211112T180000
DTEND;TZID=UTC:20211112T190000
DTSTAMP:20260425T133248
CREATED:20211027T113547Z
LAST-MODIFIED:20211027T113547Z
UID:2798-1636740000-1636743600@www.kerrpto.org
SUMMARY:Thanksgiving Wreath - A Virtual Art Class
DESCRIPTION:kerrpto.org/virtualthanksgivingart
URL:https://www.kerrpto.org/event/thanksgiving-wreath-a-virtual-art-class/
CATEGORIES:family fun
ATTACH;FMTTYPE=image/jpeg:https://www.kerrpto.org/wp-content/uploads/2021/10/colorful-fall-leaves-SELLLEAVES1017.jpg
END:VEVENT
BEGIN:VEVENT
DTSTART;TZID=UTC:20211109T160000
DTEND;TZID=UTC:20211109T200000
DTSTAMP:20260425T133248
CREATED:20210915T184338Z
LAST-MODIFIED:20210915T184338Z
UID:2712-1636473600-1636488000@www.kerrpto.org
SUMMARY:Chipotle Dine and Donate
DESCRIPTION:
URL:https://www.kerrpto.org/event/chipotle-dine-and-donate-2/
LOCATION:Chipotle at the Waterworks
CATEGORIES:dine & donate
ATTACH;FMTTYPE=image/png:https://www.kerrpto.org/wp-content/uploads/2017/08/Chipotle_Mexican_Grill_logo.svg_.png
END:VEVENT
BEGIN:VEVENT
DTSTART;VALUE=DATE:20211101
DTEND;VALUE=DATE:20211103
DTSTAMP:20260425T133248
CREATED:20210714T214631Z
LAST-MODIFIED:20210714T214631Z
UID:2543-1635724800-1635897599@www.kerrpto.org
SUMMARY:Parent/Teacher Conferences
DESCRIPTION:
URL:https://www.kerrpto.org/event/parent-teacher-conferences/
CATEGORIES:district info
ATTACH;FMTTYPE=image/jpeg:https://www.kerrpto.org/wp-content/uploads/2021/07/How-to-prepare-for-Parent-Teacher-Conferences_final.jpg
END:VEVENT
BEGIN:VEVENT
DTSTART;VALUE=DATE:20211101
DTEND;VALUE=DATE:20211102
DTSTAMP:20260425T133248
CREATED:20210714T214547Z
LAST-MODIFIED:20210714T214547Z
UID:2541-1635724800-1635811199@www.kerrpto.org
SUMMARY:Early Dismissal
DESCRIPTION:
URL:https://www.kerrpto.org/event/early-dismissal-13/
CATEGORIES:district info
ATTACH;FMTTYPE=image/jpeg:https://www.kerrpto.org/wp-content/uploads/2021/07/early-dismissal.jpg
END:VEVENT
BEGIN:VEVENT
DTSTART;VALUE=DATE:20211029
DTEND;VALUE=DATE:20211030
DTSTAMP:20260425T133248
CREATED:20211014T154523Z
LAST-MODIFIED:20211014T154523Z
UID:2774-1635465600-1635551999@www.kerrpto.org
SUMMARY:Fall Class Parties
DESCRIPTION:
URL:https://www.kerrpto.org/event/fall-class-parties-3/
CATEGORIES:class party
ATTACH;FMTTYPE=image/jpeg:https://www.kerrpto.org/wp-content/uploads/2021/10/party.jpg
END:VEVENT
BEGIN:VEVENT
DTSTART;TZID=UTC:20211022T163000
DTEND;TZID=UTC:20211022T200000
DTSTAMP:20260425T133248
CREATED:20210903T201355Z
LAST-MODIFIED:20210922T201408Z
UID:2672-1634920200-1634932800@www.kerrpto.org
SUMMARY:Kerrtoberfest and Early Dismissal
DESCRIPTION:KerrPTO will be distributing ice cream at Kerrtoberfest in place of our usual Ice Cream Social that we were unable to have this year.
URL:https://www.kerrpto.org/event/kerrtoberfest/
LOCATION:Kennedy Park in Sharpsburg\, N Canal St
CATEGORIES:family fun
ATTACH;FMTTYPE=image/jpeg:https://www.kerrpto.org/wp-content/uploads/2017/08/pumpkin-simple-image.jpg
END:VEVENT
BEGIN:VEVENT
DTSTART;VALUE=DATE:20211022
DTEND;VALUE=DATE:20211023
DTSTAMP:20260425T133248
CREATED:20210714T214517Z
LAST-MODIFIED:20210929T121045Z
UID:2539-1634860800-1634947199@www.kerrpto.org
SUMMARY:Early Dismissal - 12 pm
DESCRIPTION:
URL:https://www.kerrpto.org/event/early-dismissal-12/
CATEGORIES:district info
ATTACH;FMTTYPE=image/jpeg:https://www.kerrpto.org/wp-content/uploads/2021/07/early-dismissal.jpg
END:VEVENT
BEGIN:VEVENT
DTSTART;TZID=UTC:20211018T180000
DTEND;TZID=UTC:20211018T193000
DTSTAMP:20260425T133248
CREATED:20211013T140807Z
LAST-MODIFIED:20211013T140955Z
UID:2758-1634580000-1634585400@www.kerrpto.org
SUMMARY:Virtual Halloween Bingo
DESCRIPTION:https://form.jotform.com/212853964510154
URL:https://www.kerrpto.org/event/virtual-halloween-bingo/
CATEGORIES:family fun
ATTACH;FMTTYPE=image/jpeg:https://www.kerrpto.org/wp-content/uploads/2021/10/bingo.jpg
END:VEVENT
BEGIN:VEVENT
DTSTART;VALUE=DATE:20211013
DTEND;VALUE=DATE:20211014
DTSTAMP:20260425T133248
CREATED:20210714T214434Z
LAST-MODIFIED:20210929T121220Z
UID:2537-1634083200-1634169599@www.kerrpto.org
SUMMARY:Early Dismissal - 12 pm
DESCRIPTION:
URL:https://www.kerrpto.org/event/early-dismissal-11/
CATEGORIES:district info
ATTACH;FMTTYPE=image/jpeg:https://www.kerrpto.org/wp-content/uploads/2021/07/early-dismissal.jpg
END:VEVENT
BEGIN:VEVENT
DTSTART;VALUE=DATE:20211011
DTEND;VALUE=DATE:20211016
DTSTAMP:20260425T133248
CREATED:20210922T201139Z
LAST-MODIFIED:20210922T201139Z
UID:2729-1633910400-1634342399@www.kerrpto.org
SUMMARY:Scholastic Book Fair Week
DESCRIPTION:All students will receive a free book courtesy of the KerrPTO!
URL:https://www.kerrpto.org/event/scholastic-book-fair-week/
CATEGORIES:fundraiser
ATTACH;FMTTYPE=image/jpeg:https://www.kerrpto.org/wp-content/uploads/2018/08/book-fair.jpg
END:VEVENT
BEGIN:VEVENT
DTSTART;TZID=UTC:20211008T190000
DTEND;TZID=UTC:20211008T200000
DTSTAMP:20260425T133248
CREATED:20210921T231856Z
LAST-MODIFIED:20210921T231856Z
UID:2725-1633719600-1633723200@www.kerrpto.org
SUMMARY:Spooky Drawings Virtual Event
DESCRIPTION:
URL:https://www.kerrpto.org/event/spooky-drawings-virtual-event/
CATEGORIES:family fun
ATTACH;FMTTYPE=image/jpeg:https://www.kerrpto.org/wp-content/uploads/2021/09/ghost.jpg
END:VEVENT
BEGIN:VEVENT
DTSTART;TZID=UTC:20211006T143000
DTEND;TZID=UTC:20211006T190000
DTSTAMP:20260425T133248
CREATED:20210915T184842Z
LAST-MODIFIED:20210915T184842Z
UID:2714-1633530600-1633546800@www.kerrpto.org
SUMMARY:Zoup! Dine and Donate
DESCRIPTION:
URL:https://www.kerrpto.org/event/zoup-dine-and-donate/
LOCATION:Zoup!\, 1137 Freeport Road\, Pittsburgh\, PA\, 15238
CATEGORIES:dine & donate,fundraiser
ATTACH;FMTTYPE=image/jpeg:https://www.kerrpto.org/wp-content/uploads/2021/09/ZoupLogo_webready.jpg
END:VEVENT
BEGIN:VEVENT
DTSTART;TZID=UTC:20211005T181500
DTEND;TZID=UTC:20211005T181500
DTSTAMP:20260425T133248
CREATED:20210714T201730Z
LAST-MODIFIED:20210921T231617Z
UID:2478-1633457700-1633457700@www.kerrpto.org
SUMMARY:PTO Meeting
DESCRIPTION:
URL:https://www.kerrpto.org/event/pto-meeting-23/
LOCATION:Kerr Elementary Maker Space
CATEGORIES:General Meeting
ATTACH;FMTTYPE=image/jpeg:https://www.kerrpto.org/wp-content/uploads/2017/08/PTO-Meeting-Reminder-Image.jpg
END:VEVENT
END:VCALENDAR