BEGIN:VCALENDAR
VERSION:2.0
PRODID:-//Kerr PTO - ECPv6.15.20//NONSGML v1.0//EN
CALSCALE:GREGORIAN
METHOD:PUBLISH
X-WR-CALNAME:Kerr PTO
X-ORIGINAL-URL:https://www.kerrpto.org
X-WR-CALDESC:Events for Kerr PTO
REFRESH-INTERVAL;VALUE=DURATION:PT1H
X-Robots-Tag:noindex
X-PUBLISHED-TTL:PT1H
BEGIN:VTIMEZONE
TZID:UTC
BEGIN:STANDARD
TZOFFSETFROM:+0000
TZOFFSETTO:+0000
TZNAME:UTC
DTSTART:20190101T000000
END:STANDARD
END:VTIMEZONE
BEGIN:VEVENT
DTSTART;TZID=UTC:20210823T163000
DTEND;TZID=UTC:20210823T173000
DTSTAMP:20260425T135322
CREATED:20210715T164559Z
LAST-MODIFIED:20210715T164632Z
UID:2594-1629736200-1629739800@www.kerrpto.org
SUMMARY:3rd Grade Meet and Greet
DESCRIPTION:
URL:https://www.kerrpto.org/event/3rd-grade-meet-and-greet/
CATEGORIES:Informational Event
ATTACH;FMTTYPE=image/jpeg:https://www.kerrpto.org/wp-content/uploads/2021/07/3rd-grade.jpg
END:VEVENT
BEGIN:VEVENT
DTSTART;TZID=UTC:20210823T140000
DTEND;TZID=UTC:20210823T150000
DTSTAMP:20260425T135322
CREATED:20210715T163800Z
LAST-MODIFIED:20210715T163800Z
UID:2580-1629727200-1629730800@www.kerrpto.org
SUMMARY:PreK Meet and Greet
DESCRIPTION:
URL:https://www.kerrpto.org/event/prek-meet-and-greet/
CATEGORIES:Informational Event
ATTACH;FMTTYPE=image/jpeg:https://www.kerrpto.org/wp-content/uploads/2021/07/large_91bc8377-20b0-4433-bfca-26bde44e6752.jpg
END:VEVENT
BEGIN:VEVENT
DTSTART;TZID=UTC:20210823T130000
DTEND;TZID=UTC:20210823T140000
DTSTAMP:20260425T135322
CREATED:20210715T164036Z
LAST-MODIFIED:20210715T164036Z
UID:2585-1629723600-1629727200@www.kerrpto.org
SUMMARY:Kindergarten Meet and Greet
DESCRIPTION:
URL:https://www.kerrpto.org/event/kindergarten-meet-and-greet/
CATEGORIES:Informational Event
ATTACH;FMTTYPE=image/jpeg:https://www.kerrpto.org/wp-content/uploads/2021/07/Kindergarten-Heading.jpg
END:VEVENT
BEGIN:VEVENT
DTSTART;TZID=UTC:20210604T120000
DTEND;TZID=UTC:20210604T170000
DTSTAMP:20260425T135322
CREATED:20210322T023636Z
LAST-MODIFIED:20210322T023636Z
UID:2388-1622808000-1622826000@www.kerrpto.org
SUMMARY:Last Day of School and Early Dismissal!
DESCRIPTION:
URL:https://www.kerrpto.org/event/last-day-of-school-and-early-dismissal/
CATEGORIES:district info
END:VEVENT
BEGIN:VEVENT
DTSTART;TZID=UTC:20210603T080000
DTEND;TZID=UTC:20210603T170000
DTSTAMP:20260425T135322
CREATED:20210322T023746Z
LAST-MODIFIED:20210322T023746Z
UID:2390-1622707200-1622739600@www.kerrpto.org
SUMMARY:Summer Send Off!
DESCRIPTION:
URL:https://www.kerrpto.org/event/summer-send-off-3/
CATEGORIES:class party,enrichment
END:VEVENT
BEGIN:VEVENT
DTSTART;TZID=UTC:20210602T120000
DTEND;TZID=UTC:20210602T170000
DTSTAMP:20260425T135322
CREATED:20210322T023407Z
LAST-MODIFIED:20210322T023925Z
UID:2385-1622635200-1622653200@www.kerrpto.org
SUMMARY:Early Dismissal & Kennywood Day
DESCRIPTION:
URL:https://www.kerrpto.org/event/early-dismissal-10/
CATEGORIES:district info
END:VEVENT
BEGIN:VEVENT
DTSTART;TZID=UTC:20210531T080000
DTEND;TZID=UTC:20210531T170000
DTSTAMP:20260425T135322
CREATED:20210322T023246Z
LAST-MODIFIED:20210322T023246Z
UID:2383-1622448000-1622480400@www.kerrpto.org
SUMMARY:No School!
DESCRIPTION:
URL:https://www.kerrpto.org/event/no-school-17/
CATEGORIES:district info
END:VEVENT
BEGIN:VEVENT
DTSTART;TZID=UTC:20210518T181500
DTEND;TZID=UTC:20210518T200000
DTSTAMP:20260425T135322
CREATED:20200821T023611Z
LAST-MODIFIED:20200821T023611Z
UID:2076-1621361700-1621368000@www.kerrpto.org
SUMMARY:PTO Meeting
DESCRIPTION:Zoom link or location to be determined
URL:https://www.kerrpto.org/event/pto-meeting-22/
CATEGORIES:General Meeting
ATTACH;FMTTYPE=image/jpeg:https://www.kerrpto.org/wp-content/uploads/2017/08/PTO-Meeting-Reminder-Image.jpg
END:VEVENT
BEGIN:VEVENT
DTSTART;TZID=UTC:20210512T160000
DTEND;TZID=UTC:20210512T200000
DTSTAMP:20260425T135322
CREATED:20210428T020308Z
LAST-MODIFIED:20210428T020308Z
UID:2434-1620835200-1620849600@www.kerrpto.org
SUMMARY:Dine & Donate
DESCRIPTION:Make dinner easy and support the Kerr PTO!  Order Chipotle.  Show this flyer and mention the Kerr PTO when you check out.
URL:https://www.kerrpto.org/event/dine-donate-6/
LOCATION:Chipotle at the Waterworks
CATEGORIES:dine & donate,fundraiser
END:VEVENT
BEGIN:VEVENT
DTSTART;TZID=UTC:20210416T183000
DTEND;TZID=UTC:20210416T200000
DTSTAMP:20260425T135322
CREATED:20210322T022557Z
LAST-MODIFIED:20210322T022557Z
UID:2381-1618597800-1618603200@www.kerrpto.org
SUMMARY:Pittsburgh Night Sky
DESCRIPTION:A night with the Allegheny Observatory learning about the Pittsburgh night sky
URL:https://www.kerrpto.org/event/pittsburgh-night-sky/
CATEGORIES:enrichment,family fun
END:VEVENT
BEGIN:VEVENT
DTSTART;TZID=UTC:20210414T181500
DTEND;TZID=UTC:20210414T200000
DTSTAMP:20260425T135322
CREATED:20200821T023418Z
LAST-MODIFIED:20200821T023418Z
UID:2074-1618424100-1618430400@www.kerrpto.org
SUMMARY:PTO Meeting
DESCRIPTION:Zoom link or location to be determined
URL:https://www.kerrpto.org/event/pto-meeting-21/
CATEGORIES:General Meeting
ATTACH;FMTTYPE=image/jpeg:https://www.kerrpto.org/wp-content/uploads/2017/08/PTO-Meeting-Reminder-Image.jpg
END:VEVENT
BEGIN:VEVENT
DTSTART;TZID=UTC:20210413T183000
DTEND;TZID=UTC:20210413T200000
DTSTAMP:20260425T135322
CREATED:20210322T022135Z
LAST-MODIFIED:20210322T022135Z
UID:2378-1618338600-1618344000@www.kerrpto.org
SUMMARY:Build a Fox!
DESCRIPTION:Build a Fox event!  If you signed up to participate\, an email with the link to the meet will be sent to you.
URL:https://www.kerrpto.org/event/build-a-fox/
CATEGORIES:enrichment,family fun
END:VEVENT
BEGIN:VEVENT
DTSTART;TZID=UTC:20210329T080000
DTEND;TZID=UTC:20210402T170000
DTSTAMP:20260425T135322
CREATED:20210322T021616Z
LAST-MODIFIED:20210322T021616Z
UID:2376-1617004800-1617382800@www.kerrpto.org
SUMMARY:Spring Break!
DESCRIPTION:Enjoy the week off!  See you back at school on Monday\, April 5th.
URL:https://www.kerrpto.org/event/spring-break-2/
CATEGORIES:district info
END:VEVENT
BEGIN:VEVENT
DTSTART;TZID=UTC:20210326T120000
DTEND;TZID=UTC:20210326T170000
DTSTAMP:20260425T135322
CREATED:20210322T021411Z
LAST-MODIFIED:20210322T021411Z
UID:2374-1616760000-1616778000@www.kerrpto.org
SUMMARY:Early Dismissal
DESCRIPTION:Noon Dismissal!
URL:https://www.kerrpto.org/event/early-dismissal-9/
CATEGORIES:district info
END:VEVENT
BEGIN:VEVENT
DTSTART;TZID=UTC:20210325T180000
DTEND;TZID=UTC:20210325T190000
DTSTAMP:20260425T135322
CREATED:20210322T021250Z
LAST-MODIFIED:20210322T021250Z
UID:2372-1616695200-1616698800@www.kerrpto.org
SUMMARY:BINGO!
DESCRIPTION:Virtual BINGO! \nKerrpto.org/BINGO
URL:https://www.kerrpto.org/event/bingo/
CATEGORIES:family fun
END:VEVENT
BEGIN:VEVENT
DTSTART;TZID=UTC:20210310T143000
DTEND;TZID=UTC:20210310T200000
DTSTAMP:20260425T135322
CREATED:20210210T023126Z
LAST-MODIFIED:20210210T023126Z
UID:2320-1615386600-1615406400@www.kerrpto.org
SUMMARY:Dine & Donate at Zoup!
DESCRIPTION:Takeout and delivery orders count.\nOrders can be placed through zoup.com and use secode ZOUPLOVE to give Kerr PTO credit.
URL:https://www.kerrpto.org/event/dine-donate-at-zoup/
LOCATION:Zoup!\, 1137 Freeport Road\, Pittsburgh\, PA\, 15238
CATEGORIES:dine & donate,fundraiser
END:VEVENT
BEGIN:VEVENT
DTSTART;TZID=UTC:20210215T080000
DTEND;TZID=UTC:20210215T170000
DTSTAMP:20260425T135322
CREATED:20210125T034153Z
LAST-MODIFIED:20210125T034241Z
UID:2267-1613376000-1613408400@www.kerrpto.org
SUMMARY:No School
DESCRIPTION:
URL:https://www.kerrpto.org/event/no-school-16/
CATEGORIES:district info
END:VEVENT
BEGIN:VEVENT
DTSTART;TZID=UTC:20210212T080000
DTEND;TZID=UTC:20210212T170000
DTSTAMP:20260425T135322
CREATED:20210125T034108Z
LAST-MODIFIED:20210125T034108Z
UID:2265-1613116800-1613149200@www.kerrpto.org
SUMMARY:No School
DESCRIPTION:
URL:https://www.kerrpto.org/event/no-school-15/
CATEGORIES:district info
END:VEVENT
BEGIN:VEVENT
DTSTART;TZID=UTC:20210211T183000
DTEND;TZID=UTC:20210211T193000
DTSTAMP:20260425T135322
CREATED:20210210T023513Z
LAST-MODIFIED:20210210T023513Z
UID:2322-1613068200-1613071800@www.kerrpto.org
SUMMARY:"A Trip to Senegal"
DESCRIPTION:Performed by\nTHE SHONA SHARIF AFRICAN DANCE AND DRUM ENSEMBLE
URL:https://www.kerrpto.org/event/a-trip-to-senegal/
CATEGORIES:family fun
END:VEVENT
BEGIN:VEVENT
DTSTART;TZID=UTC:20210127T183000
DTEND;TZID=UTC:20210127T193000
DTSTAMP:20260425T135322
CREATED:20210108T035442Z
LAST-MODIFIED:20210108T035442Z
UID:2258-1611772200-1611775800@www.kerrpto.org
SUMMARY:Zoom Magic
DESCRIPTION:Learn a magic trick!
URL:https://www.kerrpto.org/event/zoom-magic/
CATEGORIES:family fun
END:VEVENT
BEGIN:VEVENT
DTSTART;TZID=UTC:20210122T173000
DTEND;TZID=UTC:20210122T190000
DTSTAMP:20260425T135322
CREATED:20210107T052623Z
LAST-MODIFIED:20210107T052623Z
UID:2252-1611336600-1611342000@www.kerrpto.org
SUMMARY:Birds!
DESCRIPTION:Learn how to identify winter birds and make a pinecone bird feeder!
URL:https://www.kerrpto.org/event/birds/
END:VEVENT
BEGIN:VEVENT
DTSTART;TZID=UTC:20210119T080000
DTEND;TZID=UTC:20210119T170000
DTSTAMP:20260425T135322
CREATED:20210108T035315Z
LAST-MODIFIED:20210108T035315Z
UID:2256-1611043200-1611075600@www.kerrpto.org
SUMMARY:Martin Luther King Day - No School
DESCRIPTION:
URL:https://www.kerrpto.org/event/martin-luther-king-day-no-school/
CATEGORIES:district info
END:VEVENT
BEGIN:VEVENT
DTSTART;TZID=UTC:20210116T100000
DTEND;TZID=UTC:20210116T120000
DTSTAMP:20260425T135322
CREATED:20210107T052112Z
LAST-MODIFIED:20210107T052112Z
UID:2250-1610791200-1610798400@www.kerrpto.org
SUMMARY:Brunch!
DESCRIPTION:Join us for a brunch cook-a-long! \n 
URL:https://www.kerrpto.org/event/brunch/
CATEGORIES:family fun
END:VEVENT
BEGIN:VEVENT
DTSTART;TZID=UTC:20210115T080000
DTEND;TZID=UTC:20210115T170000
DTSTAMP:20260425T135322
CREATED:20210108T035232Z
LAST-MODIFIED:20210108T035232Z
UID:2254-1610697600-1610730000@www.kerrpto.org
SUMMARY:No School
DESCRIPTION:
URL:https://www.kerrpto.org/event/no-school-14/
CATEGORIES:district info
END:VEVENT
BEGIN:VEVENT
DTSTART;TZID=UTC:20210113T091500
DTEND;TZID=UTC:20210113T110000
DTSTAMP:20260425T135322
CREATED:20200821T023052Z
LAST-MODIFIED:20200821T023052Z
UID:2072-1610529300-1610535600@www.kerrpto.org
SUMMARY:PTO Meeting
DESCRIPTION:Zoom link or location to be determined
URL:https://www.kerrpto.org/event/pto-meeting-20/
CATEGORIES:General Meeting
END:VEVENT
BEGIN:VEVENT
DTSTART;TZID=UTC:20201203T160000
DTEND;TZID=UTC:20201203T200000
DTSTAMP:20260425T135322
CREATED:20201123T150630Z
LAST-MODIFIED:20201123T150915Z
UID:2224-1607011200-1607025600@www.kerrpto.org
SUMMARY:Dine & Donate
DESCRIPTION:Make dinner easy tonight and support the Kerr PTO!  Show the flyer in the restaurant or use the promo code from the flyer for online orders.
URL:https://www.kerrpto.org/event/dine-donate-5/
LOCATION:Panera in Waterworks
CATEGORIES:dine & donate,fundraiser
END:VEVENT
BEGIN:VEVENT
DTSTART;TZID=UTC:20201126T080000
DTEND;TZID=UTC:20201130T170000
DTSTAMP:20260425T135322
CREATED:20201024T163213Z
LAST-MODIFIED:20201024T163213Z
UID:2164-1606377600-1606755600@www.kerrpto.org
SUMMARY:Thanksgiving Break!
DESCRIPTION:See you Tuesday\, December 1!  Have a great break!
URL:https://www.kerrpto.org/event/thanksgiving-break-3/
CATEGORIES:district info
ATTACH;FMTTYPE=image/png:https://www.kerrpto.org/wp-content/uploads/2018/08/IMG_3197.png
END:VEVENT
BEGIN:VEVENT
DTSTART;TZID=UTC:20201125T120000
DTEND;TZID=UTC:20201125T170000
DTSTAMP:20260425T135322
CREATED:20201024T163050Z
LAST-MODIFIED:20201024T163050Z
UID:2162-1606305600-1606323600@www.kerrpto.org
SUMMARY:Early Dismissal
DESCRIPTION:Start of Thanksgiving Break!  Noon Dismissal.
URL:https://www.kerrpto.org/event/early-dismissal-8/
CATEGORIES:district info
ATTACH;FMTTYPE=image/png:https://www.kerrpto.org/wp-content/uploads/2018/08/IMG_3196.png
END:VEVENT
BEGIN:VEVENT
DTSTART;TZID=UTC:20201111T110000
DTEND;TZID=UTC:20201111T193000
DTSTAMP:20260425T135322
CREATED:20201024T161241Z
LAST-MODIFIED:20201024T161241Z
UID:2152-1605092400-1605123000@www.kerrpto.org
SUMMARY:Dine & Donate
DESCRIPTION:Dine & Donate at Panda Express!  Present this flyer at Panda Express or enter the promo code on the flyer for online orders. \n \n 
URL:https://www.kerrpto.org/event/dine-donate-4/
LOCATION:Panda Express\, 1028 Freeport Rd\, Pittsburgh\, PA\, 15238\, United States
CATEGORIES:dine & donate,fundraiser
ATTACH;FMTTYPE=image/png:https://www.kerrpto.org/wp-content/uploads/2018/01/panda-express.png
END:VEVENT
BEGIN:VEVENT
DTSTART;TZID=UTC:20201110T080000
DTEND;TZID=UTC:20201110T170000
DTSTAMP:20260425T135322
CREATED:20201024T154431Z
LAST-MODIFIED:20201024T160747Z
UID:2148-1604995200-1605027600@www.kerrpto.org
SUMMARY:Picture Day!
DESCRIPTION:Monday\, November 9th \n\nAll students beginning in Pre-K (Cohort 1) – Grade 5\n\nTuesday\, November 10th \n\nStudents in our Pre-K (Cohort 2) and Virtual Students\n\nVirtual Students are to arrive at the Kerr Elementary School Main Office between 9:00 – 11:00 AM for pictures.
URL:https://www.kerrpto.org/event/picture-day-3/
CATEGORIES:district info
ATTACH;FMTTYPE=image/png:https://www.kerrpto.org/wp-content/uploads/2019/08/Smiley_head_happy.png
END:VEVENT
END:VCALENDAR