BEGIN:VCALENDAR
VERSION:2.0
PRODID:-//Kerr PTO - ECPv6.15.20//NONSGML v1.0//EN
CALSCALE:GREGORIAN
METHOD:PUBLISH
X-WR-CALNAME:Kerr PTO
X-ORIGINAL-URL:https://www.kerrpto.org
X-WR-CALDESC:Events for Kerr PTO
REFRESH-INTERVAL;VALUE=DURATION:PT1H
X-Robots-Tag:noindex
X-PUBLISHED-TTL:PT1H
BEGIN:VTIMEZONE
TZID:UTC
BEGIN:STANDARD
TZOFFSETFROM:+0000
TZOFFSETTO:+0000
TZNAME:UTC
DTSTART:20180101T000000
END:STANDARD
END:VTIMEZONE
BEGIN:VEVENT
DTSTART;TZID=UTC:20191223T080000
DTEND;TZID=UTC:20200101T170000
DTSTAMP:20260425T144757
CREATED:20190812T213727Z
LAST-MODIFIED:20190812T213727Z
UID:1639-1577088000-1577898000@www.kerrpto.org
SUMMARY:Winter Break!
DESCRIPTION:Have a safe and happy break!  School starts again on Thursday\, January 2\, 2020!
URL:https://www.kerrpto.org/event/winter-break-2/
LOCATION:Kerr Elementary
CATEGORIES:district info
ATTACH;FMTTYPE=image/jpeg:https://www.kerrpto.org/wp-content/uploads/2017/08/Snowflake.jpg
END:VEVENT
BEGIN:VEVENT
DTSTART;TZID=UTC:20191220T141500
DTEND;TZID=UTC:20191220T151500
DTSTAMP:20260425T144757
CREATED:20190811T182758Z
LAST-MODIFIED:20190812T231527Z
UID:1584-1576851300-1576854900@www.kerrpto.org
SUMMARY:Holiday Class Parties!
DESCRIPTION:
URL:https://www.kerrpto.org/event/holiday-class-parties-3/
LOCATION:Kerr Elementary
CATEGORIES:class party
ATTACH;FMTTYPE=image/jpeg:https://www.kerrpto.org/wp-content/uploads/2017/08/winter-class-party.jpg
END:VEVENT
BEGIN:VEVENT
DTSTART;TZID=UTC:20191204T160000
DTEND;TZID=UTC:20191204T200000
DTSTAMP:20260425T144757
CREATED:20190918T024431Z
LAST-MODIFIED:20190918T024934Z
UID:1775-1575475200-1575489600@www.kerrpto.org
SUMMARY:Chipotle Dine and Donate
DESCRIPTION:Looking for an easy and delicious way to support the Kerr PTO\, grab dinner from Chipotle from 4:00 pm – 8:00 pm.
URL:https://www.kerrpto.org/event/chipotle-dine-and-donate/
LOCATION:Chipotle at the Waterworks
CATEGORIES:dine & donate,fundraiser
ATTACH;FMTTYPE=image/png:https://www.kerrpto.org/wp-content/uploads/2017/08/Chipotle_Mexican_Grill_logo.svg_.png
END:VEVENT
BEGIN:VEVENT
DTSTART;VALUE=DATE:20191128
DTEND;VALUE=DATE:20191203
DTSTAMP:20260425T144757
CREATED:20190812T213118Z
LAST-MODIFIED:20190813T014928Z
UID:1637-1574899200-1575331199@www.kerrpto.org
SUMMARY:Thanksgiving Break!
DESCRIPTION:Enjoy the holiday break!  School starts again on Tuesday\, December 3rd. \n 
URL:https://www.kerrpto.org/event/thanksgiving-break-2/
LOCATION:Kerr Elementary
CATEGORIES:district info
ATTACH;FMTTYPE=image/png:https://www.kerrpto.org/wp-content/uploads/2017/08/Turkey-With-Brown-Hat-17674-large.png
END:VEVENT
BEGIN:VEVENT
DTSTART;VALUE=DATE:20191127
DTEND;VALUE=DATE:20191128
DTSTAMP:20260425T144757
CREATED:20190812T212910Z
LAST-MODIFIED:20190812T212910Z
UID:1635-1574812800-1574899199@www.kerrpto.org
SUMMARY:Early Dismissal
DESCRIPTION:Kerr will have a 12 noon dismissal.
URL:https://www.kerrpto.org/event/early-dismissal-4/
LOCATION:Kerr Elementary
CATEGORIES:district info
ATTACH;FMTTYPE=image/png:https://www.kerrpto.org/wp-content/uploads/2018/08/IMG_3196.png
END:VEVENT
BEGIN:VEVENT
DTSTART;TZID=UTC:20191111T080000
DTEND;TZID=UTC:20191115T170000
DTSTAMP:20260425T144757
CREATED:20190811T181240Z
LAST-MODIFIED:20190812T212648Z
UID:1580-1573459200-1573837200@www.kerrpto.org
SUMMARY:TAG Week!
DESCRIPTION:  \n/ \n 
URL:https://www.kerrpto.org/event/tag-week/
LOCATION:Kerr Elementary
CATEGORIES:enrichment
ATTACH;FMTTYPE=image/jpeg:https://www.kerrpto.org/wp-content/uploads/2017/08/TAG.jpg
END:VEVENT
BEGIN:VEVENT
DTSTART;TZID=UTC:20191106T091500
DTEND;TZID=UTC:20191106T110000
DTSTAMP:20260425T144757
CREATED:20190811T180942Z
LAST-MODIFIED:20190811T180942Z
UID:1578-1573031700-1573038000@www.kerrpto.org
SUMMARY:PTO Meeting
DESCRIPTION:This meeting will include a tour of the new building and demonstrations.
URL:https://www.kerrpto.org/event/pto-meeting-14/
LOCATION:Kerr Elementary
CATEGORIES:General Meeting
END:VEVENT
BEGIN:VEVENT
DTSTART;VALUE=DATE:20191105
DTEND;VALUE=DATE:20191106
DTSTAMP:20260425T144757
CREATED:20190812T212303Z
LAST-MODIFIED:20190812T212303Z
UID:1633-1572912000-1572998399@www.kerrpto.org
SUMMARY:No School
DESCRIPTION:Go Vote!
URL:https://www.kerrpto.org/event/no-school-10/
LOCATION:Kerr Elementary
CATEGORIES:district info
ATTACH;FMTTYPE=image/png:https://www.kerrpto.org/wp-content/uploads/2018/08/IMG_3197.png
END:VEVENT
BEGIN:VEVENT
DTSTART;VALUE=DATE:20191104
DTEND;VALUE=DATE:20191105
DTSTAMP:20260425T144757
CREATED:20190812T212044Z
LAST-MODIFIED:20190812T212044Z
UID:1631-1572825600-1572911999@www.kerrpto.org
SUMMARY:Early Dismissal
DESCRIPTION:Kerr will be dismissed at 12 noon. Parent/teacher conferences.
URL:https://www.kerrpto.org/event/early-dismissal-3/
LOCATION:Kerr Elementary
CATEGORIES:district info
ATTACH;FMTTYPE=image/png:https://www.kerrpto.org/wp-content/uploads/2018/08/IMG_3196.png
END:VEVENT
BEGIN:VEVENT
DTSTART;TZID=UTC:20191031T141500
DTEND;TZID=UTC:20191031T151500
DTSTAMP:20260425T144757
CREATED:20190811T181530Z
LAST-MODIFIED:20190812T205136Z
UID:1582-1572531300-1572534900@www.kerrpto.org
SUMMARY:Fall Class Parties
DESCRIPTION: 
URL:https://www.kerrpto.org/event/fall-class-parties-2/
LOCATION:Kerr Elementary
CATEGORIES:class party
ATTACH;FMTTYPE=image/jpeg:https://www.kerrpto.org/wp-content/uploads/2017/08/fall-class-party.jpg
END:VEVENT
BEGIN:VEVENT
DTSTART;TZID=UTC:20191025T163000
DTEND;TZID=UTC:20191025T183000
DTSTAMP:20260425T144757
CREATED:20190812T204357Z
LAST-MODIFIED:20191011T143356Z
UID:1627-1572021000-1572028200@www.kerrpto.org
SUMMARY:Kerrtoberfest & Early Dismissal
DESCRIPTION:Kerrtoberfest will be at Kennedy Park in Sharpsburg from 4:30 pm – 6:30 pm weather permitting. \nKerr will be dismissed at noon.
URL:https://www.kerrpto.org/event/kerrtoberfest-early-dismissal/
LOCATION:Kennedy Park in Sharpsburg\, N Canal St
CATEGORIES:district info,family fun
ATTACH;FMTTYPE=image/jpeg:https://www.kerrpto.org/wp-content/uploads/2019/08/kerrtober-flyer-2019.jpg
END:VEVENT
BEGIN:VEVENT
DTSTART;VALUE=DATE:20191018
DTEND;VALUE=DATE:20191019
DTSTAMP:20260425T144757
CREATED:20190812T204842Z
LAST-MODIFIED:20190907T051511Z
UID:1629-1571356800-1571443199@www.kerrpto.org
SUMMARY:Community Homecoming Carnival
DESCRIPTION:The Community Homecoming Carnival will be from 4:00 pm – 7:00 pm in the front lawn of the high school.
URL:https://www.kerrpto.org/event/kerr-early-dismissal-community-homecoming-carnival/
LOCATION:Fox Chapel High School\, 611 Field Club Road\, Pittsburgh\, PA\, 15238\, United States
CATEGORIES:district info
END:VEVENT
BEGIN:VEVENT
DTSTART;TZID=UTC:20191016T090000
DTEND;TZID=UTC:20191016T120000
DTSTAMP:20260425T144757
CREATED:20190812T201543Z
LAST-MODIFIED:20190812T201543Z
UID:1621-1571216400-1571227200@www.kerrpto.org
SUMMARY:Early Dismissal!
DESCRIPTION:Kerr will be dismissed at 12 noon.
URL:https://www.kerrpto.org/event/early-dismissal-2/
LOCATION:Kerr Elementary
CATEGORIES:district info
ATTACH;FMTTYPE=image/png:https://www.kerrpto.org/wp-content/uploads/2018/08/IMG_3196.png
END:VEVENT
BEGIN:VEVENT
DTSTART;TZID=UTC:20191014T083000
DTEND;TZID=UTC:20191018T153000
DTSTAMP:20260425T144757
CREATED:20190813T014840Z
LAST-MODIFIED:20190930T005516Z
UID:1680-1571041800-1571412600@www.kerrpto.org
SUMMARY:Book Sale!
DESCRIPTION:Book Sale will be October 11 and October 14 –  18 from 8:30 am – 3:30 pm.
URL:https://www.kerrpto.org/event/book-sale-2/
CATEGORIES:enrichment
ATTACH;FMTTYPE=image/jpeg:https://www.kerrpto.org/wp-content/uploads/2018/08/book-fair.jpg
END:VEVENT
BEGIN:VEVENT
DTSTART;TZID=UTC:20191011T083000
DTEND;TZID=UTC:20191011T153000
DTSTAMP:20260425T144757
CREATED:20190812T201204Z
LAST-MODIFIED:20190930T005414Z
UID:1619-1570782600-1570807800@www.kerrpto.org
SUMMARY:Book Sale!
DESCRIPTION:The Kerr Elementary Book Sale will be held October 11\, and October 14 – October 18.  It will run from 8:30 am – 3:30 pm at Kerr.
URL:https://www.kerrpto.org/event/book-sale/
LOCATION:Kerr Elementary
CATEGORIES:enrichment
ATTACH;FMTTYPE=image/jpeg:https://www.kerrpto.org/wp-content/uploads/2018/08/book-fair.jpg
END:VEVENT
BEGIN:VEVENT
DTSTART;VALUE=DATE:20191009
DTEND;VALUE=DATE:20191010
DTSTAMP:20260425T144757
CREATED:20190812T200545Z
LAST-MODIFIED:20190812T200545Z
UID:1617-1570579200-1570665599@www.kerrpto.org
SUMMARY:Fall Break
DESCRIPTION:
URL:https://www.kerrpto.org/event/fall-break-2/
CATEGORIES:district info
ATTACH;FMTTYPE=image/png:https://www.kerrpto.org/wp-content/uploads/2018/08/IMG_3197.png
END:VEVENT
BEGIN:VEVENT
DTSTART;TZID=UTC:20191008T160000
DTEND;TZID=UTC:20191008T200000
DTSTAMP:20260425T144757
CREATED:20190930T005246Z
LAST-MODIFIED:20190930T005246Z
UID:1789-1570550400-1570564800@www.kerrpto.org
SUMMARY:Dine and Donate!
DESCRIPTION:Plan to have dinner at Panera to support the Kerr PTO!
URL:https://www.kerrpto.org/event/dine-and-donate/
LOCATION:Panera in Waterworks
ATTACH;FMTTYPE=image/jpeg:https://www.kerrpto.org/wp-content/uploads/2019/09/unnamed-1.jpg
END:VEVENT
BEGIN:VEVENT
DTSTART;VALUE=DATE:20190930
DTEND;VALUE=DATE:20191001
DTSTAMP:20260425T144757
CREATED:20190812T200333Z
LAST-MODIFIED:20190812T200801Z
UID:1615-1569801600-1569887999@www.kerrpto.org
SUMMARY:Fall Break
DESCRIPTION:
URL:https://www.kerrpto.org/event/fall-break/
CATEGORIES:district info
ATTACH;FMTTYPE=image/png:https://www.kerrpto.org/wp-content/uploads/2018/08/IMG_3197.png
END:VEVENT
BEGIN:VEVENT
DTSTART;VALUE=DATE:20190923
DTEND;VALUE=DATE:20190924
DTSTAMP:20260425T144757
CREATED:20190812T200108Z
LAST-MODIFIED:20190812T200108Z
UID:1612-1569196800-1569283199@www.kerrpto.org
SUMMARY:Picture Day!
DESCRIPTION:Kerr Elementary picture day.  Practice your best smile!
URL:https://www.kerrpto.org/event/picture-day/
LOCATION:Kerr Elementary
CATEGORIES:district info
ATTACH;FMTTYPE=image/png:https://www.kerrpto.org/wp-content/uploads/2019/08/Smiley_head_happy.png
END:VEVENT
BEGIN:VEVENT
DTSTART;TZID=UTC:20190909T103000
DTEND;TZID=UTC:20190909T203000
DTSTAMP:20260425T144757
CREATED:20190825T034016Z
LAST-MODIFIED:20190825T034016Z
UID:1732-1568025000-1568061000@www.kerrpto.org
SUMMARY:Dine & Donate - Panda Express
DESCRIPTION:Need a quick dinner on a Monday?  No dishes and help the PTO by eating at Panda Express! \nIf you are ordering online\, make sure to enter the promo code 273109 so Kerr PTO gets credit.
URL:https://www.kerrpto.org/event/dine-donate-panda-express-3/
LOCATION:Panda Express\, 1028 Freeport Rd\, Pittsburgh\, PA\, 15238\, United States
ATTACH;FMTTYPE=image/png:https://www.kerrpto.org/wp-content/uploads/2018/01/panda-express.png
END:VEVENT
BEGIN:VEVENT
DTSTART;TZID=UTC:20190906T180000
DTEND;TZID=UTC:20190906T193000
DTSTAMP:20260425T144757
CREATED:20190811T180500Z
LAST-MODIFIED:20190816T054811Z
UID:1576-1567792800-1567798200@www.kerrpto.org
SUMMARY:Ice Cream Social
DESCRIPTION:  \n  \nCome meet other Kerr families and enjoy a sweet treat donated by Klavon’s! Sign up to help scoop!
URL:https://www.kerrpto.org/event/icecream2019/
LOCATION:Kerr Elementary
CATEGORIES:family fun
ATTACH;FMTTYPE=image/jpeg:https://www.kerrpto.org/wp-content/uploads/2017/08/klavon.jpg
END:VEVENT
BEGIN:VEVENT
DTSTART;VALUE=DATE:20190902
DTEND;VALUE=DATE:20190903
DTSTAMP:20260425T144757
CREATED:20190812T194927Z
LAST-MODIFIED:20190812T195102Z
UID:1610-1567382400-1567468799@www.kerrpto.org
SUMMARY:Labor Day!
DESCRIPTION:Enjoy the final weekend of “summer”!
URL:https://www.kerrpto.org/event/labor-day/
CATEGORIES:district info
ATTACH;FMTTYPE=image/png:https://www.kerrpto.org/wp-content/uploads/2018/08/IMG_3197.png
END:VEVENT
BEGIN:VEVENT
DTSTART;TZID=UTC:20190828T180000
DTEND;TZID=UTC:20190828T200000
DTSTAMP:20260425T144757
CREATED:20190811T180105Z
LAST-MODIFIED:20190812T194241Z
UID:1574-1567015200-1567022400@www.kerrpto.org
SUMMARY:Involvement Fair and First PTO meeting
DESCRIPTION:Come see what the PTO is all about and different opportunities to get involved!  The first PTO meeting of the year is immediately following the involvement fair.
URL:https://www.kerrpto.org/event/involvement-fair-and-first-pto-meeting/
LOCATION:Kerr Elementary
CATEGORIES:General Meeting,Informational Event
ATTACH;FMTTYPE=image/jpeg:https://www.kerrpto.org/wp-content/uploads/2017/08/Kerr-PTO-Involvement-Fair.jpg
END:VEVENT
BEGIN:VEVENT
DTSTART;VALUE=DATE:20190822
DTEND;VALUE=DATE:20190823
DTSTAMP:20260425T144757
CREATED:20190808T223726Z
LAST-MODIFIED:20190808T223726Z
UID:1552-1566432000-1566518399@www.kerrpto.org
SUMMARY:First Day of School!
DESCRIPTION:
URL:https://www.kerrpto.org/event/first-day-of-school/
LOCATION:Kerr Elementary
CATEGORIES:district info
ATTACH;FMTTYPE=image/jpeg:https://www.kerrpto.org/wp-content/uploads/2019/08/First_day_of_School.jpg
END:VEVENT
BEGIN:VEVENT
DTSTART;TZID=UTC:20190622T170000
DTEND;TZID=UTC:20190622T200000
DTSTAMP:20260425T144757
CREATED:20190525T063453Z
LAST-MODIFIED:20190525T063453Z
UID:1525-1561222800-1561233600@www.kerrpto.org
SUMMARY:Kerr Chapel Gate Night
DESCRIPTION:A great welcome to summer and fun time to get together with your Kerr friends.  Chapel Gate generously donates all of the guest fees to the Kerr PTO!  Sign up to volunteer here.
URL:https://www.kerrpto.org/event/kerr-chapel-gate-night/
LOCATION:Chapel Gate Swim Club\, 19 Glen David Drive\, Pittsburgh\, PA\, 15238\, United States
CATEGORIES:family fun
ATTACH;FMTTYPE=image/jpeg:https://www.kerrpto.org/wp-content/uploads/2018/03/cartoon-girl-swimming-underwater-small.jpg
END:VEVENT
BEGIN:VEVENT
DTSTART;VALUE=DATE:20190611
DTEND;VALUE=DATE:20190612
DTSTAMP:20260425T144757
CREATED:20190521T181015Z
LAST-MODIFIED:20190521T181015Z
UID:1502-1560211200-1560297599@www.kerrpto.org
SUMMARY:Last Day of School
DESCRIPTION:Noon dismissal .  Have a great summer!
URL:https://www.kerrpto.org/event/last-day-of-school/
LOCATION:Kerr Elementary
CATEGORIES:district info
ATTACH;FMTTYPE=image/jpeg:https://www.kerrpto.org/wp-content/uploads/2019/05/suncartoon.jpg
END:VEVENT
BEGIN:VEVENT
DTSTART;VALUE=DATE:20190607
DTEND;VALUE=DATE:20190608
DTSTAMP:20260425T144757
CREATED:20180420T190504Z
LAST-MODIFIED:20190516T023559Z
UID:924-1559865600-1559951999@www.kerrpto.org
SUMMARY:Summer Send Off
DESCRIPTION:It’s an all day event full of memory making fun! \nWe need “all of the volunteers” for the day.  Find our sign up here. \nVolunteers do need their clearances with the district.
URL:https://www.kerrpto.org/event/summer-send-off/
LOCATION:Kerr Elementary
CATEGORIES:enrichment
ATTACH;FMTTYPE=image/jpeg:https://www.kerrpto.org/wp-content/uploads/2017/08/summer-send-off1.jpg
END:VEVENT
BEGIN:VEVENT
DTSTART;TZID=UTC:20190515T181500
DTEND;TZID=UTC:20190515T193000
DTSTAMP:20260425T144757
CREATED:20180420T190353Z
LAST-MODIFIED:20180420T190353Z
UID:922-1557944100-1557948600@www.kerrpto.org
SUMMARY:PTO Meeting
DESCRIPTION:
URL:https://www.kerrpto.org/event/pto-meeting-13/
LOCATION:Kerr–Upstairs Conference Room
CATEGORIES:General Meeting
ATTACH;FMTTYPE=image/jpeg:https://www.kerrpto.org/wp-content/uploads/2017/08/PTO-Meeting-Reminder-Image.jpg
END:VEVENT
BEGIN:VEVENT
DTSTART;VALUE=DATE:20190508
DTEND;VALUE=DATE:20190509
DTSTAMP:20260425T144757
CREATED:20190414T034542Z
LAST-MODIFIED:20190414T034542Z
UID:1478-1557273600-1557359999@www.kerrpto.org
SUMMARY:Spring Flowers Pick Up
DESCRIPTION:pick up at the MPR from 8:30-9:30 am or 3:30-5:30pm
URL:https://www.kerrpto.org/event/spring-flowers-pick-up/
LOCATION:Kerr–MultiPurpose Room (MPR)
CATEGORIES:fundraiser
ATTACH;FMTTYPE=image/jpeg:https://www.kerrpto.org/wp-content/uploads/2019/04/impatiens-mix.jpg
END:VEVENT
BEGIN:VEVENT
DTSTART;VALUE=DATE:20190506
DTEND;VALUE=DATE:20190511
DTSTAMP:20260425T144757
CREATED:20180420T185703Z
LAST-MODIFIED:20180420T185938Z
UID:920-1557100800-1557532799@www.kerrpto.org
SUMMARY:Traveling Art Gallery
DESCRIPTION:TAG is a program designed to teach Kerr students in kindergarten through fourth grade about great artists and their works through short classroom presentations and hands-on activities. We need parent volunteers to develop and give the presentations\, which take place three times throughout the year to each class in the grade. \nfind more info on our website https://www.kerrpto.org/tag/
URL:https://www.kerrpto.org/event/traveling-art-gallery-3/
LOCATION:Kerr Elementary
CATEGORIES:enrichment
ATTACH;FMTTYPE=image/jpeg:https://www.kerrpto.org/wp-content/uploads/2017/08/TAG.jpg
END:VEVENT
END:VCALENDAR