BEGIN:VCALENDAR
VERSION:2.0
PRODID:-//Kerr PTO - ECPv6.15.20//NONSGML v1.0//EN
CALSCALE:GREGORIAN
METHOD:PUBLISH
X-WR-CALNAME:Kerr PTO
X-ORIGINAL-URL:https://www.kerrpto.org
X-WR-CALDESC:Events for Kerr PTO
REFRESH-INTERVAL;VALUE=DURATION:PT1H
X-Robots-Tag:noindex
X-PUBLISHED-TTL:PT1H
BEGIN:VTIMEZONE
TZID:UTC
BEGIN:STANDARD
TZOFFSETFROM:+0000
TZOFFSETTO:+0000
TZNAME:UTC
DTSTART:20170101T000000
END:STANDARD
END:VTIMEZONE
BEGIN:VEVENT
DTSTART;TZID=UTC:20180623T170000
DTEND;TZID=UTC:20180623T200000
DTSTAMP:20260424T112437
CREATED:20180303T060017Z
LAST-MODIFIED:20180303T060017Z
UID:784-1529773200-1529784000@www.kerrpto.org
SUMMARY:Kerr Night at Chapel Gate
DESCRIPTION:Come spend a great evening with your Kerr friends and family as we have a Kerr Night at Chapel Gate Swim Club! \nGuest Fees are $3/person or $10/family and Chapel Gate will donate those fees to the Kerr PTO. Chapel Gate members can donate as well.  We will also have a bake sale table. \nWe need volunteers to bring bake sale items as well as working the sale table and entrance gate.  Sign up here. \nHope to see everyone come out to enjoy the pool\, playground\, tennis & basketball courts.
URL:https://www.kerrpto.org/event/kerr-night-at-chapel-gate/
LOCATION:Chapel Gate Swim Club\, 19 Glen David Drive\, Pittsburgh\, PA\, 15238\, United States
CATEGORIES:family fun,fundraiser
ATTACH;FMTTYPE=image/jpeg:https://www.kerrpto.org/wp-content/uploads/2018/03/cartoon-girl-swimming-underwater-small.jpg
END:VEVENT
BEGIN:VEVENT
DTSTART;TZID=UTC:20180608T080000
DTEND;TZID=UTC:20180608T120000
DTSTAMP:20260424T112437
CREATED:20170827T041203Z
LAST-MODIFIED:20170827T041203Z
UID:471-1528444800-1528459200@www.kerrpto.org
SUMMARY:Last Day of School\, Early Dismissal @12pm
DESCRIPTION:
URL:https://www.kerrpto.org/event/last-day-of-school-early-dismissal-12pm/
CATEGORIES:district info
END:VEVENT
BEGIN:VEVENT
DTSTART;TZID=UTC:20180607T090000
DTEND;TZID=UTC:20180607T153000
DTSTAMP:20260424T112437
CREATED:20170827T041046Z
LAST-MODIFIED:20180515T042138Z
UID:468-1528362000-1528385400@www.kerrpto.org
SUMMARY:Summer Send Off
DESCRIPTION:Our big end of the year bash!  Where fun is had and memories are made! \nIts a fun day to watch all of the kids have such a great time as they get ready to say goodbye for the summer!  We’d love to have you able to come and watch those smiles and help run the activities that day.  All of the volunteers need their clearances. \nfind the volunteer sign up here.
URL:https://www.kerrpto.org/event/summersendoff/
LOCATION:Kerr Elementary
CATEGORIES:enrichment
ATTACH;FMTTYPE=image/jpeg:https://www.kerrpto.org/wp-content/uploads/2017/08/summer-send-off1.jpg
END:VEVENT
BEGIN:VEVENT
DTSTART;TZID=UTC:20180531T110000
DTEND;TZID=UTC:20180531T110000
DTSTAMP:20260424T112437
CREATED:20170827T040541Z
LAST-MODIFIED:20170827T040541Z
UID:466-1527764400-1527764400@www.kerrpto.org
SUMMARY:Kindergarten ONLY Early Dismissal @11am
DESCRIPTION:
URL:https://www.kerrpto.org/event/kindergarten-only-early-dismissal-11am/
CATEGORIES:district info
END:VEVENT
BEGIN:VEVENT
DTSTART;TZID=UTC:20180530T080000
DTEND;TZID=UTC:20180530T170000
DTSTAMP:20260424T112437
CREATED:20170827T040042Z
LAST-MODIFIED:20170827T040042Z
UID:461-1527667200-1527699600@www.kerrpto.org
SUMMARY:Early Dismissal @12pm
DESCRIPTION:
URL:https://www.kerrpto.org/event/early-dismissal-12pm-3/
CATEGORIES:district info
END:VEVENT
BEGIN:VEVENT
DTSTART;VALUE=DATE:20180530
DTEND;VALUE=DATE:20180531
DTSTAMP:20260424T112437
CREATED:20170827T040319Z
LAST-MODIFIED:20170827T040319Z
UID:463-1527638400-1527724799@www.kerrpto.org
SUMMARY:Kennywood Picnic
DESCRIPTION:
URL:https://www.kerrpto.org/event/kennywood-picnic/
CATEGORIES:district info
ATTACH;FMTTYPE=image/png:https://www.kerrpto.org/wp-content/uploads/2017/08/Kennywood.png
END:VEVENT
BEGIN:VEVENT
DTSTART;VALUE=DATE:20180528
DTEND;VALUE=DATE:20180529
DTSTAMP:20260424T112437
CREATED:20170827T035923Z
LAST-MODIFIED:20170827T035923Z
UID:459-1527465600-1527551999@www.kerrpto.org
SUMMARY:No School
DESCRIPTION:
URL:https://www.kerrpto.org/event/no-school-7/
CATEGORIES:district info
END:VEVENT
BEGIN:VEVENT
DTSTART;TZID=UTC:20180523T183000
DTEND;TZID=UTC:20180523T193000
DTSTAMP:20260424T112437
CREATED:20180226T032957Z
LAST-MODIFIED:20180226T032957Z
UID:742-1527100200-1527103800@www.kerrpto.org
SUMMARY:PTO Meeting
DESCRIPTION:Open to all Kerr Families and staff! Held in the 2nd floor conference room at the top of the stairs.
URL:https://www.kerrpto.org/event/pto-meeting-8/
LOCATION:Kerr–Upstairs Conference Room
CATEGORIES:General Meeting
ATTACH;FMTTYPE=image/jpeg:https://www.kerrpto.org/wp-content/uploads/2017/08/PTO-Meeting-Reminder-Image.jpg
END:VEVENT
BEGIN:VEVENT
DTSTART;TZID=UTC:20180518T190000
DTEND;TZID=UTC:20180518T203000
DTSTAMP:20260424T112437
CREATED:20180214T144126Z
LAST-MODIFIED:20180426T032605Z
UID:737-1526670000-1526675400@www.kerrpto.org
SUMMARY:Ice Cream Social
DESCRIPTION:As the school year winds down\, come spend some time with Kerr friends while enjoying vanilla ice cream and sundae toppings! \nThe ice cream is generously sponsored by Klavon’s ! \nNew families with incoming kindergarteners (for 2018-19 school year) are also invited to join us. \nWe need help with set up\, scooping\, and clean up!  Find the sign up here–no clearances needed.
URL:https://www.kerrpto.org/event/ice-cream-social-2/
LOCATION:Kerr–MultiPurpose Room (MPR)
CATEGORIES:family fun
ATTACH;FMTTYPE=image/jpeg:https://www.kerrpto.org/wp-content/uploads/2017/08/klavon.jpg
END:VEVENT
BEGIN:VEVENT
DTSTART;TZID=UTC:20180501T170000
DTEND;TZID=UTC:20180501T210000
DTSTAMP:20260424T112437
CREATED:20170826T042236Z
LAST-MODIFIED:20180420T060928Z
UID:419-1525194000-1525208400@www.kerrpto.org
SUMMARY:Dine & Donate: Chipotle Night
DESCRIPTION:  \nLet Chipotle do your cooking for dinner and 50% of the proceeds go to the Kerr PTO! \nEat in or take out!  If you order online\, you must chose the PAY IN STORE option for the KPTO to benefit.  Just tell the cashier you are supporting the Kerr PTO–you can show them the flyer sent home (May_Chipotle_Flyer)\, an image of the flyer on your phone\, or just use your words–it all counts the same!
URL:https://www.kerrpto.org/event/chipotle-night-2/
LOCATION:Chipotle at the Waterworks
CATEGORIES:dine & donate,fundraiser
ATTACH;FMTTYPE=image/jpeg:https://www.kerrpto.org/wp-content/uploads/2017/08/dine-and-donate.jpg
END:VEVENT
BEGIN:VEVENT
DTSTART;TZID=UTC:20180416T183000
DTEND;TZID=UTC:20180416T183000
DTSTAMP:20260424T112437
CREATED:20180324T024441Z
LAST-MODIFIED:20180324T024441Z
UID:812-1523903400-1523903400@www.kerrpto.org
SUMMARY:District Safety Meeting
DESCRIPTION:SCHOOL DISTRICT TO HOLD SAFETY MEETING \nThe Fox Chapel Area School District is hosting a meeting to address school safety. The meeting will include information from administrators\, local police chiefs\, and the district’s school resource officers. Topics discussed will include the training the district utilizes and programs the district has in place to keep students safe.  \n\nThe meeting will be held Monday\, April 16\, 2018\, at 6:30 p.m. in the Fox Chapel Area High School large group instruction room. All parents and interested district residents are encouraged to attend. The high school is located at 611 Field Club Road in O’Hara Township.
URL:https://www.kerrpto.org/event/district-safety-meeting/
LOCATION:Fox Chapel High School\, 611 Field Club Road\, Pittsburgh\, PA\, 15238\, United States
CATEGORIES:district info
END:VEVENT
BEGIN:VEVENT
DTSTART;TZID=UTC:20180413T120000
DTEND;TZID=UTC:20180413T120000
DTSTAMP:20260424T112437
CREATED:20180410T011257Z
LAST-MODIFIED:20180410T020959Z
UID:829-1523620800-1523620800@www.kerrpto.org
SUMMARY:Early Dismissal--12pm
DESCRIPTION:
URL:https://www.kerrpto.org/event/early-dismissal-12pm-4/
CATEGORIES:district info
END:VEVENT
BEGIN:VEVENT
DTSTART;TZID=UTC:20180404T091500
DTEND;TZID=UTC:20180404T103000
DTSTAMP:20260424T112437
CREATED:20170826T041622Z
LAST-MODIFIED:20170826T041622Z
UID:417-1522833300-1522837800@www.kerrpto.org
SUMMARY:PTO Meeting
DESCRIPTION:Open to all Kerr Families and staff! Held in the 2nd floor conference room at the top of the stairs.
URL:https://www.kerrpto.org/event/pto-meeting-7/
CATEGORIES:General Meeting
ATTACH;FMTTYPE=image/jpeg:https://www.kerrpto.org/wp-content/uploads/2017/08/PTO-Meeting-Reminder-Image.jpg
END:VEVENT
BEGIN:VEVENT
DTSTART;VALUE=DATE:20180402
DTEND;VALUE=DATE:20180407
DTSTAMP:20260424T112437
CREATED:20180111T012253Z
LAST-MODIFIED:20180304T055718Z
UID:711-1522627200-1523059199@www.kerrpto.org
SUMMARY:Dine & Donate: Dunkin Donuts
DESCRIPTION:All week long! \nApril 2-6 at the location across from Shaler Plaza.  Hand in your dunkin donuts flyer 2018 for the PTO to get a portion of the proceeds! \nBe the office hero and bring in some treats to share!
URL:https://www.kerrpto.org/event/dine-donate-dunkin-donuts/
LOCATION:Dunkin Donuts\, 911 Butler St\, Pittsburgh\, PA\, 15223\, United States
CATEGORIES:dine & donate,fundraiser
ATTACH;FMTTYPE=image/jpeg:https://www.kerrpto.org/wp-content/uploads/2017/08/dine-and-donate.jpg
END:VEVENT
BEGIN:VEVENT
DTSTART;VALUE=DATE:20180326
DTEND;VALUE=DATE:20180331
DTSTAMP:20260424T112437
CREATED:20170827T035634Z
LAST-MODIFIED:20170827T035634Z
UID:456-1522022400-1522454399@www.kerrpto.org
SUMMARY:Spring Break--No School
DESCRIPTION:
URL:https://www.kerrpto.org/event/spring-break-no-school/
CATEGORIES:district info
ATTACH;FMTTYPE=image/png:https://www.kerrpto.org/wp-content/uploads/2017/08/flowers.png
END:VEVENT
BEGIN:VEVENT
DTSTART;TZID=UTC:20180323T120000
DTEND;TZID=UTC:20180323T120000
DTSTAMP:20260424T112437
CREATED:20170827T035358Z
LAST-MODIFIED:20170827T035358Z
UID:454-1521806400-1521806400@www.kerrpto.org
SUMMARY:Early Dismissal @12pm
DESCRIPTION:
URL:https://www.kerrpto.org/event/early-dismissal-12pm-2/
CATEGORIES:district info
END:VEVENT
BEGIN:VEVENT
DTSTART;VALUE=DATE:20180321
DTEND;VALUE=DATE:20180322
DTSTAMP:20260424T112437
CREATED:20170826T041234Z
LAST-MODIFIED:20170826T041234Z
UID:413-1521590400-1521676799@www.kerrpto.org
SUMMARY:Pittsburgh Popcorn Pick Up
DESCRIPTION:
URL:https://www.kerrpto.org/event/pittsburgh-popcorn-pick-up/
LOCATION:Kerr–MultiPurpose Room (MPR)
CATEGORIES:fundraiser
ATTACH;FMTTYPE=image/jpeg:https://www.kerrpto.org/wp-content/uploads/2017/08/pgh-popcorn-image.jpg
END:VEVENT
BEGIN:VEVENT
DTSTART;TZID=UTC:20180320T183000
DTEND;TZID=UTC:20180320T183000
DTSTAMP:20260424T112437
CREATED:20180303T033821Z
LAST-MODIFIED:20180303T033930Z
UID:781-1521570600-1521570600@www.kerrpto.org
SUMMARY:Public Meeting on the New Kerr Building
DESCRIPTION:The Fox Chapel Area School District administration is hosting a community meeting to discuss the upcoming construction of a new Kerr Elementary School. The meeting will be held Tuesday\, March 20\, 2018\, at 6:30 p.m. in the Kerr Elementary School multipurpose room. The meeting will include information from the district administration\, as well as presentations by the project architect\, Canzian/Johnston & Associates LLC\, and by a representative from Thomas & Williamson Project Management\, the construction managers. \nA new Kerr Elementary School is planned to be built on the current Kerr School property. Construction is slated to begin this spring\, with the project scheduled to be substantially completed in the fall of 2019. The district has held four community meetings on the project since April of 2017\, as well as an Act 34 Hearing. It is anticipated that this will be the final public information meeting prior to the beginning of construction. \nKerr Elementary School is located at 341 Kittanning Pike in O’Hara Township.
URL:https://www.kerrpto.org/event/public-meeting-on-the-new-kerr-building/
LOCATION:Kerr–MultiPurpose Room (MPR)
CATEGORIES:district info,Informational Event
ATTACH;FMTTYPE=image/jpeg:https://www.kerrpto.org/wp-content/uploads/2018/03/new-kerr.jpg
END:VEVENT
BEGIN:VEVENT
DTSTART;TZID=UTC:20180315T160000
DTEND;TZID=UTC:20180315T200000
DTSTAMP:20260424T112437
CREATED:20171025T173703Z
LAST-MODIFIED:20180301T040221Z
UID:624-1521129600-1521144000@www.kerrpto.org
SUMMARY:Dine & Donate: Panera
DESCRIPTION:Panera will give us a portion of their proceeds when you show this panera flyer either on your phone or the paper copy that was sent home. \nYou can also order online and do rapid pick up by typing “FUND” in the promo code area at checkout.
URL:https://www.kerrpto.org/event/panera/
LOCATION:Panera in Waterworks
CATEGORIES:dine & donate,fundraiser
ATTACH;FMTTYPE=image/jpeg:https://www.kerrpto.org/wp-content/uploads/2017/08/dine-and-donate.jpg
END:VEVENT
BEGIN:VEVENT
DTSTART;TZID=UTC:20180309T180000
DTEND;TZID=UTC:20180309T200000
DTSTAMP:20260424T112437
CREATED:20180118T043939Z
LAST-MODIFIED:20180228T234617Z
UID:715-1520618400-1520625600@www.kerrpto.org
SUMMARY:Movie Night: Coco
DESCRIPTION:Admission: Free \nMake sure you bring some money for refreshments. \n\npopcorn (25 cents a bag)\npizza ($1 a slice)\nwater ($1) or bring your own beverage\nbake sale items (prices vary)\norder a whole pizza for $11 (click here for form)\n\nFamilies of Kerr Elementary School ONLY and all children MUST be accompanied by an adult. \nStudents may bring a knapsack to lay on during the movie. Mats will be placed in the front of the MPR for this purpose.
URL:https://www.kerrpto.org/event/movie-night-coco/
LOCATION:Kerr–MultiPurpose Room (MPR)
CATEGORIES:family fun,fundraiser
ATTACH;FMTTYPE=image/png:https://www.kerrpto.org/wp-content/uploads/2018/01/Coco-2.png
END:VEVENT
BEGIN:VEVENT
DTSTART;TZID=UTC:20180307T183000
DTEND;TZID=UTC:20180307T193000
DTSTAMP:20260424T112437
CREATED:20170826T041451Z
LAST-MODIFIED:20170826T041451Z
UID:415-1520447400-1520451000@www.kerrpto.org
SUMMARY:PTO Meeting
DESCRIPTION:Open to all Kerr Families and staff! Held in the 2nd floor conference room at the top of the stairs.
URL:https://www.kerrpto.org/event/pto-meeting-6/
LOCATION:Kerr–Upstairs Conference Room
CATEGORIES:General Meeting
ATTACH;FMTTYPE=image/jpeg:https://www.kerrpto.org/wp-content/uploads/2017/08/PTO-Meeting-Reminder-Image.jpg
END:VEVENT
BEGIN:VEVENT
DTSTART;TZID=UTC:20180301T153000
DTEND;TZID=UTC:20180301T170000
DTSTAMP:20260424T112437
CREATED:20170827T025719Z
LAST-MODIFIED:20170827T025719Z
UID:442-1519918200-1519923600@www.kerrpto.org
SUMMARY:Math Pentathlon
DESCRIPTION:A non-competitive after school program where students play games that reinforce math concepts. The fun & educational 7-week program culminates in a game day where students complete against other Fox Chapel elementary school students at Dorseyville Middle School. Each student receives a t-shirt and a medal for participating. \nVolunteers are needed to assist leaders with taking attendance\, serving after-school snacks\, learning & practicing games\, and dismissing students at pickup. Parents may volunteer in two-week increments or for the duration of the program. Volunteers are also needed to help monitor mathletes on Game Day. The  2018 Math Pentathlon dates are Thursdays January 18th through March 1st with Game Day on Saturday morning March 3rd.
URL:https://www.kerrpto.org/event/math-pentathlon-7/
LOCATION:Kerr Elementary
CATEGORIES:enrichment
ATTACH;FMTTYPE=image/jpeg:https://www.kerrpto.org/wp-content/uploads/2017/08/math.jpg
END:VEVENT
BEGIN:VEVENT
DTSTART;TZID=UTC:20180222T153000
DTEND;TZID=UTC:20180222T170000
DTSTAMP:20260424T112437
CREATED:20170827T025555Z
LAST-MODIFIED:20170827T025555Z
UID:440-1519313400-1519318800@www.kerrpto.org
SUMMARY:Math Pentathlon
DESCRIPTION:A non-competitive after school program where students play games that reinforce math concepts. The fun & educational 7-week program culminates in a game day where students complete against other Fox Chapel elementary school students at Dorseyville Middle School. Each student receives a t-shirt and a medal for participating. \nVolunteers are needed to assist leaders with taking attendance\, serving after-school snacks\, learning & practicing games\, and dismissing students at pickup. Parents may volunteer in two-week increments or for the duration of the program. Volunteers are also needed to help monitor mathletes on Game Day. The  2018 Math Pentathlon dates are Thursdays January 18th through March 1st with Game Day on Saturday morning March 3rd.
URL:https://www.kerrpto.org/event/math-pentathlon-6/
LOCATION:Kerr Elementary
CATEGORIES:enrichment
ATTACH;FMTTYPE=image/jpeg:https://www.kerrpto.org/wp-content/uploads/2017/08/math.jpg
END:VEVENT
BEGIN:VEVENT
DTSTART;VALUE=DATE:20180220
DTEND;VALUE=DATE:20180303
DTSTAMP:20260424T112437
CREATED:20170826T041045Z
LAST-MODIFIED:20180213T214041Z
UID:409-1519084800-1520035199@www.kerrpto.org
SUMMARY:Pittsburgh Popcorn Sale
DESCRIPTION:Please return your order form and money (cash or check made out to the Kerr PTO) by March 2nd.  Place all in an envelope labeled “KerrPTO Popcorn Sale” and return it to school with your student to his/her homeroom teacher.  Order forms were sent home\, but if you need another one click here Pgh Popcorn 2018 order form \nPopcorn will be available for pick up on Wednesday\, March 21st from 3-5pm in the MPR (multipurpose room) at Kerr.  
URL:https://www.kerrpto.org/event/pittsburgh-popcorn-sale/
CATEGORIES:fundraiser
ATTACH;FMTTYPE=image/jpeg:https://www.kerrpto.org/wp-content/uploads/2017/08/pgh-popcorn-image.jpg
END:VEVENT
BEGIN:VEVENT
DTSTART;VALUE=DATE:20180219
DTEND;VALUE=DATE:20180220
DTSTAMP:20260424T112437
CREATED:20170827T035146Z
LAST-MODIFIED:20170827T035146Z
UID:452-1518998400-1519084799@www.kerrpto.org
SUMMARY:No School
DESCRIPTION:Happy President’s Day!
URL:https://www.kerrpto.org/event/no-school-6/
CATEGORIES:district info
END:VEVENT
BEGIN:VEVENT
DTSTART;VALUE=DATE:20180216
DTEND;VALUE=DATE:20180217
DTSTAMP:20260424T112437
CREATED:20170827T035043Z
LAST-MODIFIED:20170827T035043Z
UID:450-1518739200-1518825599@www.kerrpto.org
SUMMARY:No School
DESCRIPTION:
URL:https://www.kerrpto.org/event/no-school-5/
CATEGORIES:district info
END:VEVENT
BEGIN:VEVENT
DTSTART;TZID=UTC:20180215T120000
DTEND;TZID=UTC:20180215T120000
DTSTAMP:20260424T112437
CREATED:20170827T034904Z
LAST-MODIFIED:20170827T034904Z
UID:448-1518696000-1518696000@www.kerrpto.org
SUMMARY:Early Dismissal @12pm
DESCRIPTION:
URL:https://www.kerrpto.org/event/early-dismissal-12pm/
CATEGORIES:district info
END:VEVENT
BEGIN:VEVENT
DTSTART;TZID=UTC:20180214T141500
DTEND;TZID=UTC:20180214T153000
DTSTAMP:20260424T112437
CREATED:20170826T040426Z
LAST-MODIFIED:20180125T220208Z
UID:404-1518617700-1518622200@www.kerrpto.org
SUMMARY:Valentine's Class Party
DESCRIPTION:Parties are held in each classroom in the afternoon. Parties typically include a snack\, game/activity\, and a craft (to allow student creativity—class parties typically include an open ended craft rather than just ordering ‘ready made kits’.)  The class party committee organizes the parties for every class and each class party is run by parent volunteers.\nOn party day\, volunteers meet at the school to gather party supplies and instructions and then go to their designated classroom to run the party! Each class room has 2-3 volunteers. Volunteers must have their badge*.  Volunteer sign up here!
URL:https://www.kerrpto.org/event/valentines-class-party/
CATEGORIES:class party,enrichment
ATTACH;FMTTYPE=image/png:https://www.kerrpto.org/wp-content/uploads/2017/08/valentines-class-party.png
END:VEVENT
BEGIN:VEVENT
DTSTART;TZID=UTC:20180208T153000
DTEND;TZID=UTC:20180208T170000
DTSTAMP:20260424T112437
CREATED:20170827T025106Z
LAST-MODIFIED:20170827T025106Z
UID:436-1518103800-1518109200@www.kerrpto.org
SUMMARY:Math Pentathlon
DESCRIPTION:A non-competitive after school program where students play games that reinforce math concepts. The fun & educational 7-week program culminates in a game day where students complete against other Fox Chapel elementary school students at Dorseyville Middle School. Each student receives a t-shirt and a medal for participating. \nVolunteers are needed to assist leaders with taking attendance\, serving after-school snacks\, learning & practicing games\, and dismissing students at pickup. Parents may volunteer in two-week increments or for the duration of the program. Volunteers are also needed to help monitor mathletes on Game Day. The  2018 Math Pentathlon dates are Thursdays January 18th through March 1st with Game Day on Saturday morning March 3rd.
URL:https://www.kerrpto.org/event/math-pentathlon-4/
LOCATION:Kerr Elementary
CATEGORIES:enrichment
ATTACH;FMTTYPE=image/jpeg:https://www.kerrpto.org/wp-content/uploads/2017/08/math.jpg
END:VEVENT
BEGIN:VEVENT
DTSTART;TZID=UTC:20180207T160000
DTEND;TZID=UTC:20180207T210000
DTSTAMP:20260424T112437
CREATED:20180111T005807Z
LAST-MODIFIED:20180111T005807Z
UID:705-1518019200-1518037200@www.kerrpto.org
SUMMARY:Dine & Donate: Panda Express
DESCRIPTION:They are new to our area and we are excited to check them out with this fundraiser! \nGo between 4pm and 9pm and SHOW THEM THE EVENT FLYER either on your phone (find below) or the paper one sent home. \nIf ordering online enter promo code 237366 to support the PTO! \nHere’s the flyer 
URL:https://www.kerrpto.org/event/dine-donate-panda-express/
LOCATION:Panda Express\, 1028 Freeport Rd\, Pittsburgh\, PA\, 15238\, United States
CATEGORIES:dine & donate,fundraiser
ATTACH;FMTTYPE=image/jpeg:https://www.kerrpto.org/wp-content/uploads/2017/08/dine-and-donate.jpg
END:VEVENT
END:VCALENDAR