BEGIN:VCALENDAR
VERSION:2.0
PRODID:-//Kerr PTO - ECPv6.15.20//NONSGML v1.0//EN
CALSCALE:GREGORIAN
METHOD:PUBLISH
X-WR-CALNAME:Kerr PTO
X-ORIGINAL-URL:https://www.kerrpto.org
X-WR-CALDESC:Events for Kerr PTO
REFRESH-INTERVAL;VALUE=DURATION:PT1H
X-Robots-Tag:noindex
X-PUBLISHED-TTL:PT1H
BEGIN:VTIMEZONE
TZID:UTC
BEGIN:STANDARD
TZOFFSETFROM:+0000
TZOFFSETTO:+0000
TZNAME:UTC
DTSTART:20160101T000000
END:STANDARD
END:VTIMEZONE
BEGIN:VEVENT
DTSTART;TZID=UTC:20180208T153000
DTEND;TZID=UTC:20180208T170000
DTSTAMP:20260424T140413
CREATED:20170827T025106Z
LAST-MODIFIED:20170827T025106Z
UID:436-1518103800-1518109200@www.kerrpto.org
SUMMARY:Math Pentathlon
DESCRIPTION:A non-competitive after school program where students play games that reinforce math concepts. The fun & educational 7-week program culminates in a game day where students complete against other Fox Chapel elementary school students at Dorseyville Middle School. Each student receives a t-shirt and a medal for participating. \nVolunteers are needed to assist leaders with taking attendance\, serving after-school snacks\, learning & practicing games\, and dismissing students at pickup. Parents may volunteer in two-week increments or for the duration of the program. Volunteers are also needed to help monitor mathletes on Game Day. The  2018 Math Pentathlon dates are Thursdays January 18th through March 1st with Game Day on Saturday morning March 3rd.
URL:https://www.kerrpto.org/event/math-pentathlon-4/
LOCATION:Kerr Elementary
CATEGORIES:enrichment
ATTACH;FMTTYPE=image/jpeg:https://www.kerrpto.org/wp-content/uploads/2017/08/math.jpg
END:VEVENT
BEGIN:VEVENT
DTSTART;TZID=UTC:20180207T160000
DTEND;TZID=UTC:20180207T210000
DTSTAMP:20260424T140413
CREATED:20180111T005807Z
LAST-MODIFIED:20180111T005807Z
UID:705-1518019200-1518037200@www.kerrpto.org
SUMMARY:Dine & Donate: Panda Express
DESCRIPTION:They are new to our area and we are excited to check them out with this fundraiser! \nGo between 4pm and 9pm and SHOW THEM THE EVENT FLYER either on your phone (find below) or the paper one sent home. \nIf ordering online enter promo code 237366 to support the PTO! \nHere’s the flyer 
URL:https://www.kerrpto.org/event/dine-donate-panda-express/
LOCATION:Panda Express\, 1028 Freeport Rd\, Pittsburgh\, PA\, 15238\, United States
CATEGORIES:dine & donate,fundraiser
ATTACH;FMTTYPE=image/jpeg:https://www.kerrpto.org/wp-content/uploads/2017/08/dine-and-donate.jpg
END:VEVENT
BEGIN:VEVENT
DTSTART;TZID=UTC:20180207T091500
DTEND;TZID=UTC:20180207T103000
DTSTAMP:20260424T140413
CREATED:20170826T021956Z
LAST-MODIFIED:20170826T021956Z
UID:402-1517994900-1517999400@www.kerrpto.org
SUMMARY:PTO Meeting
DESCRIPTION:Open to all Kerr Families and staff! Held in the 2nd floor conference room at the top of the stairs.
URL:https://www.kerrpto.org/event/pto-meeting-5/
LOCATION:Kerr–Upstairs Conference Room
CATEGORIES:General Meeting
ATTACH;FMTTYPE=image/jpeg:https://www.kerrpto.org/wp-content/uploads/2017/08/PTO-Meeting-Reminder-Image.jpg
END:VEVENT
BEGIN:VEVENT
DTSTART;VALUE=DATE:20180205
DTEND;VALUE=DATE:20180210
DTSTAMP:20260424T140413
CREATED:20171228T231626Z
LAST-MODIFIED:20171228T232459Z
UID:680-1517788800-1518220799@www.kerrpto.org
SUMMARY:Traveling Art Gallery (TAG)
DESCRIPTION:TAG is a program designed to teach Kerr students in kindergarten through fourth grade about great artists and their works through short classroom presentations and hands-on activities. We need parent volunteers to develop and give the presentations\, which take place three times throughout the year to each class in the grade. \nfind more info on our website https://www.kerrpto.org/tag/
URL:https://www.kerrpto.org/event/traveling-art-gallery-tag-2/
LOCATION:Kerr Elementary
CATEGORIES:enrichment
ATTACH;FMTTYPE=image/jpeg:https://www.kerrpto.org/wp-content/uploads/2017/08/TAG.jpg
END:VEVENT
BEGIN:VEVENT
DTSTART;TZID=UTC:20180201T153000
DTEND;TZID=UTC:20180201T170000
DTSTAMP:20260424T140413
CREATED:20170827T024951Z
LAST-MODIFIED:20170827T024951Z
UID:434-1517499000-1517504400@www.kerrpto.org
SUMMARY:Math Pentathlon
DESCRIPTION:A non-competitive after school program where students play games that reinforce math concepts. The fun & educational 7-week program culminates in a game day where students complete against other Fox Chapel elementary school students at Dorseyville Middle School. Each student receives a t-shirt and a medal for participating. \nVolunteers are needed to assist leaders with taking attendance\, serving after-school snacks\, learning & practicing games\, and dismissing students at pickup. Parents may volunteer in two-week increments or for the duration of the program. Volunteers are also needed to help monitor mathletes on Game Day. The  2018 Math Pentathlon dates are Thursdays January 18th through March 1st with Game Day on Saturday morning March 3rd.
URL:https://www.kerrpto.org/event/math-pentathlon-3/
LOCATION:Kerr Elementary
CATEGORIES:enrichment
ATTACH;FMTTYPE=image/jpeg:https://www.kerrpto.org/wp-content/uploads/2017/08/math.jpg
END:VEVENT
BEGIN:VEVENT
DTSTART;TZID=UTC:20180125T153000
DTEND;TZID=UTC:20180125T170000
DTSTAMP:20260424T140413
CREATED:20170827T024719Z
LAST-MODIFIED:20170827T024719Z
UID:432-1516894200-1516899600@www.kerrpto.org
SUMMARY:Math Pentathlon
DESCRIPTION:A non-competitive after school program where students play games that reinforce math concepts. The fun & educational 7-week program culminates in a game day where students complete against other Fox Chapel elementary school students at Dorseyville Middle School. Each student receives a t-shirt and a medal for participating. \nVolunteers are needed to assist leaders with taking attendance\, serving after-school snacks\, learning & practicing games\, and dismissing students at pickup. Parents may volunteer in two-week increments or for the duration of the program. Volunteers are also needed to help monitor mathletes on Game Day. The  2018 Math Pentathlon dates are Thursdays January 18th through March 1st with Game Day on Saturday morning March 3rd.
URL:https://www.kerrpto.org/event/math-pentathlon-2/
LOCATION:Kerr Elementary
CATEGORIES:enrichment
ATTACH;FMTTYPE=image/jpeg:https://www.kerrpto.org/wp-content/uploads/2017/08/math.jpg
END:VEVENT
BEGIN:VEVENT
DTSTART;TZID=UTC:20180122T153000
DTEND;TZID=UTC:20180219T170000
DTSTAMP:20260424T140413
CREATED:20180102T213030Z
LAST-MODIFIED:20180103T060145Z
UID:693-1516635000-1519059600@www.kerrpto.org
SUMMARY:ASK
DESCRIPTION:After School @Kerr 3:30-5pm \nKerr Elementary PTO is offering an after-school enrichment program sponsored by the Kerr PTO. This year’s program offers a variety of classes to interest all age groups.\nClasses are offered one day a week for 5 weeks beginning January 22nd and ending February 19th from 3:30 to 5pm.  Find this year’s info here \nMonday Classes: 1/22\, 1/29\, 2/5\, 2/12\, 2/26 \nTuesday Classes: 1/23\, 1/30\, 2/5\, 2/13\, 2/2o \nWednesday: 1/24\, 1/31\, 2/7\, 2/14\, 2/21 \nFriday: 1/26\, 2/2\, 2/9\, 2/23\, 3/2
URL:https://www.kerrpto.org/event/ask/
LOCATION:Kerr Elementary
CATEGORIES:enrichment
ATTACH;FMTTYPE=image/png:https://www.kerrpto.org/wp-content/uploads/2018/01/ASK.png
END:VEVENT
BEGIN:VEVENT
DTSTART;VALUE=DATE:20180122
DTEND;VALUE=DATE:20180127
DTSTAMP:20260424T140413
CREATED:20171120T043753Z
LAST-MODIFIED:20171120T055159Z
UID:665-1516579200-1517011199@www.kerrpto.org
SUMMARY:Used Book Sale
DESCRIPTION:All week long in the MPR!  Each class will have the opportunity to go shopping at the Used Book Sale.  Books are only a quarter each!  Students who had donated books during the collection period will have a credit for a book per 4 donated.
URL:https://www.kerrpto.org/event/used-book-sale/
LOCATION:Kerr–MultiPurpose Room (MPR)
CATEGORIES:enrichment,fundraiser
ATTACH;FMTTYPE=image/png:https://www.kerrpto.org/wp-content/uploads/2017/08/books.png
END:VEVENT
BEGIN:VEVENT
DTSTART;VALUE=DATE:20180119
DTEND;VALUE=DATE:20180120
DTSTAMP:20260424T140413
CREATED:20170827T034707Z
LAST-MODIFIED:20170827T034707Z
UID:446-1516320000-1516406399@www.kerrpto.org
SUMMARY:No School
DESCRIPTION:
URL:https://www.kerrpto.org/event/no-school-4/
CATEGORIES:district info
END:VEVENT
BEGIN:VEVENT
DTSTART;VALUE=DATE:20180119
DTEND;VALUE=DATE:20180120
DTSTAMP:20260424T140413
CREATED:20170826T020121Z
LAST-MODIFIED:20180101T185411Z
UID:397-1516320000-1516406399@www.kerrpto.org
SUMMARY:Wildwood Highlands
DESCRIPTION:For all attractions and food purchased at the register\, be sure to let them know you are there to support Kerr and a portion of the proceeds will go to the Kerr PTO! Find our flyer for the event Wildwood Highlands Jan 2018
URL:https://www.kerrpto.org/event/wildwood/
LOCATION:Wildwood Highlands\, 2330 Wildwood Rd\, Wildwood\, PA\, 15091\, United States
CATEGORIES:family fun,fundraiser
ATTACH;FMTTYPE=image/gif:https://www.kerrpto.org/wp-content/uploads/2017/08/wildwood.gif
END:VEVENT
BEGIN:VEVENT
DTSTART;TZID=UTC:20180118T153000
DTEND;TZID=UTC:20180118T170000
DTSTAMP:20260424T140413
CREATED:20170827T024520Z
LAST-MODIFIED:20170827T024520Z
UID:429-1516289400-1516294800@www.kerrpto.org
SUMMARY:Math Pentathlon
DESCRIPTION:A non-competitive after school program where students play games that reinforce math concepts. The fun & educational 7-week program culminates in a game day where students complete against other Fox Chapel elementary school students at Dorseyville Middle School. Each student receives a t-shirt and a medal for participating. \nVolunteers are needed to assist leaders with taking attendance\, serving after-school snacks\, learning & practicing games\, and dismissing students at pickup. Parents may volunteer in two-week increments or for the duration of the program. Volunteers are also needed to help monitor mathletes on Game Day. The  2018 Math Pentathlon dates are Thursdays January 18th through March 1st with Game Day on Saturday morning March 3rd. \n  \n  \n 
URL:https://www.kerrpto.org/event/math-pentathlon/
LOCATION:Kerr Elementary
CATEGORIES:enrichment
ATTACH;FMTTYPE=image/jpeg:https://www.kerrpto.org/wp-content/uploads/2017/08/math.jpg
END:VEVENT
BEGIN:VEVENT
DTSTART;VALUE=DATE:20180115
DTEND;VALUE=DATE:20180116
DTSTAMP:20260424T140413
CREATED:20170827T034611Z
LAST-MODIFIED:20170827T034611Z
UID:444-1515974400-1516060799@www.kerrpto.org
SUMMARY:No School
DESCRIPTION:
URL:https://www.kerrpto.org/event/no-school-3/
CATEGORIES:district info
END:VEVENT
BEGIN:VEVENT
DTSTART;TZID=UTC:20180108T080000
DTEND;TZID=UTC:20180118T160000
DTSTAMP:20260424T140413
CREATED:20170826T015429Z
LAST-MODIFIED:20170827T022535Z
UID:394-1515398400-1516291200@www.kerrpto.org
SUMMARY:Used Book Collection--for the Used Book Sale
DESCRIPTION:Have books that you’ve read that are too easy now?  Need to make room for new books? \nDonate gently used books to the Kerr Used Book Sale! \nFor every 4 books donated\, your child will receive a free book from the Used Book Sale.  At the Used Book Sale\, books will only cost a quarter! \nThis is a great way to refresh your book library at home in an affordable way.  Kerr PTO is thrilled that this program allows all children to have engaging\, age-appropriate books at home!
URL:https://www.kerrpto.org/event/used-book-collection/
CATEGORIES:enrichment,fundraiser
ATTACH;FMTTYPE=image/png:https://www.kerrpto.org/wp-content/uploads/2017/08/books.png
END:VEVENT
BEGIN:VEVENT
DTSTART;TZID=UTC:20180103T183000
DTEND;TZID=UTC:20180103T193000
DTSTAMP:20260424T140413
CREATED:20170826T011504Z
LAST-MODIFIED:20170826T011713Z
UID:391-1515004200-1515007800@www.kerrpto.org
SUMMARY:PTO Meeting
DESCRIPTION:Open to all Kerr Families and staff! Held in the 2nd floor conference room at the top of the stairs.
URL:https://www.kerrpto.org/event/pto-meeting-4/
LOCATION:Kerr–Upstairs Conference Room
CATEGORIES:General Meeting
ATTACH;FMTTYPE=image/jpeg:https://www.kerrpto.org/wp-content/uploads/2017/08/PTO-Meeting-Reminder-Image.jpg
END:VEVENT
BEGIN:VEVENT
DTSTART;VALUE=DATE:20171225
DTEND;VALUE=DATE:20180102
DTSTAMP:20260424T140413
CREATED:20170820T032738Z
LAST-MODIFIED:20170820T032738Z
UID:311-1514160000-1514851199@www.kerrpto.org
SUMMARY:Winter Break
DESCRIPTION:Have a great break!
URL:https://www.kerrpto.org/event/winter-break/
CATEGORIES:district info
ATTACH;FMTTYPE=image/jpeg:https://www.kerrpto.org/wp-content/uploads/2017/08/Snowflake.jpg
END:VEVENT
BEGIN:VEVENT
DTSTART;TZID=UTC:20171222T130000
DTEND;TZID=UTC:20171222T153000
DTSTAMP:20260424T140413
CREATED:20170820T015923Z
LAST-MODIFIED:20170820T015923Z
UID:275-1513947600-1513956600@www.kerrpto.org
SUMMARY:Holiday Class Parties
DESCRIPTION:Parties are held in each classroom in the afternoon. Parties typically include a snack\, game/activity\, and a craft (to allow student creativity—class parties typically include an open ended craft rather than just ordering ‘ready made kits’.)  The class party committee organizes the parties for every class and each class party is run by parent volunteers.\nOn party day\, volunteers meet at the school to gather party supplies and instructions and then go to their designated classroom to run the party! Each class room has 2-3 volunteers. Volunteers must have their badge*.  There will be a sign up genius link to sign up volunteers.
URL:https://www.kerrpto.org/event/holiday-class-parties/
CATEGORIES:class party,enrichment
ATTACH;FMTTYPE=image/jpeg:https://www.kerrpto.org/wp-content/uploads/2017/08/winter-class-party.jpg
END:VEVENT
BEGIN:VEVENT
DTSTART;TZID=UTC:20171207T170000
DTEND;TZID=UTC:20171207T200000
DTSTAMP:20260424T140413
CREATED:20170927T031738Z
LAST-MODIFIED:20170927T031738Z
UID:571-1512666000-1512676800@www.kerrpto.org
SUMMARY:Dine & Donate: Five Guys
DESCRIPTION:Dinner is easy tonight! Head out to Five Guys from 5-8pm and grab dinner\, show this flyer (also sent home Five Guys Kerr PTO Night 12-7-17) or just mention that you are there to support Kerr and Five Guys will donate up to 25% of their proceeds to the PTO!
URL:https://www.kerrpto.org/event/dine-donate-five-guys/
LOCATION:Five Guys in Waterworks\, 1029 Freeport Road\, Pittsburgh\, PA\, 15215
CATEGORIES:dine & donate,fundraiser
ATTACH;FMTTYPE=image/jpeg:https://www.kerrpto.org/wp-content/uploads/2017/08/dine-and-donate.jpg
END:VEVENT
BEGIN:VEVENT
DTSTART;TZID=UTC:20171206T183000
DTEND;TZID=UTC:20171206T193000
DTSTAMP:20260424T140413
CREATED:20170820T014345Z
LAST-MODIFIED:20170820T020014Z
UID:271-1512585000-1512588600@www.kerrpto.org
SUMMARY:PTO Meeting
DESCRIPTION:Open to all Kerr Families and staff! Held in the 2nd floor conference room at the top of the stairs.
URL:https://www.kerrpto.org/event/pto-meeting-3/
LOCATION:Kerr–Upstairs Conference Room
CATEGORIES:General Meeting
ATTACH;FMTTYPE=image/jpeg:https://www.kerrpto.org/wp-content/uploads/2017/08/PTO-Meeting-Reminder-Image.jpg
END:VEVENT
BEGIN:VEVENT
DTSTART;VALUE=DATE:20171123
DTEND;VALUE=DATE:20171128
DTSTAMP:20260424T140413
CREATED:20170820T032022Z
LAST-MODIFIED:20170820T032022Z
UID:308-1511395200-1511827199@www.kerrpto.org
SUMMARY:Thanksgiving Break
DESCRIPTION:Happy Thanksgiving!
URL:https://www.kerrpto.org/event/thanksgiving-break/
CATEGORIES:district info
ATTACH;FMTTYPE=image/png:https://www.kerrpto.org/wp-content/uploads/2017/08/Turkey-With-Brown-Hat-17674-large.png
END:VEVENT
BEGIN:VEVENT
DTSTART;TZID=UTC:20171122T120000
DTEND;TZID=UTC:20171122T120000
DTSTAMP:20260424T140413
CREATED:20170820T031045Z
LAST-MODIFIED:20170820T031605Z
UID:306-1511352000-1511352000@www.kerrpto.org
SUMMARY:Early Dismissal at 12pm
DESCRIPTION:
URL:https://www.kerrpto.org/event/early-dismissal-at-12pm/
CATEGORIES:district info
END:VEVENT
BEGIN:VEVENT
DTSTART;VALUE=DATE:20171114
DTEND;VALUE=DATE:20171115
DTSTAMP:20260424T140413
CREATED:20170926T045322Z
LAST-MODIFIED:20170926T045322Z
UID:566-1510617600-1510703999@www.kerrpto.org
SUMMARY:Dine & Donate: Gators Grill
DESCRIPTION:Simply mention that you are dining to support Kerr Elementary School and Gators Grille will donate up to 20% of your purchase to the Kerr PTO. Take-out applies as well!  This deal is good all day on November 8th and 14th. \n  \nhttp://gators-grille.com/
URL:https://www.kerrpto.org/event/dine-donate-gators-grill/
LOCATION:Gators Grille\, 3410 Saxonburg Blvd\, Glenshaw\, PA\, 15116\, United States
CATEGORIES:dine & donate,fundraiser
ATTACH;FMTTYPE=image/jpeg:https://www.kerrpto.org/wp-content/uploads/2017/08/dine-and-donate.jpg
END:VEVENT
BEGIN:VEVENT
DTSTART;VALUE=DATE:20171113
DTEND;VALUE=DATE:20171118
DTSTAMP:20260424T140413
CREATED:20170820T014018Z
LAST-MODIFIED:20170820T020103Z
UID:266-1510531200-1510963199@www.kerrpto.org
SUMMARY:Traveling Art Gallery (TAG)
DESCRIPTION:Get students excited about art by visiting classes and giving brief presentations on artists and their work. Volunteers choose one artists and present to one grade (three classrooms) throughout the year. All preparation materials are provided. Presentations last about 20 minutes. Volunteers must have their badge.
URL:https://www.kerrpto.org/event/traveling-art-gallery-tag/
CATEGORIES:enrichment
ATTACH;FMTTYPE=image/jpeg:https://www.kerrpto.org/wp-content/uploads/2017/08/TAG.jpg
END:VEVENT
BEGIN:VEVENT
DTSTART;TZID=UTC:20171110T180000
DTEND;TZID=UTC:20171110T210000
DTSTAMP:20260424T140413
CREATED:20170819T233108Z
LAST-MODIFIED:20171102T000811Z
UID:242-1510336800-1510347600@www.kerrpto.org
SUMMARY:Vendor Blender
DESCRIPTION:Check out the facebook event page to keep up on all the info! \nWe have over 50 vendors this year and a food truck! Lots of unique gift items to get some of your shopping done for the holidays. Be sure to check out our basket raffle while you are there! \nWe need volunteers to make this event a success.  Sign up for a 30 minute shift before/after you shop! \n  \n  \n 
URL:https://www.kerrpto.org/event/vendor-blender/
CATEGORIES:fundraiser
ATTACH;FMTTYPE=image/jpeg:https://www.kerrpto.org/wp-content/uploads/2017/08/vendor-blender.jpg
END:VEVENT
BEGIN:VEVENT
DTSTART;VALUE=DATE:20171108
DTEND;VALUE=DATE:20171109
DTSTAMP:20260424T140413
CREATED:20170926T045001Z
LAST-MODIFIED:20170926T045429Z
UID:562-1510099200-1510185599@www.kerrpto.org
SUMMARY:Dine & Donate: Gators Grille
DESCRIPTION:Simply mention that you are dining to support Kerr Elementary School and Gators Grille will donate up to 20% of your purchase to the Kerr PTO. Take-out applies as well!  This deal is good all day on November 8th and 14th. \n  \nhttp://gators-grille.com/
URL:https://www.kerrpto.org/event/gators-grille/
LOCATION:Gators Grille\, 3410 Saxonburg Blvd\, Glenshaw\, PA\, 15116\, United States
CATEGORIES:dine & donate,fundraiser
ATTACH;FMTTYPE=image/jpeg:https://www.kerrpto.org/wp-content/uploads/2017/08/dine-and-donate.jpg
END:VEVENT
BEGIN:VEVENT
DTSTART;VALUE=DATE:20171107
DTEND;VALUE=DATE:20171108
DTSTAMP:20260424T140413
CREATED:20171027T042029Z
LAST-MODIFIED:20171027T042029Z
UID:642-1510012800-1510099199@www.kerrpto.org
SUMMARY:No School
DESCRIPTION:
URL:https://www.kerrpto.org/event/no-school-8/
CATEGORIES:district info
END:VEVENT
BEGIN:VEVENT
DTSTART;TZID=UTC:20171106T120000
DTEND;TZID=UTC:20171106T120000
DTSTAMP:20260424T140413
CREATED:20171027T041837Z
LAST-MODIFIED:20171027T041837Z
UID:640-1509969600-1509969600@www.kerrpto.org
SUMMARY:Early Dismissal at 12pm
DESCRIPTION:
URL:https://www.kerrpto.org/event/early-dismissal-at-12pm-3/
CATEGORIES:district info
END:VEVENT
BEGIN:VEVENT
DTSTART;TZID=UTC:20171103T120000
DTEND;TZID=UTC:20171103T120000
DTSTAMP:20260424T140413
CREATED:20171027T041651Z
LAST-MODIFIED:20171027T041651Z
UID:638-1509710400-1509710400@www.kerrpto.org
SUMMARY:Early Dismissal at 12pm
DESCRIPTION:
URL:https://www.kerrpto.org/event/early-dismissal-at-12pm-2/
CATEGORIES:district info
END:VEVENT
BEGIN:VEVENT
DTSTART;TZID=UTC:20171101T091500
DTEND;TZID=UTC:20171101T101500
DTSTAMP:20260424T140413
CREATED:20170819T230913Z
LAST-MODIFIED:20170820T020240Z
UID:236-1509527700-1509531300@www.kerrpto.org
SUMMARY:Morning PTO Meeting
DESCRIPTION:Open to all Kerr Families and staff! Held in the 2nd floor conference room at the top of the stairs
URL:https://www.kerrpto.org/event/morning-pto-meeting/
CATEGORIES:General Meeting
ATTACH;FMTTYPE=image/jpeg:https://www.kerrpto.org/wp-content/uploads/2017/08/PTO-Meeting-Reminder-Image.jpg
END:VEVENT
BEGIN:VEVENT
DTSTART;VALUE=DATE:20171101
DTEND;VALUE=DATE:20171117
DTSTAMP:20260424T140413
CREATED:20170819T231845Z
LAST-MODIFIED:20171105T060018Z
UID:239-1509494400-1510876799@www.kerrpto.org
SUMMARY:Poinsettia Fundraiser
DESCRIPTION:The order form will be sent home with your student. \nOrders are due by Thursday\, Nov. 16 Pick up is Friday\, Dec 1st in the MPR 8:30-10:30am or 3:30-6:00pm\nFor questions\, contact Kelly Cannon 412.334.2932 or kellycannon1@gmail.com \n2017 Greenery Sale –if you lost your form or want to send it out to others.
URL:https://www.kerrpto.org/event/poinsettia-fundraiser/
CATEGORIES:fundraiser
ATTACH;FMTTYPE=image/jpeg:https://www.kerrpto.org/wp-content/uploads/2017/08/poinsettia.jpg
END:VEVENT
BEGIN:VEVENT
DTSTART;TZID=UTC:20171031T141500
DTEND;TZID=UTC:20171031T153000
DTSTAMP:20260424T140413
CREATED:20170819T213705Z
LAST-MODIFIED:20171003T024545Z
UID:233-1509459300-1509463800@www.kerrpto.org
SUMMARY:PTO Fall Classroom Parties
DESCRIPTION:  \nParties are held in each classroom at the end of the school day. Parties typically include a snack\, game/activity\, and a craft (to allow student creativity—class parties typically include an open ended craft rather than just ordering ‘ready made kits’.)  The class party committee organizes the parties for every class and each class party is run by parent volunteers. \n  \nOn party day\, volunteers meet at the school to gather party supplies and instructions and then go to their designated classroom to run the party! Each class room has 2-3 volunteers. Volunteers must have their badge*.  Volunteers can sign up here. \n 
URL:https://www.kerrpto.org/event/pto-fall-classroom-parties/
LOCATION:Kerr Elementary
CATEGORIES:class party,enrichment
ATTACH;FMTTYPE=image/jpeg:https://www.kerrpto.org/wp-content/uploads/2017/08/fall-class-party.jpg
END:VEVENT
END:VCALENDAR