BEGIN:VCALENDAR
VERSION:2.0
PRODID:-//Kerr PTO - ECPv6.15.20//NONSGML v1.0//EN
CALSCALE:GREGORIAN
METHOD:PUBLISH
X-WR-CALNAME:Kerr PTO
X-ORIGINAL-URL:https://www.kerrpto.org
X-WR-CALDESC:Events for Kerr PTO
REFRESH-INTERVAL;VALUE=DURATION:PT1H
X-Robots-Tag:noindex
X-PUBLISHED-TTL:PT1H
BEGIN:VTIMEZONE
TZID:UTC
BEGIN:STANDARD
TZOFFSETFROM:+0000
TZOFFSETTO:+0000
TZNAME:UTC
DTSTART:20160101T000000
END:STANDARD
END:VTIMEZONE
BEGIN:VEVENT
DTSTART;TZID=UTC:20170824T190000
DTEND;TZID=UTC:20170824T200000
DTSTAMP:20260424T003700
CREATED:20170824T173830Z
LAST-MODIFIED:20170824T173830Z
UID:388-1503601200-1503604800@www.kerrpto.org
SUMMARY:Kerr Elementary Construction Meeting #3
DESCRIPTION:
URL:https://www.kerrpto.org/event/kerr-elementary-construction-meeting-3/
LOCATION:Kerr–MultiPurpose Room (MPR)
CATEGORIES:district info
END:VEVENT
END:VCALENDAR