BEGIN:VCALENDAR
VERSION:2.0
PRODID:-//Kerr PTO - ECPv6.15.20//NONSGML v1.0//EN
CALSCALE:GREGORIAN
METHOD:PUBLISH
X-ORIGINAL-URL:https://www.kerrpto.org
X-WR-CALDESC:Events for Kerr PTO
REFRESH-INTERVAL;VALUE=DURATION:PT1H
X-Robots-Tag:noindex
X-PUBLISHED-TTL:PT1H
BEGIN:VTIMEZONE
TZID:UTC
BEGIN:STANDARD
TZOFFSETFROM:+0000
TZOFFSETTO:+0000
TZNAME:UTC
DTSTART:20220101T000000
END:STANDARD
END:VTIMEZONE
BEGIN:VEVENT
DTSTART;VALUE=DATE:20230601
DTEND;VALUE=DATE:20230602
DTSTAMP:20260426T030730
CREATED:20220823T011647Z
LAST-MODIFIED:20220823T011647Z
UID:3088-1685577600-1685663999@www.kerrpto.org
SUMMARY:Summer Send Off
DESCRIPTION:
URL:https://www.kerrpto.org/event/summer-send-off-5/
ATTACH;FMTTYPE=image/jpeg:https://www.kerrpto.org/wp-content/uploads/2022/05/BEL_Summer_Send-off.jpg
END:VEVENT
BEGIN:VEVENT
DTSTART;VALUE=DATE:20230602
DTEND;VALUE=DATE:20230603
DTSTAMP:20260426T030730
CREATED:20220823T025035Z
LAST-MODIFIED:20220823T025035Z
UID:3129-1685664000-1685750399@www.kerrpto.org
SUMMARY:Early Dismissal - Last Day of School
DESCRIPTION:
URL:https://www.kerrpto.org/event/early-dismissal-last-day-of-school-2/
CATEGORIES:district info
ATTACH;FMTTYPE=image/jpeg:https://www.kerrpto.org/wp-content/uploads/2022/06/summer.jpg
END:VEVENT
END:VCALENDAR