BEGIN:VCALENDAR
VERSION:2.0
PRODID:-//Kerr PTO - ECPv6.15.20//NONSGML v1.0//EN
CALSCALE:GREGORIAN
METHOD:PUBLISH
X-ORIGINAL-URL:https://www.kerrpto.org
X-WR-CALDESC:Events for Kerr PTO
REFRESH-INTERVAL;VALUE=DURATION:PT1H
X-Robots-Tag:noindex
X-PUBLISHED-TTL:PT1H
BEGIN:VTIMEZONE
TZID:UTC
BEGIN:STANDARD
TZOFFSETFROM:+0000
TZOFFSETTO:+0000
TZNAME:UTC
DTSTART:20240101T000000
END:STANDARD
END:VTIMEZONE
BEGIN:VEVENT
DTSTART;TZID=UTC:20251028T160000
DTEND;TZID=UTC:20251028T200000
DTSTAMP:20260424T001828
CREATED:20251025T182543Z
LAST-MODIFIED:20251025T182543Z
UID:4214-1761667200-1761681600@www.kerrpto.org
SUMMARY:Chipotle Dine/Donate
DESCRIPTION:
URL:https://www.kerrpto.org/event/chipotle-dine-donate-2/
END:VEVENT
END:VCALENDAR